PDS_VERSION_ID = PDS3
/* FILE DATA ELEMENTS */
RECORD_TYPE = STREAM
/* POINTERS TO DATA OBJECTS */
^COMPRESSED_FILE = "HF860_0043_SR3.JP2"
/* IDENTIFICATION DATA ELEMENTS */
DATA_SET_ID = "MEX-M-HRSC-5-REFDR-MAPPROJECTED-V3.0"
DATA_SET_NAME = "MARS EXPRESS HRSC MAP PROJECTED REFDR V3.0"
DETECTOR_ID = MEX_HRSC_SRC
EVENT_TYPE = "MARS-LOCAL-CARTOGRAPHY-Pf-Tc"
INSTRUMENT_HOST_ID = MEX
INSTRUMENT_HOST_NAME = "MARS EXPRESS"
INSTRUMENT_ID = HRSC
INSTRUMENT_NAME = "HIGH RESOLUTION STEREO CAMERA"
MISSION_NAME = "MARS EXPRESS"
MISSION_PHASE_NAME = ME_Phase_35
PROCESSING_LEVEL_ID = 3
PRODUCT_CREATION_TIME = 2017-06-29T11:20:52.000Z
PRODUCT_ID = "HF860_0043_SR3.JP2"
RELEASE_ID = 0135
REVISION_ID = 0000
/* QUALITY DATA ELEMENTS */
DATA_QUALITY_ID = 1
DATA_QUALITY_DESC = "Data calculated based on original SPICE kernels"
/* TIME DATA ELEMENTS */
SPACECRAFT_CLOCK_START_COUNT = "1/0415973570.09060"
SPACECRAFT_CLOCK_STOP_COUNT = "1/0415973714.34304"
IMAGE_TIME = 2016-07-07T12:14:14.855Z
START_TIME = 2016-07-07T12:14:14.852Z
STOP_TIME = 2016-07-07T12:14:14.857Z
/* ORBITAL DATA ELEMENTS */
ASCENDING_NODE_LONGITUDE = 275.94
MAXIMUM_RESOLUTION = 3.671
FOOTPRINT_POINT_LATITUDE = (47.0295,47.0315,47.0338,47.0357, 47.0381,47.0407,47.043,47.0456,47.0479, 47.0512,47.0554,47.058,47.0615,47.0637, 47.0672,47.069,47.0712,47.0737,47.0769, 47.0795,47.0814,47.0843,47.0868,47.0889 ,47.0889,47.0889,47.0889,47.0889,47.089 ,47.089,47.089,47.089,47.089,47.089, 47.0891,47.0891,47.0891,47.0891,47.0891 ,47.0891,47.0891,47.0892,47.0892, 47.0892,47.0892,47.0892,47.0892,47.0893 ,47.0881,47.0859,47.0837,47.0804, 47.0761,47.0739,47.0721,47.0692,47.0667 ,47.0638,47.0621,47.0593,47.0567,47.055 ,47.0521,47.0494,47.0476,47.0449, 47.0428,47.0408,47.038,47.0358,47.0333, 47.0304,47.0285,47.0266,47.0265,47.0265 ,47.0265,47.0265,47.0265,47.0265, 47.0265,47.0265,47.0265,47.0265,47.0265 ,47.0264,47.0264,47.0264,47.0264, 47.0264,47.0264,47.0264,47.0264,47.0264 ,47.0264,47.0263,47.0263,47.0263, 47.0263,47.0295)
FOOTPRINT_POINT_LONGITUDE = (134.259,134.259,134.259,134.259, 134.259,134.259,134.259,134.259,134.259 ,134.259,134.259,134.259,134.259, 134.259,134.259,134.259,134.259,134.259 ,134.259,134.259,134.259,134.259, 134.259,134.26,134.263,134.267,134.271, 134.275,134.279,134.282,134.286,134.29, 134.294,134.297,134.301,134.305,134.309 ,134.313,134.316,134.32,134.324,134.328 ,134.332,134.335,134.339,134.343, 134.347,134.351,134.355,134.355,134.355 ,134.355,134.355,134.355,134.355, 134.355,134.355,134.355,134.355,134.355 ,134.355,134.355,134.355,134.355, 134.355,134.355,134.355,134.355,134.355 ,134.355,134.355,134.355,134.355, 134.355,134.352,134.348,134.344,134.34, 134.336,134.333,134.329,134.325,134.321 ,134.317,134.313,134.31,134.306,134.302 ,134.298,134.294,134.29,134.286,134.282 ,134.279,134.275,134.271,134.267, 134.263,134.26,134.259)
ORBIT_NUMBER = 15860
ORBITAL_ECCENTRICITY = 0.573
ORBITAL_INCLINATION = 86.94
ORBITAL_SEMIMAJOR_AXIS = 8797.4
PERIAPSIS_ALTITUDE = 376.04
PERIAPSIS_ARGUMENT_ANGLE = 125.61
PERIAPSIS_TIME = 2016-07-07T12:12:22.000Z
SPACECRAFT_ORIENTATION = (0.0,-1.0,0.0)
^MEX_ORIENTATION_DESC = "MEX_ORIENTATION_DESC.TXT"
SPACECRAFT_POINTING_MODE = ACROSSTRACK
^MEX_POINTING_DESC = "MEX_POINTING_DESC.TXT"
RIGHT_ASCENSION = -1e+32
DECLINATION = -1e+32
OFFSET_ANGLE = 1.61
SPACECRAFT_SOLAR_DISTANCE = 2.18799e+08
TARGET_NAME = MARS
/* CAMERA DATA ELEMENTS */
BUFFER_MODE_ID = DIRECT
EXPOSURE_DURATION = 5.04
INST_CMPRS_NAME = NONE
INST_CMPRS_RATIO = 1.0
INST_CMPRS_QUALITY = -2147483648
INST_CMPRS_QUANTZ_TBL_ID = -2147483648
INSTRUMENT_TEMPERATURE = 8.18182
MISSING_FRAMES = 0
START_BIT = 0
/* RADIOMETRIC DATA ELEMENTS */
BANDWIDTH = 250.0
CENTER_FILTER_WAVELENGTH = 600.0
RADIANCE_OFFSET = -9.99e+31
RADIANCE_SCALING_FACTOR = -9.99e+31
REFLECTANCE_SCALING_FACTOR = -9.99e+31
MEX:REFLECTANCE_OFFSET = -9.99e+31
/* IMAGE OBJECT DEFINITIONS */
OBJECT = IMAGE
  INTERCHANGE_FORMAT = BINARY
  LINES = 1573
  LINE_SAMPLES = 1657
  SAMPLE_TYPE = UNSIGNED_INTEGER
  SAMPLE_BITS = 8
  BANDS = 1
  BAND_STORAGE_TYPE = BAND_SEQUENTIAL
  MAXIMUM = 250
  MEAN = 143.058
  MINIMUM = 10
  STANDARD_DEVIATION = 19.2825
END_OBJECT = IMAGE
/* MAP OBJECT DEFINITIONS */
OBJECT = IMAGE_MAP_PROJECTION
  ^DATA_SET_MAP_PROJECTION_CATALOG= "DSMAP.CAT"
  A_AXIS_RADIUS = 3396.19
  B_AXIS_RADIUS = 3396.19
  C_AXIS_RADIUS = 3396.19
  CENTER_LATITUDE = 0.0
  CENTER_LONGITUDE = 134.0
  COORDINATE_SYSTEM_NAME = PLANETOGRAPHIC
  COORDINATE_SYSTEM_TYPE = "BODY-FIXED ROTATING"
  EASTERNMOST_LONGITUDE = 134.355
  FIRST_STANDARD_PARALLEL = "N/A"
  LINE_FIRST_PIXEL = 1
  LINE_LAST_PIXEL = 1573
  LINE_PROJECTION_OFFSET = 1115234.0
  MAP_PROJECTION_ROTATION = 0.0
  MAP_PROJECTION_TYPE = SINUSOIDAL
  MAP_RESOLUTION = 23709.8786048756
  MAP_SCALE = 0.0025
  MAXIMUM_LATITUDE = 47.0893
  MINIMUM_LATITUDE = 47.0263
  POSITIVE_LONGITUDE_DIRECTION = EAST
  REFERENCE_LATITUDE = "N/A"
  REFERENCE_LONGITUDE = "N/A"
  SAMPLE_FIRST_PIXEL = 1
  SAMPLE_LAST_PIXEL = 1657
  SAMPLE_PROJECTION_OFFSET = -5336.0
  SECOND_STANDARD_PARALLEL = "N/A"
  WESTERNMOST_LONGITUDE = 134.259
END_OBJECT = IMAGE_MAP_PROJECTION
/* The JPEG2000 image data file associated with this label. */
OBJECT = COMPRESSED_FILE
  FILE_NAME = "HF860_0043_SR3.JP2"
  RECORD_TYPE = UNDEFINED
  FILE_RECORDS = UNK
  ENCODING_TYPE = "JP2"
  INTERCHANGE_FORMAT = BINARY
  UNCOMPRESSED_FILE_NAME = "HF860_0043_SR3.IMG"
  REQUIRED_STORAGE_BYTES = "2626345"
  ^DESCRIPTION = "JP2INFO.TXT"
END_OBJECT = COMPRESSED_FILE
END
