PDS_VERSION_ID = PDS3
/* FILE DATA ELEMENTS */
RECORD_TYPE = STREAM
/* POINTERS TO DATA OBJECTS */
^COMPRESSED_FILE = "HF861_0000_S23.JP2"
/* IDENTIFICATION DATA ELEMENTS */
DATA_SET_ID = "MEX-M-HRSC-5-REFDR-MAPPROJECTED-V3.0"
DATA_SET_NAME = "MARS EXPRESS HRSC MAP PROJECTED REFDR V3.0"
DETECTOR_ID = MEX_HRSC_S2
EVENT_TYPE = "MARS-LOCAL-MAPPING-Im-Fl-Pf"
INSTRUMENT_HOST_ID = MEX
INSTRUMENT_HOST_NAME = "MARS EXPRESS"
INSTRUMENT_ID = HRSC
INSTRUMENT_NAME = "HIGH RESOLUTION STEREO CAMERA"
MISSION_NAME = "MARS EXPRESS"
MISSION_PHASE_NAME = ME_Phase_35
PROCESSING_LEVEL_ID = 3
PRODUCT_CREATION_TIME = 2017-06-29T11:20:52.000Z
PRODUCT_ID = "HF861_0000_S23.JP2"
RELEASE_ID = 0135
REVISION_ID = 0000
/* QUALITY DATA ELEMENTS */
DATA_QUALITY_ID = 1
DATA_QUALITY_DESC = "Data calculated based on original SPICE kernels"
/* TIME DATA ELEMENTS */
SPACECRAFT_CLOCK_START_COUNT = "1/0415998518.09056"
SPACECRAFT_CLOCK_STOP_COUNT = "1/0415998734.56503"
START_TIME = 2016-07-07T19:10:00.393Z
STOP_TIME = 2016-07-07T19:12:20.513Z
/* ORBITAL DATA ELEMENTS */
ASCENDING_NODE_LONGITUDE = 275.91
MAXIMUM_RESOLUTION = 32.4
FOOTPRINT_POINT_LATITUDE = (64.6488,64.6196,64.5979,64.5751, 64.5513,64.5265,64.5005,64.2615,64.08, 63.808,63.5359,63.2635,62.9916,62.8101, 62.6287,62.3567,62.0848,61.9034,61.7222 ,61.4505,61.2693,61.0882,60.9071, 60.6356,60.4547,60.1832,60.0022,59.731, 59.5502,59.2789,59.0982,58.9176,58.6469 ,58.4664,58.2858,58.1053,57.8347, 57.5641,57.3836,57.2034,57.0232,56.8434 ,56.5738,56.3939,56.1245,55.9449, 55.7654,55.5677,55.5914,55.6191,55.6359 ,55.6478,55.6577,55.7619,56.032,56.2123 ,56.3929,56.6638,56.8444,57.025,57.2058 ,57.3868,57.5676,57.7484,57.9295, 58.1105,58.2916,58.4729,58.654,58.8354, 59.0166,59.1982,59.3797,59.6521,59.8338 ,60.1063,60.2876,60.4698,60.6516, 60.8333,61.0156,61.1977,61.4707,61.653, 61.9264,62.1088,62.291,62.4735,62.6558, 62.9292,63.1115,63.2941,63.4767,63.6592 ,63.8417,64.0243,64.207,64.3894,64.5717 ,64.6488)
FOOTPRINT_POINT_LONGITUDE = (30.7058,29.9947,29.5062,29.0225, 28.5442,28.0701,27.6001,27.6552,27.6967 ,27.7576,27.8169,27.8746,27.9307, 27.9674,28.0033,28.0561,28.1075,28.141, 28.174,28.2223,28.2538,28.2848,28.3152, 28.3598,28.3889,28.4317,28.4596,28.5005 ,28.5272,28.5664,28.5919,28.617,28.6539 ,28.6779,28.7016,28.7248,28.7589, 28.7921,28.8138,28.8351,28.856,28.8766, 28.9067,28.9264,28.9553,28.9741,28.9926 ,29.1485,29.6054,30.1832,30.5577, 30.8408,31.0785,31.4187,31.4077,31.4004 ,31.3931,31.3819,31.3741,31.3662, 31.3583,31.3504,31.342,31.3335,31.3251, 31.3163,31.3075,31.2986,31.2893,31.2802 ,31.2706,31.2612,31.2515,31.2366, 31.2266,31.2111,31.2,31.1897,31.1787, 31.1673,31.1566,31.1452,31.1275,31.1158 ,31.0977,31.0855,31.0727,31.0601, 31.0469,31.0267,31.0129,30.9992,30.9852 ,30.9708,30.9562,30.9412,30.9262, 30.9105,30.8944,30.7058)
ORBIT_NUMBER = 15861
ORBITAL_ECCENTRICITY = 0.573
ORBITAL_INCLINATION = 86.94
ORBITAL_SEMIMAJOR_AXIS = 8796.44
PERIAPSIS_ALTITUDE = 376.15
PERIAPSIS_ARGUMENT_ANGLE = 125.44
PERIAPSIS_TIME = 2016-07-07T19:12:03.000Z
SPACECRAFT_ORIENTATION = (0.0,-1.0,0.0)
^MEX_ORIENTATION_DESC = "MEX_ORIENTATION_DESC.TXT"
SPACECRAFT_POINTING_MODE = ACROSSTRACK
^MEX_POINTING_DESC = "MEX_POINTING_DESC.TXT"
RIGHT_ASCENSION = -1e+32
DECLINATION = -1e+32
OFFSET_ANGLE = 0.7
SPACECRAFT_SOLAR_DISTANCE = 2.18746e+08
TARGET_NAME = MARS
/* CAMERA DATA ELEMENTS */
DETECTOR_TEMPERATURE = 18.9822
FOCAL_PLANE_TEMPERATURE = 8.7872
INST_CMPRS_NAME = "DISCRETE COSINE TRANSFORMATION (DCT)"
INST_CMPRS_RATIO = 13.2076
INST_CMPRS_QUALITY = 0
INST_CMPRS_QUANTZ_TBL_ID = 0
INSTRUMENT_TEMPERATURE = 11.4379
LENS_TEMPERATURE = 8.7872
MACROPIXEL_SIZE = 2
MISSING_FRAMES = 0
PIXEL_SUBSAMPLING_FLAG = N
SIGNAL_CHAIN_ID = 1
/* RADIOMETRIC DATA ELEMENTS */
BANDWIDTH = 178.0
CENTER_FILTER_WAVELENGTH = 679.0
RADIANCE_OFFSET = 3.2952
RADIANCE_SCALING_FACTOR = 0.00797676
REFLECTANCE_SCALING_FACTOR = 0.000202133
MEX:REFLECTANCE_OFFSET = 0.0835013
/* IMAGE OBJECT DEFINITIONS */
OBJECT = IMAGE
  INTERCHANGE_FORMAT = BINARY
  LINES = 21731
  LINE_SAMPLES = 4396
  SAMPLE_TYPE = UNSIGNED_INTEGER
  SAMPLE_BITS = 8
  BANDS = 1
  BAND_STORAGE_TYPE = BAND_SEQUENTIAL
  MAXIMUM = 255
  MEAN = 136.02
  MINIMUM = 1
  STANDARD_DEVIATION = 37.366
END_OBJECT = IMAGE
/* MAP OBJECT DEFINITIONS */
OBJECT = IMAGE_MAP_PROJECTION
  ^DATA_SET_MAP_PROJECTION_CATALOG= "DSMAP.CAT"
  A_AXIS_RADIUS = 3396.0
  B_AXIS_RADIUS = 3396.0
  C_AXIS_RADIUS = 3396.0
  CENTER_LATITUDE = 0.0
  CENTER_LONGITUDE = 30.0
  COORDINATE_SYSTEM_NAME = PLANETOGRAPHIC
  COORDINATE_SYSTEM_TYPE = "BODY-FIXED ROTATING"
  EASTERNMOST_LONGITUDE = 31.4187
  FIRST_STANDARD_PARALLEL = "N/A"
  LINE_FIRST_PIXEL = 1
  LINE_LAST_PIXEL = 21731
  LINE_PROJECTION_OFFSET = 153466.25
  MAP_PROJECTION_ROTATION = 0.0
  MAP_PROJECTION_TYPE = SINUSOIDAL
  MAP_RESOLUTION = 2370.85521546667
  MAP_SCALE = 0.025
  MAXIMUM_LATITUDE = 64.64879999999999
  MINIMUM_LATITUDE = 55.5677
  POSITIVE_LONGITUDE_DIRECTION = EAST
  REFERENCE_LATITUDE = "N/A"
  REFERENCE_LONGITUDE = "N/A"
  SAMPLE_FIRST_PIXEL = 1
  SAMPLE_LAST_PIXEL = 4396
  SAMPLE_PROJECTION_OFFSET = 2520.75
  SECOND_STANDARD_PARALLEL = "N/A"
  WESTERNMOST_LONGITUDE = 27.6001
END_OBJECT = IMAGE_MAP_PROJECTION
/* The JPEG2000 image data file associated with this label. */
OBJECT = COMPRESSED_FILE
  FILE_NAME = "HF861_0000_S23.JP2"
  RECORD_TYPE = UNDEFINED
  FILE_RECORDS = UNK
  ENCODING_TYPE = "JP2"
  INTERCHANGE_FORMAT = BINARY
  UNCOMPRESSED_FILE_NAME = "HF861_0000_S23.IMG"
  REQUIRED_STORAGE_BYTES = "95555852"
  ^DESCRIPTION = "JP2INFO.TXT"
END_OBJECT = COMPRESSED_FILE
END
