PDS_VERSION_ID = PDS3
/* FILE DATA ELEMENTS */
RECORD_TYPE = STREAM
/* POINTERS TO DATA OBJECTS */
^COMPRESSED_FILE = "HF862_0000_P13.JP2"
/* IDENTIFICATION DATA ELEMENTS */
DATA_SET_ID = "MEX-M-HRSC-5-REFDR-MAPPROJECTED-V3.0"
DATA_SET_NAME = "MARS EXPRESS HRSC MAP PROJECTED REFDR V3.0"
DETECTOR_ID = MEX_HRSC_P1
EVENT_TYPE = "MARS-REGIONAL-STEREO-Te"
INSTRUMENT_HOST_ID = MEX
INSTRUMENT_HOST_NAME = "MARS EXPRESS"
INSTRUMENT_ID = HRSC
INSTRUMENT_NAME = "HIGH RESOLUTION STEREO CAMERA"
MISSION_NAME = "MARS EXPRESS"
MISSION_PHASE_NAME = ME_Phase_35
PROCESSING_LEVEL_ID = 3
PRODUCT_CREATION_TIME = 2017-06-29T11:20:52.000Z
PRODUCT_ID = "HF862_0000_P13.JP2"
RELEASE_ID = 0135
REVISION_ID = 0000
/* QUALITY DATA ELEMENTS */
DATA_QUALITY_ID = 1
DATA_QUALITY_DESC = "Data calculated based on original SPICE kernels"
/* TIME DATA ELEMENTS */
SPACECRAFT_CLOCK_START_COUNT = "1/0416024011.08442"
SPACECRAFT_CLOCK_STOP_COUNT = "1/0416024222.24996"
START_TIME = 2016-07-08T02:13:50.619Z
STOP_TIME = 2016-07-08T02:15:58.906Z
/* ORBITAL DATA ELEMENTS */
ASCENDING_NODE_LONGITUDE = 275.9
MAXIMUM_RESOLUTION = 31.6
FOOTPRINT_POINT_LATITUDE = (45.4858,45.4879,45.4886,45.4884, 45.4873,45.4853,45.4824,45.1983,45.0342 ,44.8701,44.7059,44.5421,44.3782, 44.2148,44.0507,43.8866,43.6408,43.4762 ,43.2303,42.9842,42.8202,42.6559, 42.4913,42.3273,42.1636,41.9997,41.8361 ,41.6727,41.4266,41.2624,41.0983, 40.8528,40.689,40.5256,40.362,40.1982, 39.9524,39.7023,39.381,39.1342,38.9666, 38.7991,38.6299,38.4579,38.1268,37.8757 ,37.7078,37.5405,37.3691,37.1837, 37.1836,37.1825,37.1788,37.1756,37.1721 ,37.2539,37.4263,37.5961,37.7632, 37.9305,38.1002,38.2693,38.4372,38.689, 38.8571,39.0251,39.1932,39.3588,39.5227 ,39.6863,39.932,40.0958,40.2595,40.5054 ,40.6694,40.9153,41.0795,41.2437, 41.4901,41.6544,41.8187,41.9824,42.147, 42.3921,42.7204,42.8849,43.0488,43.2138 ,43.378,43.704,43.8704,44.1199,44.2842, 44.4483,44.613,44.7793,44.9433,45.1072, 45.2707,45.4858)
FOOTPRINT_POINT_LONGITUDE = (289.021,288.667,288.372,288.078, 287.786,287.496,287.208,287.138,287.145 ,287.151,287.157,287.163,287.169, 287.175,287.18,287.186,287.194,287.199, 287.207,287.214,287.219,287.223,287.228 ,287.232,287.236,287.241,287.245, 287.249,287.254,287.258,287.262,287.267 ,287.27,287.273,287.277,287.28,287.284, 287.288,287.293,287.297,287.3,287.302, 287.304,287.306,287.31,287.313,287.315, 287.316,287.318,287.514,287.782,288.069 ,288.431,288.668,288.905,289.187, 289.185,289.184,289.182,289.181,289.177 ,289.174,289.172,289.17,289.168,289.166 ,289.164,289.162,289.16,289.158,289.155 ,289.153,289.151,289.148,289.146, 289.143,289.14,289.138,289.134,289.132, 289.129,289.127,289.124,289.122,289.117 ,289.115,289.113,289.109,289.107, 289.105,289.099,289.092,289.089,289.087 ,289.083,289.078,289.075,289.073, 289.071,289.021)
ORBIT_NUMBER = 15862
ORBITAL_ECCENTRICITY = 0.573
ORBITAL_INCLINATION = 86.94
ORBITAL_SEMIMAJOR_AXIS = 8795.09
PERIAPSIS_ALTITUDE = 375.99
PERIAPSIS_ARGUMENT_ANGLE = 125.28
PERIAPSIS_TIME = 2016-07-08T02:11:50.000Z
SPACECRAFT_ORIENTATION = (0.0,-1.0,0.0)
^MEX_ORIENTATION_DESC = "MEX_ORIENTATION_DESC.TXT"
SPACECRAFT_POINTING_MODE = ACROSSTRACK
^MEX_POINTING_DESC = "MEX_POINTING_DESC.TXT"
RIGHT_ASCENSION = -1e+32
DECLINATION = -1e+32
OFFSET_ANGLE = 0.539
SPACECRAFT_SOLAR_DISTANCE = 2.18693e+08
TARGET_NAME = MARS
/* CAMERA DATA ELEMENTS */
DETECTOR_TEMPERATURE = 17.7588
FOCAL_PLANE_TEMPERATURE = 9.6028
INST_CMPRS_NAME = "DISCRETE COSINE TRANSFORMATION (DCT)"
INST_CMPRS_RATIO = 4.08527
INST_CMPRS_QUALITY = 0
INST_CMPRS_QUANTZ_TBL_ID = 0
INSTRUMENT_TEMPERATURE = 12.0496
LENS_TEMPERATURE = 10.2145
MACROPIXEL_SIZE = 2
MISSING_FRAMES = 0
PIXEL_SUBSAMPLING_FLAG = N
SIGNAL_CHAIN_ID = 3
/* RADIOMETRIC DATA ELEMENTS */
BANDWIDTH = 174.0
CENTER_FILTER_WAVELENGTH = 675.0
RADIANCE_OFFSET = 1.70253
RADIANCE_SCALING_FACTOR = 0.0398791
REFLECTANCE_SCALING_FACTOR = 0.00102588
MEX:REFLECTANCE_OFFSET = 0.0437973
/* IMAGE OBJECT DEFINITIONS */
OBJECT = IMAGE
  INTERCHANGE_FORMAT = BINARY
  LINES = 19649
  LINE_SAMPLES = 3866
  SAMPLE_TYPE = UNSIGNED_INTEGER
  SAMPLE_BITS = 8
  BANDS = 1
  BAND_STORAGE_TYPE = BAND_SEQUENTIAL
  MAXIMUM = 255
  MEAN = 110.717
  MINIMUM = 1
  STANDARD_DEVIATION = 18.4953
END_OBJECT = IMAGE
/* MAP OBJECT DEFINITIONS */
OBJECT = IMAGE_MAP_PROJECTION
  ^DATA_SET_MAP_PROJECTION_CATALOG= "DSMAP.CAT"
  A_AXIS_RADIUS = 3396.0
  B_AXIS_RADIUS = 3396.0
  C_AXIS_RADIUS = 3396.0
  CENTER_LATITUDE = 0.0
  CENTER_LONGITUDE = 288.0
  COORDINATE_SYSTEM_NAME = PLANETOGRAPHIC
  COORDINATE_SYSTEM_TYPE = "BODY-FIXED ROTATING"
  EASTERNMOST_LONGITUDE = 289.187
  FIRST_STANDARD_PARALLEL = "N/A"
  LINE_FIRST_PIXEL = 1
  LINE_LAST_PIXEL = 19649
  LINE_PROJECTION_OFFSET = 107768.75
  MAP_PROJECTION_ROTATION = 0.0
  MAP_PROJECTION_TYPE = SINUSOIDAL
  MAP_RESOLUTION = 2370.85521546667
  MAP_SCALE = 0.025
  MAXIMUM_LATITUDE = 45.4886
  MINIMUM_LATITUDE = 37.1721
  POSITIVE_LONGITUDE_DIRECTION = EAST
  REFERENCE_LATITUDE = "N/A"
  REFERENCE_LONGITUDE = "N/A"
  SAMPLE_FIRST_PIXEL = 1
  SAMPLE_LAST_PIXEL = 3866
  SAMPLE_PROJECTION_OFFSET = 1475.75
  SECOND_STANDARD_PARALLEL = "N/A"
  WESTERNMOST_LONGITUDE = 287.138
END_OBJECT = IMAGE_MAP_PROJECTION
/* The JPEG2000 image data file associated with this label. */
OBJECT = COMPRESSED_FILE
  FILE_NAME = "HF862_0000_P13.JP2"
  RECORD_TYPE = UNDEFINED
  FILE_RECORDS = UNK
  ENCODING_TYPE = "JP2"
  INTERCHANGE_FORMAT = BINARY
  UNCOMPRESSED_FILE_NAME = "HF862_0000_P13.IMG"
  REQUIRED_STORAGE_BYTES = "75986230"
  ^DESCRIPTION = "JP2INFO.TXT"
END_OBJECT = COMPRESSED_FILE
END
