PDS_VERSION_ID = PDS3
/* FILE DATA ELEMENTS */
RECORD_TYPE = STREAM
/* POINTERS TO DATA OBJECTS */
^COMPRESSED_FILE = "HF862_0000_P23.JP2"
/* IDENTIFICATION DATA ELEMENTS */
DATA_SET_ID = "MEX-M-HRSC-5-REFDR-MAPPROJECTED-V3.0"
DATA_SET_NAME = "MARS EXPRESS HRSC MAP PROJECTED REFDR V3.0"
DETECTOR_ID = MEX_HRSC_P2
EVENT_TYPE = "MARS-REGIONAL-STEREO-Te"
INSTRUMENT_HOST_ID = MEX
INSTRUMENT_HOST_NAME = "MARS EXPRESS"
INSTRUMENT_ID = HRSC
INSTRUMENT_NAME = "HIGH RESOLUTION STEREO CAMERA"
MISSION_NAME = "MARS EXPRESS"
MISSION_PHASE_NAME = ME_Phase_35
PROCESSING_LEVEL_ID = 3
PRODUCT_CREATION_TIME = 2017-06-29T11:20:52.000Z
PRODUCT_ID = "HF862_0000_P23.JP2"
RELEASE_ID = 0135
REVISION_ID = 0000
/* QUALITY DATA ELEMENTS */
DATA_QUALITY_ID = 1
DATA_QUALITY_DESC = "Data calculated based on original SPICE kernels"
/* TIME DATA ELEMENTS */
SPACECRAFT_CLOCK_START_COUNT = "1/0416024011.08442"
SPACECRAFT_CLOCK_STOP_COUNT = "1/0416024222.24996"
START_TIME = 2016-07-08T02:14:38.044Z
STOP_TIME = 2016-07-08T02:16:52.646Z
/* ORBITAL DATA ELEMENTS */
ASCENDING_NODE_LONGITUDE = 275.9
MAXIMUM_RESOLUTION = 32.7
FOOTPRINT_POINT_LATITUDE = (45.4196,45.4122,45.4041,45.3955, 45.3865,45.3769,45.3668,45.1587,44.9972 ,44.8359,44.6745,44.5129,44.3515, 44.1092,43.9484,43.7066,43.5456,43.3057 ,43.145,42.9054,42.7454,42.586,42.4269, 42.1814,42.0177,41.8535,41.6901,41.4447 ,41.2822,41.1192,40.9567,40.7938, 40.6286,40.4617,40.295,40.1286,39.9628, 39.7993,39.6354,39.467,39.2139,38.9587, 38.789,38.6213,38.4568,38.2018,38.0296, 37.861,37.6889,37.5166,37.3446,37.1728, 37.1594,37.1663,37.1739,37.1828,37.1884 ,37.1968,37.3679,37.5407,37.7994, 38.0567,38.2236,38.3925,38.5621,38.8163 ,39.0712,39.3249,39.491,39.6573,39.8238 ,39.9902,40.2406,40.491,40.6581,40.824, 40.9872,41.2318,41.477,41.6404,41.8043, 41.9686,42.2146,42.38,42.5429,42.7027, 42.8627,43.0236,43.2638,43.4248,43.5872 ,43.8292,44.1472,44.39,44.5513,44.7919, 44.9544,45.1171,45.2799,45.4196)
FOOTPRINT_POINT_LONGITUDE = (288.993,288.686,288.382,288.079, 287.778,287.479,287.182,287.104,287.11, 287.116,287.121,287.127,287.132,287.14, 287.145,287.152,287.157,287.163,287.168 ,287.174,287.178,287.182,287.186, 287.192,287.195,287.199,287.203,287.208 ,287.211,287.214,287.217,287.22,287.223 ,287.225,287.228,287.231,287.233, 287.235,287.237,287.239,287.243,287.246 ,287.248,287.249,287.25,287.252,287.254 ,287.255,287.257,287.258,287.258, 287.259,287.523,287.827,288.17,288.536, 288.846,289.244,289.241,289.238,289.234 ,289.231,289.227,289.224,289.222, 289.218,289.214,289.21,289.208,289.205, 289.203,289.2,289.196,289.192,289.19, 289.187,289.184,289.18,289.175,289.172, 289.169,289.167,289.162,289.161,289.159 ,289.155,289.152,289.149,289.144, 289.141,289.139,289.135,289.124,289.119 ,289.116,289.108,289.106,289.103,289.1, 288.993)
ORBIT_NUMBER = 15862
ORBITAL_ECCENTRICITY = 0.573
ORBITAL_INCLINATION = 86.94
ORBITAL_SEMIMAJOR_AXIS = 8795.09
PERIAPSIS_ALTITUDE = 375.99
PERIAPSIS_ARGUMENT_ANGLE = 125.28
PERIAPSIS_TIME = 2016-07-08T02:11:50.000Z
SPACECRAFT_ORIENTATION = (0.0,-1.0,0.0)
^MEX_ORIENTATION_DESC = "MEX_ORIENTATION_DESC.TXT"
SPACECRAFT_POINTING_MODE = ACROSSTRACK
^MEX_POINTING_DESC = "MEX_POINTING_DESC.TXT"
RIGHT_ASCENSION = -1e+32
DECLINATION = -1e+32
OFFSET_ANGLE = 0.539
SPACECRAFT_SOLAR_DISTANCE = 2.18693e+08
TARGET_NAME = MARS
/* CAMERA DATA ELEMENTS */
DETECTOR_TEMPERATURE = 19.39
FOCAL_PLANE_TEMPERATURE = 9.6028
INST_CMPRS_NAME = "DISCRETE COSINE TRANSFORMATION (DCT)"
INST_CMPRS_RATIO = 3.83903
INST_CMPRS_QUALITY = 0
INST_CMPRS_QUANTZ_TBL_ID = 0
INSTRUMENT_TEMPERATURE = 12.0496
LENS_TEMPERATURE = 10.2145
MACROPIXEL_SIZE = 2
MISSING_FRAMES = 0
PIXEL_SUBSAMPLING_FLAG = N
SIGNAL_CHAIN_ID = 3
/* RADIOMETRIC DATA ELEMENTS */
BANDWIDTH = 177.0
CENTER_FILTER_WAVELENGTH = 676.5
RADIANCE_OFFSET = 1.63175
RADIANCE_SCALING_FACTOR = 0.0377205
REFLECTANCE_SCALING_FACTOR = 0.000956533
MEX:REFLECTANCE_OFFSET = 0.0413786
/* IMAGE OBJECT DEFINITIONS */
OBJECT = IMAGE
  INTERCHANGE_FORMAT = BINARY
  LINES = 19649
  LINE_SAMPLES = 3866
  SAMPLE_TYPE = UNSIGNED_INTEGER
  SAMPLE_BITS = 8
  BANDS = 1
  BAND_STORAGE_TYPE = BAND_SEQUENTIAL
  MAXIMUM = 255
  MEAN = 125.059
  MINIMUM = 1
  STANDARD_DEVIATION = 19.398
END_OBJECT = IMAGE
/* MAP OBJECT DEFINITIONS */
OBJECT = IMAGE_MAP_PROJECTION
  ^DATA_SET_MAP_PROJECTION_CATALOG= "DSMAP.CAT"
  A_AXIS_RADIUS = 3396.0
  B_AXIS_RADIUS = 3396.0
  C_AXIS_RADIUS = 3396.0
  CENTER_LATITUDE = 0.0
  CENTER_LONGITUDE = 288.0
  COORDINATE_SYSTEM_NAME = PLANETOGRAPHIC
  COORDINATE_SYSTEM_TYPE = "BODY-FIXED ROTATING"
  EASTERNMOST_LONGITUDE = 289.244
  FIRST_STANDARD_PARALLEL = "N/A"
  LINE_FIRST_PIXEL = 1
  LINE_LAST_PIXEL = 19649
  LINE_PROJECTION_OFFSET = 107768.75
  MAP_PROJECTION_ROTATION = 0.0
  MAP_PROJECTION_TYPE = SINUSOIDAL
  MAP_RESOLUTION = 2370.85521546667
  MAP_SCALE = 0.025
  MAXIMUM_LATITUDE = 45.4196
  MINIMUM_LATITUDE = 37.1594
  POSITIVE_LONGITUDE_DIRECTION = EAST
  REFERENCE_LATITUDE = "N/A"
  REFERENCE_LONGITUDE = "N/A"
  SAMPLE_FIRST_PIXEL = 1
  SAMPLE_LAST_PIXEL = 3866
  SAMPLE_PROJECTION_OFFSET = 1475.75
  SECOND_STANDARD_PARALLEL = "N/A"
  WESTERNMOST_LONGITUDE = 287.104
END_OBJECT = IMAGE_MAP_PROJECTION
/* The JPEG2000 image data file associated with this label. */
OBJECT = COMPRESSED_FILE
  FILE_NAME = "HF862_0000_P23.JP2"
  RECORD_TYPE = UNDEFINED
  FILE_RECORDS = UNK
  ENCODING_TYPE = "JP2"
  INTERCHANGE_FORMAT = BINARY
  UNCOMPRESSED_FILE_NAME = "HF862_0000_P23.IMG"
  REQUIRED_STORAGE_BYTES = "75986230"
  ^DESCRIPTION = "JP2INFO.TXT"
END_OBJECT = COMPRESSED_FILE
END
