PDS_VERSION_ID = PDS3
/* FILE DATA ELEMENTS */
RECORD_TYPE = STREAM
/* POINTERS TO DATA OBJECTS */
^COMPRESSED_FILE = "HF863_0000_P13.JP2"
/* IDENTIFICATION DATA ELEMENTS */
DATA_SET_ID = "MEX-M-HRSC-5-REFDR-MAPPROJECTED-V3.0"
DATA_SET_NAME = "MARS EXPRESS HRSC MAP PROJECTED REFDR V3.0"
DETECTOR_ID = MEX_HRSC_P1
EVENT_TYPE = "MARS-REGIONAL-MAPPING-Vo"
INSTRUMENT_HOST_ID = MEX
INSTRUMENT_HOST_NAME = "MARS EXPRESS"
INSTRUMENT_ID = HRSC
INSTRUMENT_NAME = "HIGH RESOLUTION STEREO CAMERA"
MISSION_NAME = "MARS EXPRESS"
MISSION_PHASE_NAME = ME_Phase_35
PROCESSING_LEVEL_ID = 3
PRODUCT_CREATION_TIME = 2017-06-29T11:20:52.000Z
PRODUCT_ID = "HF863_0000_P13.JP2"
RELEASE_ID = 0135
REVISION_ID = 0000
/* QUALITY DATA ELEMENTS */
DATA_QUALITY_ID = 1
DATA_QUALITY_DESC = "Data calculated based on original SPICE kernels"
/* TIME DATA ELEMENTS */
SPACECRAFT_CLOCK_START_COUNT = "1/0416049114.09078"
SPACECRAFT_CLOCK_STOP_COUNT = "1/0416049442.07880"
START_TIME = 2016-07-08T09:12:13.534Z
STOP_TIME = 2016-07-08T09:16:14.615Z
/* ORBITAL DATA ELEMENTS */
ASCENDING_NODE_LONGITUDE = 275.87
MAXIMUM_RESOLUTION = 31.3
FOOTPRINT_POINT_LATITUDE = (50.5841,50.5583,50.5298,50.4319,49.974 ,49.6686,49.3631,49.0575,48.7519, 48.4461,47.9873,47.6812,47.3752,47.0692 ,46.7631,46.4569,45.9977,45.6914, 45.3852,45.079,44.7728,44.4666,44.1605, 43.7012,43.3911,43.085,42.779,42.4731, 42.1672,41.8614,41.5556,41.2499,40.9444 ,40.486,40.1807,39.7227,39.4176,39.1061 ,38.793,38.4802,38.1675,37.6985,37.3803 ,37.0599,36.7397,36.4195,36.0996, 35.7683,35.4407,35.1146,34.9546,34.9641 ,34.9726,34.9864,35.159,35.4873,35.8153 ,36.3081,36.6284,36.9493,37.2704, 37.7501,38.0635,38.377,38.6906,39.0043, 39.4737,39.7796,40.0855,40.3916,40.6981 ,41.0042,41.3117,41.7705,42.0771, 42.3838,42.6906,42.9976,43.3045,43.6114 ,44.0758,44.3829,44.6901,44.9971, 45.3043,45.765,46.0721,46.5328,46.9934, 47.3006,47.7612,48.2217,48.5285,48.8354 ,49.1422,49.4489,49.7556,50.0621, 50.3686,50.5841)
FOOTPRINT_POINT_LONGITUDE = (184.963,184.305,183.681,183.035, 183.082,183.112,183.141,183.169,183.197 ,183.224,183.263,183.288,183.312, 183.336,183.36,183.382,183.415,183.436, 183.456,183.476,183.495,183.514,183.532 ,183.558,183.576,183.592,183.608, 183.623,183.638,183.652,183.666,183.679 ,183.692,183.711,183.723,183.739,183.75 ,183.76,183.771,183.78,183.79,183.803, 183.811,183.819,183.827,183.834,183.841 ,183.847,183.854,183.86,184.16,184.457, 184.753,185.342,185.765,185.757,185.748 ,185.736,185.727,185.719,185.71,185.696 ,185.687,185.678,185.668,185.659, 185.644,185.634,185.624,185.614,185.603 ,185.593,185.582,185.565,185.554, 185.543,185.531,185.519,185.507,185.494 ,185.475,185.462,185.448,185.435, 185.421,185.4,185.385,185.363,185.34, 185.324,185.3,185.275,185.258,185.241, 185.223,185.205,185.187,185.168,185.149 ,184.963)
ORBIT_NUMBER = 15863
ORBITAL_ECCENTRICITY = 0.572
ORBITAL_INCLINATION = 86.95
ORBITAL_SEMIMAJOR_AXIS = 8790.56
PERIAPSIS_ALTITUDE = 376.3
PERIAPSIS_ARGUMENT_ANGLE = 125.09
PERIAPSIS_TIME = 2016-07-08T09:11:29.000Z
SPACECRAFT_ORIENTATION = (0.0,-1.0,0.0)
^MEX_ORIENTATION_DESC = "MEX_ORIENTATION_DESC.TXT"
SPACECRAFT_POINTING_MODE = ACROSSTRACK
^MEX_POINTING_DESC = "MEX_POINTING_DESC.TXT"
RIGHT_ASCENSION = -1e+32
DECLINATION = -1e+32
OFFSET_ANGLE = -0.38
SPACECRAFT_SOLAR_DISTANCE = 2.18639e+08
TARGET_NAME = MARS
/* CAMERA DATA ELEMENTS */
DETECTOR_TEMPERATURE = 17.7588
FOCAL_PLANE_TEMPERATURE = 10.8262
INST_CMPRS_NAME = "DISCRETE COSINE TRANSFORMATION (DCT)"
INST_CMPRS_RATIO = 5.89287
INST_CMPRS_QUALITY = 0
INST_CMPRS_QUANTZ_TBL_ID = 0
INSTRUMENT_TEMPERATURE = 11.6418
LENS_TEMPERATURE = 11.0301
MACROPIXEL_SIZE = 2
MISSING_FRAMES = 2
PIXEL_SUBSAMPLING_FLAG = N
SIGNAL_CHAIN_ID = 3
/* RADIOMETRIC DATA ELEMENTS */
BANDWIDTH = 174.0
CENTER_FILTER_WAVELENGTH = 675.0
RADIANCE_OFFSET = 2.87813
RADIANCE_SCALING_FACTOR = 0.0212092
REFLECTANCE_SCALING_FACTOR = 0.00054534
MEX:REFLECTANCE_OFFSET = 0.0740036
/* IMAGE OBJECT DEFINITIONS */
OBJECT = IMAGE
  INTERCHANGE_FORMAT = BINARY
  LINES = 36900
  LINE_SAMPLES = 4558
  SAMPLE_TYPE = UNSIGNED_INTEGER
  SAMPLE_BITS = 8
  BANDS = 1
  BAND_STORAGE_TYPE = BAND_SEQUENTIAL
  MAXIMUM = 255
  MEAN = 131.929
  MINIMUM = 1
  STANDARD_DEVIATION = 15.2373
END_OBJECT = IMAGE
/* MAP OBJECT DEFINITIONS */
OBJECT = IMAGE_MAP_PROJECTION
  ^DATA_SET_MAP_PROJECTION_CATALOG= "DSMAP.CAT"
  A_AXIS_RADIUS = 3396.0
  B_AXIS_RADIUS = 3396.0
  C_AXIS_RADIUS = 3396.0
  CENTER_LATITUDE = 0.0
  CENTER_LONGITUDE = 185.0
  COORDINATE_SYSTEM_NAME = PLANETOGRAPHIC
  COORDINATE_SYSTEM_TYPE = "BODY-FIXED ROTATING"
  EASTERNMOST_LONGITUDE = 185.765
  FIRST_STANDARD_PARALLEL = "N/A"
  LINE_FIRST_PIXEL = 1
  LINE_LAST_PIXEL = 36900
  LINE_PROJECTION_OFFSET = 119808.25
  MAP_PROJECTION_ROTATION = 0.0
  MAP_PROJECTION_TYPE = SINUSOIDAL
  MAP_RESOLUTION = 2370.85521546667
  MAP_SCALE = 0.025
  MAXIMUM_LATITUDE = 50.5841
  MINIMUM_LATITUDE = 34.9546
  POSITIVE_LONGITUDE_DIRECTION = EAST
  REFERENCE_LATITUDE = "N/A"
  REFERENCE_LONGITUDE = "N/A"
  SAMPLE_FIRST_PIXEL = 1
  SAMPLE_LAST_PIXEL = 4558
  SAMPLE_PROJECTION_OFFSET = 2986.75
  SECOND_STANDARD_PARALLEL = "N/A"
  WESTERNMOST_LONGITUDE = 183.035
END_OBJECT = IMAGE_MAP_PROJECTION
/* The JPEG2000 image data file associated with this label. */
OBJECT = COMPRESSED_FILE
  FILE_NAME = "HF863_0000_P13.JP2"
  RECORD_TYPE = UNDEFINED
  FILE_RECORDS = UNK
  ENCODING_TYPE = "JP2"
  INTERCHANGE_FORMAT = BINARY
  UNCOMPRESSED_FILE_NAME = "HF863_0000_P13.IMG"
  REQUIRED_STORAGE_BYTES = "168217548"
  ^DESCRIPTION = "JP2INFO.TXT"
END_OBJECT = COMPRESSED_FILE
END
