PDS_VERSION_ID = PDS3
/* FILE DATA ELEMENTS */
RECORD_TYPE = STREAM
/* POINTERS TO DATA OBJECTS */
^COMPRESSED_FILE = "HF864_0000_P13.JP2"
/* IDENTIFICATION DATA ELEMENTS */
DATA_SET_ID = "MEX-M-HRSC-5-REFDR-MAPPROJECTED-V3.0"
DATA_SET_NAME = "MARS EXPRESS HRSC MAP PROJECTED REFDR V3.0"
DETECTOR_ID = MEX_HRSC_P1
EVENT_TYPE = "MARS-REGIONAL-MAPPING-Te-Im-Eo"
INSTRUMENT_HOST_ID = MEX
INSTRUMENT_HOST_NAME = "MARS EXPRESS"
INSTRUMENT_ID = HRSC
INSTRUMENT_NAME = "HIGH RESOLUTION STEREO CAMERA"
MISSION_NAME = "MARS EXPRESS"
MISSION_PHASE_NAME = ME_Phase_35
PROCESSING_LEVEL_ID = 3
PRODUCT_CREATION_TIME = 2017-06-29T11:20:52.000Z
PRODUCT_ID = "HF864_0000_P13.JP2"
RELEASE_ID = 0135
REVISION_ID = 0000
/* QUALITY DATA ELEMENTS */
DATA_QUALITY_ID = 1
DATA_QUALITY_DESC = "Data calculated based on original SPICE kernels"
/* TIME DATA ELEMENTS */
SPACECRAFT_CLOCK_START_COUNT = "1/0416074558.09059"
SPACECRAFT_CLOCK_STOP_COUNT = "1/0416074877.50067"
START_TIME = 2016-07-08T16:16:19.688Z
STOP_TIME = 2016-07-08T16:19:34.254Z
/* ORBITAL DATA ELEMENTS */
ASCENDING_NODE_LONGITUDE = 275.86
MAXIMUM_RESOLUTION = 37.2
FOOTPRINT_POINT_LATITUDE = (33.7171,33.7233,33.7275,33.7308, 33.7332,33.7346,33.7351,33.3716,32.8226 ,32.3846,32.1605,31.936,31.7121,31.4884 ,31.2644,31.0365,30.8085,30.5803, 30.3526,30.0071,29.7743,29.4263,29.1942 ,28.958,28.7215,28.4842,28.2479,27.8862 ,27.5246,27.2838,27.038,26.6705,26.424, 26.1747,25.8003,25.5502,25.2963,25.042, 24.7891,24.5318,24.2735,23.8853,23.6233 ,23.2295,22.9647,22.6978,22.4301,22.16, 21.889,21.581,21.5751,21.5688,21.5632, 21.5557,21.548,21.5366,21.8061,22.0776, 22.3487,22.6173,23.0188,23.2827,23.5465 ,23.81,24.0703,24.4589,24.7182,24.9726, 25.2253,25.4803,25.7328,25.9836,26.2326 ,26.6025,26.9717,27.2181,27.4596, 27.7014,27.9434,28.1849,28.4222,28.7781 ,29.0149,29.2502,29.4831,29.7163,29.95, 30.1832,30.4095,30.6387,30.9823,31.2115 ,31.436,31.6602,31.8845,32.1092,32.4446 ,32.8839,33.3246,33.7171)
FOOTPRINT_POINT_LONGITUDE = (84.5752,84.225,83.9319,83.6403,83.3504 ,83.0619,82.7745,82.6899,82.6877, 82.6855,82.6842,82.6826,82.681,82.6792, 82.6773,82.6752,82.6732,82.6709,82.6685 ,82.6646,82.6618,82.6575,82.6544, 82.6513,82.648,82.6443,82.6407,82.6346, 82.6285,82.6242,82.6196,82.6128,82.6076 ,82.6025,82.5947,82.5892,82.5834, 82.5775,82.5718,82.5655,82.5591,82.5491 ,82.5424,82.5319,82.5245,82.517,82.5091 ,82.501,82.4929,82.6713,83.0285,83.3655 ,83.6404,83.9379,84.2151,84.5796, 84.6721,84.671,84.6698,84.6676,84.6659, 84.6645,84.6629,84.6618,84.6602,84.6585 ,84.6565,84.6556,84.6561,84.6547, 84.6518,84.6504,84.6506,84.65,84.6484, 84.6474,84.6463,84.6452,84.6441,84.6428 ,84.6415,84.64,84.6396,84.6387,84.6375, 84.6362,84.6345,84.6326,84.6331,84.6313 ,84.6289,84.6273,84.6256,84.6242, 84.6226,84.621,84.6185,84.6153,84.6114, 84.5752)
ORBIT_NUMBER = 15864
ORBITAL_ECCENTRICITY = 0.573
ORBITAL_INCLINATION = 86.95
ORBITAL_SEMIMAJOR_AXIS = 8797.83
PERIAPSIS_ALTITUDE = 375.3
PERIAPSIS_ARGUMENT_ANGLE = 124.9
PERIAPSIS_TIME = 2016-07-08T16:11:11.000Z
SPACECRAFT_ORIENTATION = (0.0,-1.0,0.0)
^MEX_ORIENTATION_DESC = "MEX_ORIENTATION_DESC.TXT"
SPACECRAFT_POINTING_MODE = ACROSSTRACK
^MEX_POINTING_DESC = "MEX_POINTING_DESC.TXT"
RIGHT_ASCENSION = -1e+32
DECLINATION = -1e+32
OFFSET_ANGLE = 0.5
SPACECRAFT_SOLAR_DISTANCE = 2.18586e+08
TARGET_NAME = MARS
/* CAMERA DATA ELEMENTS */
DETECTOR_TEMPERATURE = 17.351
FOCAL_PLANE_TEMPERATURE = 8.5833
INST_CMPRS_NAME = "DISCRETE COSINE TRANSFORMATION (DCT)"
INST_CMPRS_RATIO = 6.66521
INST_CMPRS_QUALITY = 0
INST_CMPRS_QUANTZ_TBL_ID = 0
INSTRUMENT_TEMPERATURE = 11.0301
LENS_TEMPERATURE = 8.7872
MACROPIXEL_SIZE = 2
MISSING_FRAMES = 0
PIXEL_SUBSAMPLING_FLAG = N
SIGNAL_CHAIN_ID = 3
/* RADIOMETRIC DATA ELEMENTS */
BANDWIDTH = 174.0
CENTER_FILTER_WAVELENGTH = 675.0
RADIANCE_OFFSET = 3.1497
RADIANCE_SCALING_FACTOR = 0.0254216
REFLECTANCE_SCALING_FACTOR = 0.000653328
MEX:REFLECTANCE_OFFSET = 0.0809462
/* IMAGE OBJECT DEFINITIONS */
OBJECT = IMAGE
  INTERCHANGE_FORMAT = BINARY
  LINES = 28794
  LINE_SAMPLES = 5186
  SAMPLE_TYPE = UNSIGNED_INTEGER
  SAMPLE_BITS = 8
  BANDS = 1
  BAND_STORAGE_TYPE = BAND_SEQUENTIAL
  MAXIMUM = 255
  MEAN = 142.268
  MINIMUM = 1
  STANDARD_DEVIATION = 22.3304
END_OBJECT = IMAGE
/* MAP OBJECT DEFINITIONS */
OBJECT = IMAGE_MAP_PROJECTION
  ^DATA_SET_MAP_PROJECTION_CATALOG= "DSMAP.CAT"
  A_AXIS_RADIUS = 3396.0
  B_AXIS_RADIUS = 3396.0
  C_AXIS_RADIUS = 3396.0
  CENTER_LATITUDE = 0.0
  CENTER_LONGITUDE = 84.0
  COORDINATE_SYSTEM_NAME = PLANETOGRAPHIC
  COORDINATE_SYSTEM_TYPE = "BODY-FIXED ROTATING"
  EASTERNMOST_LONGITUDE = 84.6721
  FIRST_STANDARD_PARALLEL = "N/A"
  LINE_FIRST_PIXEL = 1
  LINE_LAST_PIXEL = 28794
  LINE_PROJECTION_OFFSET = 79896.25
  MAP_PROJECTION_ROTATION = 0.0
  MAP_PROJECTION_TYPE = SINUSOIDAL
  MAP_RESOLUTION = 2370.85521546667
  MAP_SCALE = 0.025
  MAXIMUM_LATITUDE = 33.7351
  MINIMUM_LATITUDE = 21.5366
  POSITIVE_LONGITUDE_DIRECTION = EAST
  REFERENCE_LATITUDE = "N/A"
  REFERENCE_LONGITUDE = "N/A"
  SAMPLE_FIRST_PIXEL = 1
  SAMPLE_LAST_PIXEL = 5186
  SAMPLE_PROJECTION_OFFSET = 3490.75
  SECOND_STANDARD_PARALLEL = "N/A"
  WESTERNMOST_LONGITUDE = 82.49290000000001
END_OBJECT = IMAGE_MAP_PROJECTION
/* The JPEG2000 image data file associated with this label. */
OBJECT = COMPRESSED_FILE
  FILE_NAME = "HF864_0000_P13.JP2"
  RECORD_TYPE = UNDEFINED
  FILE_RECORDS = UNK
  ENCODING_TYPE = "JP2"
  INTERCHANGE_FORMAT = BINARY
  UNCOMPRESSED_FILE_NAME = "HF864_0000_P13.IMG"
  REQUIRED_STORAGE_BYTES = "149351614"
  ^DESCRIPTION = "JP2INFO.TXT"
END_OBJECT = COMPRESSED_FILE
END
