PDS_VERSION_ID = PDS3
/* FILE DATA ELEMENTS */
RECORD_TYPE = STREAM
/* POINTERS TO DATA OBJECTS */
^COMPRESSED_FILE = "HF865_0000_S13.JP2"
/* IDENTIFICATION DATA ELEMENTS */
DATA_SET_ID = "MEX-M-HRSC-5-REFDR-MAPPROJECTED-V3.0"
DATA_SET_NAME = "MARS EXPRESS HRSC MAP PROJECTED REFDR V3.0"
DETECTOR_ID = MEX_HRSC_S1
EVENT_TYPE = "MARS-REGIONAL-MAPPING-Im-Pf"
INSTRUMENT_HOST_ID = MEX
INSTRUMENT_HOST_NAME = "MARS EXPRESS"
INSTRUMENT_ID = HRSC
INSTRUMENT_NAME = "HIGH RESOLUTION STEREO CAMERA"
MISSION_NAME = "MARS EXPRESS"
MISSION_PHASE_NAME = ME_Phase_35
PROCESSING_LEVEL_ID = 3
PRODUCT_CREATION_TIME = 2017-06-29T11:20:52.000Z
PRODUCT_ID = "HF865_0000_S13.JP2"
RELEASE_ID = 0135
REVISION_ID = 0000
/* QUALITY DATA ELEMENTS */
DATA_QUALITY_ID = 1
DATA_QUALITY_DESC = "Data calculated based on original SPICE kernels"
/* TIME DATA ELEMENTS */
SPACECRAFT_CLOCK_START_COUNT = "1/0416099242.09060"
SPACECRAFT_CLOCK_STOP_COUNT = "1/0416099431.56449"
START_TIME = 2016-07-08T23:07:29.793Z
STOP_TIME = 2016-07-08T23:09:28.244Z
/* ORBITAL DATA ELEMENTS */
ASCENDING_NODE_LONGITUDE = 275.84
MAXIMUM_RESOLUTION = 32.9
FOOTPRINT_POINT_LATITUDE = (65.751,65.7376,65.7222,65.7046,65.6851 ,65.6636,65.6446,65.366,65.2197,65.0733 ,64.9273,64.6418,64.4271,64.1405,63.925 ,63.6377,63.4217,63.2776,63.1335, 62.9891,62.8444,62.6998,62.555,62.41, 62.265,62.1199,61.9749,61.8295,61.6844, 61.5384,61.3926,61.2468,61.101,60.955, 60.8087,60.6624,60.5161,60.3697,60.2231 ,60.0766,59.9301,59.7831,59.5624, 59.4152,59.1944,58.9734,58.8258,58.604, 58.4561,58.2017,58.2146,58.227,58.2376, 58.2511,58.2577,58.3377,58.4864,58.635, 58.7835,58.9318,59.0803,59.2285,59.4507 ,59.6726,59.8941,60.1156,60.2633, 60.4108,60.5582,60.7056,60.8527,60.9999 ,61.147,61.294,61.4408,61.6608,61.8073, 62.0269,62.2464,62.3925,62.5387,62.6847 ,62.8304,62.9762,63.1218,63.3402, 63.4854,63.6308,63.7759,63.9209,64.0658 ,64.2106,64.4276,64.5722,64.7167,65.005 ,65.1514,65.3732,65.5946,65.751)
FOOTPRINT_POINT_LONGITUDE = (340.075,339.545,339.017,338.492, 337.969,337.449,337.027,337.044,337.089 ,337.134,337.178,337.262,337.323, 337.404,337.462,337.539,337.595,337.632 ,337.669,337.705,337.74,337.775,337.81, 337.844,337.878,337.911,337.944,337.976 ,338.008,338.04,338.071,338.102,338.132 ,338.162,338.192,338.221,338.25,338.279 ,338.307,338.335,338.362,338.389,338.43 ,338.456,338.495,338.533,338.558, 338.595,338.619,338.759,339.133,339.532 ,339.933,340.539,340.918,341.253, 341.242,341.232,341.221,341.211,341.2, 341.189,341.173,341.156,341.139,341.122 ,341.11,341.098,341.086,341.074,341.061 ,341.049,341.036,341.024,341.011, 340.991,340.978,340.958,340.937,340.923 ,340.909,340.895,340.881,340.866, 340.851,340.829,340.814,340.798,340.783 ,340.767,340.751,340.735,340.711, 340.694,340.677,340.643,340.625,340.598 ,340.57,340.075)
ORBIT_NUMBER = 15865
ORBITAL_ECCENTRICITY = 0.572
ORBITAL_INCLINATION = 86.95
ORBITAL_SEMIMAJOR_AXIS = 8790.9
PERIAPSIS_ALTITUDE = 376.31
PERIAPSIS_ARGUMENT_ANGLE = 124.73
PERIAPSIS_TIME = 2016-07-08T23:10:51.000Z
SPACECRAFT_ORIENTATION = (0.0,-1.0,0.0)
^MEX_ORIENTATION_DESC = "MEX_ORIENTATION_DESC.TXT"
SPACECRAFT_POINTING_MODE = ACROSSTRACK
^MEX_POINTING_DESC = "MEX_POINTING_DESC.TXT"
RIGHT_ASCENSION = -1e+32
DECLINATION = -1e+32
OFFSET_ANGLE = 0.269
SPACECRAFT_SOLAR_DISTANCE = 2.18533e+08
TARGET_NAME = MARS
/* CAMERA DATA ELEMENTS */
DETECTOR_TEMPERATURE = 17.351
FOCAL_PLANE_TEMPERATURE = 10.0106
INST_CMPRS_NAME = "DISCRETE COSINE TRANSFORMATION (DCT)"
INST_CMPRS_RATIO = 10.7944
INST_CMPRS_QUALITY = 0
INST_CMPRS_QUANTZ_TBL_ID = 0
INSTRUMENT_TEMPERATURE = 12.0496
LENS_TEMPERATURE = 10.2145
MACROPIXEL_SIZE = 2
MISSING_FRAMES = 0
PIXEL_SUBSAMPLING_FLAG = N
SIGNAL_CHAIN_ID = 1
/* RADIOMETRIC DATA ELEMENTS */
BANDWIDTH = 180.0
CENTER_FILTER_WAVELENGTH = 677.0
RADIANCE_OFFSET = 3.30618
RADIANCE_SCALING_FACTOR = 0.0072365
REFLECTANCE_SCALING_FACTOR = 0.000180304
MEX:REFLECTANCE_OFFSET = 0.0823766
/* IMAGE OBJECT DEFINITIONS */
OBJECT = IMAGE
  INTERCHANGE_FORMAT = BINARY
  LINES = 17634
  LINE_SAMPLES = 4688
  SAMPLE_TYPE = UNSIGNED_INTEGER
  SAMPLE_BITS = 8
  BANDS = 1
  BAND_STORAGE_TYPE = BAND_SEQUENTIAL
  MAXIMUM = 255
  MEAN = 109.0
  MINIMUM = 1
  STANDARD_DEVIATION = 30.561
END_OBJECT = IMAGE
/* MAP OBJECT DEFINITIONS */
OBJECT = IMAGE_MAP_PROJECTION
  ^DATA_SET_MAP_PROJECTION_CATALOG= "DSMAP.CAT"
  A_AXIS_RADIUS = 3396.0
  B_AXIS_RADIUS = 3396.0
  C_AXIS_RADIUS = 3396.0
  CENTER_LATITUDE = 0.0
  CENTER_LONGITUDE = 339.0
  COORDINATE_SYSTEM_NAME = PLANETOGRAPHIC
  COORDINATE_SYSTEM_TYPE = "BODY-FIXED ROTATING"
  EASTERNMOST_LONGITUDE = 341.253
  FIRST_STANDARD_PARALLEL = "N/A"
  LINE_FIRST_PIXEL = 1
  LINE_LAST_PIXEL = 17634
  LINE_PROJECTION_OFFSET = 155654.25
  MAP_PROJECTION_ROTATION = 0.0
  MAP_PROJECTION_TYPE = SINUSOIDAL
  MAP_RESOLUTION = 2370.85521546667
  MAP_SCALE = 0.025
  MAXIMUM_LATITUDE = 65.751
  MINIMUM_LATITUDE = 58.2017
  POSITIVE_LONGITUDE_DIRECTION = EAST
  REFERENCE_LATITUDE = "N/A"
  REFERENCE_LONGITUDE = "N/A"
  SAMPLE_FIRST_PIXEL = 1
  SAMPLE_LAST_PIXEL = 4688
  SAMPLE_PROJECTION_OFFSET = 1927.25
  SECOND_STANDARD_PARALLEL = "N/A"
  WESTERNMOST_LONGITUDE = 337.027
END_OBJECT = IMAGE_MAP_PROJECTION
/* The JPEG2000 image data file associated with this label. */
OBJECT = COMPRESSED_FILE
  FILE_NAME = "HF865_0000_S13.JP2"
  RECORD_TYPE = UNDEFINED
  FILE_RECORDS = UNK
  ENCODING_TYPE = "JP2"
  INTERCHANGE_FORMAT = BINARY
  UNCOMPRESSED_FILE_NAME = "HF865_0000_S13.IMG"
  REQUIRED_STORAGE_BYTES = "82691632"
  ^DESCRIPTION = "JP2INFO.TXT"
END_OBJECT = COMPRESSED_FILE
END
