PDS_VERSION_ID = PDS3
/* FILE DATA ELEMENTS */
RECORD_TYPE = STREAM
/* POINTERS TO DATA OBJECTS */
^COMPRESSED_FILE = "HF866_0009_SR3.JP2"
/* IDENTIFICATION DATA ELEMENTS */
DATA_SET_ID = "MEX-M-HRSC-5-REFDR-MAPPROJECTED-V3.0"
DATA_SET_NAME = "MARS EXPRESS HRSC MAP PROJECTED REFDR V3.0"
DETECTOR_ID = MEX_HRSC_SRC
EVENT_TYPE = "MARS-LOCAL-CARTOGRAPHY-Pf-Tc"
INSTRUMENT_HOST_ID = MEX
INSTRUMENT_HOST_NAME = "MARS EXPRESS"
INSTRUMENT_ID = HRSC
INSTRUMENT_NAME = "HIGH RESOLUTION STEREO CAMERA"
MISSION_NAME = "MARS EXPRESS"
MISSION_PHASE_NAME = ME_Phase_35
PROCESSING_LEVEL_ID = 3
PRODUCT_CREATION_TIME = 2017-06-29T11:20:52.000Z
PRODUCT_ID = "HF866_0009_SR3.JP2"
RELEASE_ID = 0135
REVISION_ID = 0000
/* QUALITY DATA ELEMENTS */
DATA_QUALITY_ID = 1
DATA_QUALITY_DESC = "Data calculated based on original SPICE kernels"
/* TIME DATA ELEMENTS */
SPACECRAFT_CLOCK_START_COUNT = "1/0416124330.09058"
SPACECRAFT_CLOCK_STOP_COUNT = "1/0416124492.24394"
IMAGE_TIME = 2016-07-09T06:06:52.617Z
START_TIME = 2016-07-09T06:06:52.615Z
STOP_TIME = 2016-07-09T06:06:52.620Z
/* ORBITAL DATA ELEMENTS */
ASCENDING_NODE_LONGITUDE = 275.83
MAXIMUM_RESOLUTION = 3.876
FOOTPRINT_POINT_LATITUDE = (69.2037,69.2056,69.2083,69.2123, 69.2148,69.2171,69.2189,69.2218,69.2244 ,69.2269,69.23,69.234,69.2359,69.239, 69.2426,69.2448,69.2469,69.2496,69.2517 ,69.2544,69.2578,69.2599,69.2618, 69.2643,69.267,69.2682,69.2686,69.2689, 69.2693,69.2697,69.2701,69.2704,69.2708 ,69.2712,69.2716,69.2721,69.2725, 69.2729,69.2732,69.2736,69.274,69.2744, 69.2747,69.2751,69.2755,69.2758,69.2762 ,69.2766,69.2769,69.2773,69.2756, 69.2737,69.2714,69.269,69.2673,69.2643, 69.2624,69.2595,69.2572,69.2537,69.2513 ,69.2483,69.2443,69.2413,69.2385, 69.2356,69.232,69.2298,69.2267,69.2245, 69.2215,69.2182,69.2143,69.2118,69.2115 ,69.2111,69.2107,69.2104,69.21,69.2096, 69.2093,69.2089,69.2085,69.2081,69.2078 ,69.2074,69.207,69.2066,69.2063,69.2059 ,69.2055,69.2052,69.2049,69.2045, 69.2041,69.2038,69.2034,69.203,69.2026, 69.2037)
FOOTPRINT_POINT_LONGITUDE = (233.787,233.786,233.785,233.784, 233.783,233.782,233.781,233.78,233.779, 233.778,233.776,233.775,233.774,233.773 ,233.771,233.77,233.77,233.768,233.768, 233.766,233.765,233.764,233.763,233.762 ,233.761,233.767,233.774,233.781, 233.789,233.796,233.803,233.811,233.818 ,233.826,233.833,233.844,233.851, 233.859,233.866,233.873,233.881,233.888 ,233.896,233.903,233.91,233.918,233.925 ,233.932,233.94,233.947,233.949,233.95, 233.951,233.952,233.952,233.953,233.954 ,233.955,233.956,233.958,233.959,233.96 ,233.961,233.963,233.964,233.965, 233.966,233.967,233.968,233.969,233.971 ,233.972,233.973,233.974,233.967,233.96 ,233.952,233.945,233.937,233.93,233.923 ,233.915,233.908,233.901,233.893, 233.886,233.879,233.871,233.864,233.857 ,233.849,233.842,233.837,233.829, 233.822,233.814,233.807,233.8,233.792, 233.787)
ORBIT_NUMBER = 15866
ORBITAL_ECCENTRICITY = 0.573
ORBITAL_INCLINATION = 86.95
ORBITAL_SEMIMAJOR_AXIS = 8794.17
PERIAPSIS_ALTITUDE = 375.64
PERIAPSIS_ARGUMENT_ANGLE = 124.54
PERIAPSIS_TIME = 2016-07-09T06:10:32.000Z
SPACECRAFT_ORIENTATION = (0.0,-1.0,0.0)
^MEX_ORIENTATION_DESC = "MEX_ORIENTATION_DESC.TXT"
SPACECRAFT_POINTING_MODE = ACROSSTRACK
^MEX_POINTING_DESC = "MEX_POINTING_DESC.TXT"
RIGHT_ASCENSION = -1e+32
DECLINATION = -1e+32
OFFSET_ANGLE = -0.26
SPACECRAFT_SOLAR_DISTANCE = 2.1848e+08
TARGET_NAME = MARS
/* CAMERA DATA ELEMENTS */
BUFFER_MODE_ID = DIRECT
EXPOSURE_DURATION = 5.04
INST_CMPRS_NAME = NONE
INST_CMPRS_RATIO = 1.0
INST_CMPRS_QUALITY = -2147483648
INST_CMPRS_QUANTZ_TBL_ID = -2147483648
INSTRUMENT_TEMPERATURE = 8.18182
MISSING_FRAMES = 0
START_BIT = 0
/* RADIOMETRIC DATA ELEMENTS */
BANDWIDTH = 250.0
CENTER_FILTER_WAVELENGTH = 600.0
RADIANCE_OFFSET = -9.99e+31
RADIANCE_SCALING_FACTOR = -9.99e+31
REFLECTANCE_SCALING_FACTOR = -9.99e+31
MEX:REFLECTANCE_OFFSET = -9.99e+31
/* IMAGE OBJECT DEFINITIONS */
OBJECT = IMAGE
  INTERCHANGE_FORMAT = BINARY
  LINES = 966
  LINE_SAMPLES = 973
  SAMPLE_TYPE = UNSIGNED_INTEGER
  SAMPLE_BITS = 8
  BANDS = 1
  BAND_STORAGE_TYPE = BAND_SEQUENTIAL
  MAXIMUM = 239
  MEAN = 136.065
  MINIMUM = 20
  STANDARD_DEVIATION = 18.3878
END_OBJECT = IMAGE
/* MAP OBJECT DEFINITIONS */
OBJECT = IMAGE_MAP_PROJECTION
  ^DATA_SET_MAP_PROJECTION_CATALOG= "DSMAP.CAT"
  A_AXIS_RADIUS = 3396.19
  B_AXIS_RADIUS = 3396.19
  C_AXIS_RADIUS = 3396.19
  CENTER_LATITUDE = 0.0
  CENTER_LONGITUDE = 234.0
  COORDINATE_SYSTEM_NAME = PLANETOGRAPHIC
  COORDINATE_SYSTEM_TYPE = "BODY-FIXED ROTATING"
  EASTERNMOST_LONGITUDE = 233.974
  FIRST_STANDARD_PARALLEL = "N/A"
  LINE_FIRST_PIXEL = 1
  LINE_LAST_PIXEL = 966
  LINE_PROJECTION_OFFSET = 819547.0
  MAP_PROJECTION_ROTATION = 0.0
  MAP_PROJECTION_TYPE = SINUSOIDAL
  MAP_RESOLUTION = 11854.9393024378
  MAP_SCALE = 0.005
  MAXIMUM_LATITUDE = 69.2773
  MINIMUM_LATITUDE = 69.2026
  POSITIVE_LONGITUDE_DIRECTION = EAST
  REFERENCE_LATITUDE = "N/A"
  REFERENCE_LONGITUDE = "N/A"
  SAMPLE_FIRST_PIXEL = 1
  SAMPLE_LAST_PIXEL = 973
  SAMPLE_PROJECTION_OFFSET = 1185.0
  SECOND_STANDARD_PARALLEL = "N/A"
  WESTERNMOST_LONGITUDE = 233.761
END_OBJECT = IMAGE_MAP_PROJECTION
/* The JPEG2000 image data file associated with this label. */
OBJECT = COMPRESSED_FILE
  FILE_NAME = "HF866_0009_SR3.JP2"
  RECORD_TYPE = UNDEFINED
  FILE_RECORDS = UNK
  ENCODING_TYPE = "JP2"
  INTERCHANGE_FORMAT = BINARY
  UNCOMPRESSED_FILE_NAME = "HF866_0009_SR3.IMG"
  REQUIRED_STORAGE_BYTES = "958405"
  ^DESCRIPTION = "JP2INFO.TXT"
END_OBJECT = COMPRESSED_FILE
END
