PDS_VERSION_ID = PDS3
/* FILE DATA ELEMENTS */
RECORD_TYPE = STREAM
/* POINTERS TO DATA OBJECTS */
^COMPRESSED_FILE = "HF866_0011_SR3.JP2"
/* IDENTIFICATION DATA ELEMENTS */
DATA_SET_ID = "MEX-M-HRSC-5-REFDR-MAPPROJECTED-V3.0"
DATA_SET_NAME = "MARS EXPRESS HRSC MAP PROJECTED REFDR V3.0"
DETECTOR_ID = MEX_HRSC_SRC
EVENT_TYPE = "MARS-LOCAL-CARTOGRAPHY-Pf-Tc"
INSTRUMENT_HOST_ID = MEX
INSTRUMENT_HOST_NAME = "MARS EXPRESS"
INSTRUMENT_ID = HRSC
INSTRUMENT_NAME = "HIGH RESOLUTION STEREO CAMERA"
MISSION_NAME = "MARS EXPRESS"
MISSION_PHASE_NAME = ME_Phase_35
PROCESSING_LEVEL_ID = 3
PRODUCT_CREATION_TIME = 2017-06-29T11:20:52.000Z
PRODUCT_ID = "HF866_0011_SR3.JP2"
RELEASE_ID = 0135
REVISION_ID = 0000
/* QUALITY DATA ELEMENTS */
DATA_QUALITY_ID = 1
DATA_QUALITY_DESC = "Data calculated based on original SPICE kernels"
/* TIME DATA ELEMENTS */
SPACECRAFT_CLOCK_START_COUNT = "1/0416124330.09058"
SPACECRAFT_CLOCK_STOP_COUNT = "1/0416124492.24394"
IMAGE_TIME = 2016-07-09T06:06:53.707Z
START_TIME = 2016-07-09T06:06:53.705Z
STOP_TIME = 2016-07-09T06:06:53.710Z
/* ORBITAL DATA ELEMENTS */
ASCENDING_NODE_LONGITUDE = 275.83
MAXIMUM_RESOLUTION = 3.872
FOOTPRINT_POINT_LATITUDE = (69.1346,69.1382,69.1405,69.1439, 69.1461,69.1499,69.1521,69.1547,69.1581 ,69.1601,69.1617,69.165,69.1674,69.1691 ,69.1714,69.1743,69.1768,69.1799, 69.1824,69.1852,69.1893,69.1912,69.1938 ,69.1972,69.199,69.2002,69.2006,69.201, 69.2013,69.2017,69.2021,69.2025,69.2027 ,69.2031,69.2035,69.2038,69.2042, 69.2046,69.205,69.2053,69.2057,69.2061, 69.2064,69.2068,69.2072,69.2076,69.2079 ,69.2083,69.2087,69.209,69.2079,69.2052 ,69.2033,69.2005,69.1971,69.194,69.1917 ,69.1897,69.1865,69.1839,69.1819, 69.1789,69.1765,69.174,69.1703,69.1684, 69.1654,69.1636,69.1616,69.1588,69.1561 ,69.1534,69.1513,69.1484,69.1463, 69.1438,69.1434,69.1431,69.1427,69.1423 ,69.142,69.1416,69.1412,69.1408,69.1405 ,69.1401,69.1397,69.1394,69.139,69.1386 ,69.1383,69.1379,69.1375,69.1371, 69.1368,69.1364,69.136,69.1355,69.1351, 69.1346)
FOOTPRINT_POINT_LONGITUDE = (233.815,233.814,233.813,233.811,233.81 ,233.809,233.808,233.807,233.806, 233.805,233.804,233.803,233.802,233.801 ,233.8,233.799,233.798,233.797,233.796, 233.795,233.793,233.792,233.791,233.79, 233.789,233.792,233.8,233.807,233.814, 233.822,233.829,233.836,233.842,233.849 ,233.857,233.864,233.871,233.879, 233.886,233.893,233.901,233.908,233.915 ,233.923,233.93,233.937,233.945,233.952 ,233.959,233.967,233.976,233.977, 233.978,233.979,233.98,233.981,233.982, 233.983,233.984,233.985,233.986,233.987 ,233.988,233.989,233.991,233.991, 233.993,233.993,233.994,233.995,233.996 ,233.997,233.998,233.999,234.0,233.997, 233.99,233.983,233.975,233.968,233.961, 233.953,233.946,233.939,233.931,233.924 ,233.917,233.909,233.902,233.895, 233.887,233.88,233.873,233.865,233.858, 233.851,233.844,233.833,233.825, 233.815)
ORBIT_NUMBER = 15866
ORBITAL_ECCENTRICITY = 0.573
ORBITAL_INCLINATION = 86.95
ORBITAL_SEMIMAJOR_AXIS = 8794.17
PERIAPSIS_ALTITUDE = 375.64
PERIAPSIS_ARGUMENT_ANGLE = 124.54
PERIAPSIS_TIME = 2016-07-09T06:10:32.000Z
SPACECRAFT_ORIENTATION = (0.0,-1.0,0.0)
^MEX_ORIENTATION_DESC = "MEX_ORIENTATION_DESC.TXT"
SPACECRAFT_POINTING_MODE = ACROSSTRACK
^MEX_POINTING_DESC = "MEX_POINTING_DESC.TXT"
RIGHT_ASCENSION = -1e+32
DECLINATION = -1e+32
OFFSET_ANGLE = -0.26
SPACECRAFT_SOLAR_DISTANCE = 2.1848e+08
TARGET_NAME = MARS
/* CAMERA DATA ELEMENTS */
BUFFER_MODE_ID = DIRECT
EXPOSURE_DURATION = 5.04
INST_CMPRS_NAME = NONE
INST_CMPRS_RATIO = 1.0
INST_CMPRS_QUALITY = -2147483648
INST_CMPRS_QUANTZ_TBL_ID = -2147483648
INSTRUMENT_TEMPERATURE = 8.18182
MISSING_FRAMES = 0
START_BIT = 0
/* RADIOMETRIC DATA ELEMENTS */
BANDWIDTH = 250.0
CENTER_FILTER_WAVELENGTH = 600.0
RADIANCE_OFFSET = -9.99e+31
RADIANCE_SCALING_FACTOR = -9.99e+31
REFLECTANCE_SCALING_FACTOR = -9.99e+31
MEX:REFLECTANCE_OFFSET = -9.99e+31
/* IMAGE OBJECT DEFINITIONS */
OBJECT = IMAGE
  INTERCHANGE_FORMAT = BINARY
  LINES = 965
  LINE_SAMPLES = 973
  SAMPLE_TYPE = UNSIGNED_INTEGER
  SAMPLE_BITS = 8
  BANDS = 1
  BAND_STORAGE_TYPE = BAND_SEQUENTIAL
  MAXIMUM = 230
  MEAN = 128.771
  MINIMUM = 12
  STANDARD_DEVIATION = 19.5156
END_OBJECT = IMAGE
/* MAP OBJECT DEFINITIONS */
OBJECT = IMAGE_MAP_PROJECTION
  ^DATA_SET_MAP_PROJECTION_CATALOG= "DSMAP.CAT"
  A_AXIS_RADIUS = 3396.19
  B_AXIS_RADIUS = 3396.19
  C_AXIS_RADIUS = 3396.19
  CENTER_LATITUDE = 0.0
  CENTER_LONGITUDE = 234.0
  COORDINATE_SYSTEM_NAME = PLANETOGRAPHIC
  COORDINATE_SYSTEM_TYPE = "BODY-FIXED ROTATING"
  EASTERNMOST_LONGITUDE = 234.0
  FIRST_STANDARD_PARALLEL = "N/A"
  LINE_FIRST_PIXEL = 1
  LINE_LAST_PIXEL = 965
  LINE_PROJECTION_OFFSET = 818746.0
  MAP_PROJECTION_ROTATION = 0.0
  MAP_PROJECTION_TYPE = SINUSOIDAL
  MAP_RESOLUTION = 11854.9393024378
  MAP_SCALE = 0.005
  MAXIMUM_LATITUDE = 69.209
  MINIMUM_LATITUDE = 69.13460000000001
  POSITIVE_LONGITUDE_DIRECTION = EAST
  REFERENCE_LATITUDE = "N/A"
  REFERENCE_LONGITUDE = "N/A"
  SAMPLE_FIRST_PIXEL = 1
  SAMPLE_LAST_PIXEL = 973
  SAMPLE_PROJECTION_OFFSET = 1073.0
  SECOND_STANDARD_PARALLEL = "N/A"
  WESTERNMOST_LONGITUDE = 233.789
END_OBJECT = IMAGE_MAP_PROJECTION
/* The JPEG2000 image data file associated with this label. */
OBJECT = COMPRESSED_FILE
  FILE_NAME = "HF866_0011_SR3.JP2"
  RECORD_TYPE = UNDEFINED
  FILE_RECORDS = UNK
  ENCODING_TYPE = "JP2"
  INTERCHANGE_FORMAT = BINARY
  UNCOMPRESSED_FILE_NAME = "HF866_0011_SR3.IMG"
  REQUIRED_STORAGE_BYTES = "957432"
  ^DESCRIPTION = "JP2INFO.TXT"
END_OBJECT = COMPRESSED_FILE
END
