PDS_VERSION_ID = PDS3
/* FILE DATA ELEMENTS */
RECORD_TYPE = STREAM
/* POINTERS TO DATA OBJECTS */
^COMPRESSED_FILE = "HF866_0025_SR3.JP2"
/* IDENTIFICATION DATA ELEMENTS */
DATA_SET_ID = "MEX-M-HRSC-5-REFDR-MAPPROJECTED-V3.0"
DATA_SET_NAME = "MARS EXPRESS HRSC MAP PROJECTED REFDR V3.0"
DETECTOR_ID = MEX_HRSC_SRC
EVENT_TYPE = "MARS-LOCAL-CARTOGRAPHY-Pf-Tc"
INSTRUMENT_HOST_ID = MEX
INSTRUMENT_HOST_NAME = "MARS EXPRESS"
INSTRUMENT_ID = HRSC
INSTRUMENT_NAME = "HIGH RESOLUTION STEREO CAMERA"
MISSION_NAME = "MARS EXPRESS"
MISSION_PHASE_NAME = ME_Phase_35
PROCESSING_LEVEL_ID = 3
PRODUCT_CREATION_TIME = 2017-06-29T11:20:52.000Z
PRODUCT_ID = "HF866_0025_SR3.JP2"
RELEASE_ID = 0135
REVISION_ID = 0000
/* QUALITY DATA ELEMENTS */
DATA_QUALITY_ID = 1
DATA_QUALITY_DESC = "Data calculated based on original SPICE kernels"
/* TIME DATA ELEMENTS */
SPACECRAFT_CLOCK_START_COUNT = "1/0416124330.09058"
SPACECRAFT_CLOCK_STOP_COUNT = "1/0416124492.24394"
IMAGE_TIME = 2016-07-09T06:07:01.338Z
START_TIME = 2016-07-09T06:07:01.335Z
STOP_TIME = 2016-07-09T06:07:01.340Z
/* ORBITAL DATA ELEMENTS */
ASCENDING_NODE_LONGITUDE = 275.83
MAXIMUM_RESOLUTION = 3.845
FOOTPRINT_POINT_LATITUDE = (68.6622,68.6645,68.6674,68.6693, 68.6721,68.6757,68.6798,68.6831,68.6852 ,68.6878,68.6902,68.6927,68.6949, 68.6967,68.6994,68.7012,68.7032,68.7057 ,68.7078,68.7096,68.7121,68.7141, 68.7168,68.7202,68.7229,68.7244,68.7248 ,68.7251,68.7255,68.7259,68.7262, 68.7266,68.7269,68.7273,68.7277,68.728, 68.7284,68.7287,68.7291,68.7295,68.7298 ,68.7302,68.7305,68.7309,68.7312, 68.7316,68.7319,68.7323,68.7327,68.733, 68.733,68.7292,68.7266,68.7242,68.7225, 68.7198,68.7166,68.7136,68.7118,68.7078 ,68.7042,68.7015,68.6971,68.6934, 68.6916,68.6892,68.6854,68.683,68.6812, 68.6771,68.6745,68.6726,68.6702,68.6683 ,68.6679,68.6675,68.6671,68.6668, 68.6664,68.6661,68.6657,68.6654,68.665, 68.6646,68.6643,68.6639,68.6636,68.6632 ,68.6629,68.6625,68.6621,68.6618, 68.6614,68.6611,68.6607,68.6603,68.66, 68.6596,68.6593,68.6622)
FOOTPRINT_POINT_LONGITUDE = (234.001,234.0,233.999,233.998,233.997, 233.995,233.994,233.993,233.992,233.991 ,233.99,233.989,233.988,233.987,233.986 ,233.986,233.985,233.984,233.983, 233.982,233.981,233.981,233.98,233.978, 233.977,233.981,233.988,233.995,234.002 ,234.009,234.016,234.023,234.03,234.038 ,234.045,234.052,234.059,234.066, 234.073,234.08,234.088,234.095,234.102, 234.109,234.116,234.123,234.13,234.137, 234.145,234.152,234.158,234.16,234.161, 234.162,234.162,234.163,234.165,234.166 ,234.166,234.168,234.169,234.17,234.172 ,234.173,234.174,234.175,234.176, 234.177,234.178,234.179,234.18,234.181, 234.182,234.182,234.174,234.167,234.159 ,234.152,234.145,234.138,234.131, 234.124,234.117,234.11,234.102,234.095, 234.088,234.081,234.074,234.067,234.06, 234.053,234.046,234.038,234.031,234.024 ,234.017,234.01,234.003,234.001)
ORBIT_NUMBER = 15866
ORBITAL_ECCENTRICITY = 0.573
ORBITAL_INCLINATION = 86.95
ORBITAL_SEMIMAJOR_AXIS = 8794.17
PERIAPSIS_ALTITUDE = 375.64
PERIAPSIS_ARGUMENT_ANGLE = 124.54
PERIAPSIS_TIME = 2016-07-09T06:10:32.000Z
SPACECRAFT_ORIENTATION = (0.0,-1.0,0.0)
^MEX_ORIENTATION_DESC = "MEX_ORIENTATION_DESC.TXT"
SPACECRAFT_POINTING_MODE = ACROSSTRACK
^MEX_POINTING_DESC = "MEX_POINTING_DESC.TXT"
RIGHT_ASCENSION = -1e+32
DECLINATION = -1e+32
OFFSET_ANGLE = -0.26
SPACECRAFT_SOLAR_DISTANCE = 2.1848e+08
TARGET_NAME = MARS
/* CAMERA DATA ELEMENTS */
BUFFER_MODE_ID = DIRECT
EXPOSURE_DURATION = 5.04
INST_CMPRS_NAME = NONE
INST_CMPRS_RATIO = 1.0
INST_CMPRS_QUALITY = -2147483648
INST_CMPRS_QUANTZ_TBL_ID = -2147483648
INSTRUMENT_TEMPERATURE = 8.18182
MISSING_FRAMES = 0
START_BIT = 0
/* RADIOMETRIC DATA ELEMENTS */
BANDWIDTH = 250.0
CENTER_FILTER_WAVELENGTH = 600.0
RADIANCE_OFFSET = -9.99e+31
RADIANCE_SCALING_FACTOR = -9.99e+31
REFLECTANCE_SCALING_FACTOR = -9.99e+31
MEX:REFLECTANCE_OFFSET = -9.99e+31
/* IMAGE OBJECT DEFINITIONS */
OBJECT = IMAGE
  INTERCHANGE_FORMAT = BINARY
  LINES = 956
  LINE_SAMPLES = 965
  SAMPLE_TYPE = UNSIGNED_INTEGER
  SAMPLE_BITS = 8
  BANDS = 1
  BAND_STORAGE_TYPE = BAND_SEQUENTIAL
  MAXIMUM = 234
  MEAN = 129.788
  MINIMUM = 20
  STANDARD_DEVIATION = 19.5449
END_OBJECT = IMAGE
/* MAP OBJECT DEFINITIONS */
OBJECT = IMAGE_MAP_PROJECTION
  ^DATA_SET_MAP_PROJECTION_CATALOG= "DSMAP.CAT"
  A_AXIS_RADIUS = 3396.19
  B_AXIS_RADIUS = 3396.19
  C_AXIS_RADIUS = 3396.19
  CENTER_LATITUDE = 0.0
  CENTER_LONGITUDE = 234.0
  COORDINATE_SYSTEM_NAME = PLANETOGRAPHIC
  COORDINATE_SYSTEM_TYPE = "BODY-FIXED ROTATING"
  EASTERNMOST_LONGITUDE = 234.182
  FIRST_STANDARD_PARALLEL = "N/A"
  LINE_FIRST_PIXEL = 1
  LINE_LAST_PIXEL = 956
  LINE_PROJECTION_OFFSET = 813131.0
  MAP_PROJECTION_ROTATION = 0.0
  MAP_PROJECTION_TYPE = SINUSOIDAL
  MAP_RESOLUTION = 11854.9393024378
  MAP_SCALE = 0.005
  MAXIMUM_LATITUDE = 68.733
  MINIMUM_LATITUDE = 68.6593
  POSITIVE_LONGITUDE_DIRECTION = EAST
  REFERENCE_LATITUDE = "N/A"
  REFERENCE_LONGITUDE = "N/A"
  SAMPLE_FIRST_PIXEL = 1
  SAMPLE_LAST_PIXEL = 965
  SAMPLE_PROJECTION_OFFSET = 286.0
  SECOND_STANDARD_PARALLEL = "N/A"
  WESTERNMOST_LONGITUDE = 233.977
END_OBJECT = IMAGE_MAP_PROJECTION
/* The JPEG2000 image data file associated with this label. */
OBJECT = COMPRESSED_FILE
  FILE_NAME = "HF866_0025_SR3.JP2"
  RECORD_TYPE = UNDEFINED
  FILE_RECORDS = UNK
  ENCODING_TYPE = "JP2"
  INTERCHANGE_FORMAT = BINARY
  UNCOMPRESSED_FILE_NAME = "HF866_0025_SR3.IMG"
  REQUIRED_STORAGE_BYTES = "940875"
  ^DESCRIPTION = "JP2INFO.TXT"
END_OBJECT = COMPRESSED_FILE
END
