PDS_VERSION_ID = PDS3
/* FILE DATA ELEMENTS */
RECORD_TYPE = STREAM
/* POINTERS TO DATA OBJECTS */
^COMPRESSED_FILE = "HF866_0030_SR3.JP2"
/* IDENTIFICATION DATA ELEMENTS */
DATA_SET_ID = "MEX-M-HRSC-5-REFDR-MAPPROJECTED-V3.0"
DATA_SET_NAME = "MARS EXPRESS HRSC MAP PROJECTED REFDR V3.0"
DETECTOR_ID = MEX_HRSC_SRC
EVENT_TYPE = "MARS-LOCAL-CARTOGRAPHY-Pf-Tc"
INSTRUMENT_HOST_ID = MEX
INSTRUMENT_HOST_NAME = "MARS EXPRESS"
INSTRUMENT_ID = HRSC
INSTRUMENT_NAME = "HIGH RESOLUTION STEREO CAMERA"
MISSION_NAME = "MARS EXPRESS"
MISSION_PHASE_NAME = ME_Phase_35
PROCESSING_LEVEL_ID = 3
PRODUCT_CREATION_TIME = 2017-06-29T11:20:52.000Z
PRODUCT_ID = "HF866_0030_SR3.JP2"
RELEASE_ID = 0135
REVISION_ID = 0000
/* QUALITY DATA ELEMENTS */
DATA_QUALITY_ID = 1
DATA_QUALITY_DESC = "Data calculated based on original SPICE kernels"
/* TIME DATA ELEMENTS */
SPACECRAFT_CLOCK_START_COUNT = "1/0416124330.09058"
SPACECRAFT_CLOCK_STOP_COUNT = "1/0416124492.24394"
IMAGE_TIME = 2016-07-09T06:07:04.063Z
START_TIME = 2016-07-09T06:07:04.060Z
STOP_TIME = 2016-07-09T06:07:04.065Z
/* ORBITAL DATA ELEMENTS */
ASCENDING_NODE_LONGITUDE = 275.83
MAXIMUM_RESOLUTION = 3.836
FOOTPRINT_POINT_LATITUDE = (68.4908,68.494,68.4968,68.5,68.5028, 68.5053,68.5079,68.5103,68.5123,68.5153 ,68.5188,68.5229,68.5266,68.5292, 68.5309,68.5337,68.5359,68.5379,68.5398 ,68.5422,68.5447,68.5487,68.5504, 68.5522,68.5544,68.5547,68.5551,68.5555 ,68.5558,68.5562,68.5565,68.5569, 68.5572,68.5576,68.5579,68.5583,68.5586 ,68.559,68.5593,68.5597,68.5601,68.5604 ,68.5608,68.561,68.5614,68.5617,68.5621 ,68.5624,68.5628,68.5626,68.5592, 68.5568,68.5544,68.5522,68.5484,68.5466 ,68.5445,68.5419,68.5385,68.5355, 68.5334,68.531,68.5282,68.5264,68.5239, 68.52,68.5183,68.5154,68.5133,68.5107, 68.5087,68.5054,68.5028,68.5003,68.4982 ,68.4978,68.4975,68.4971,68.4968, 68.4964,68.4961,68.4957,68.4954,68.495, 68.4945,68.4941,68.4938,68.4934,68.4931 ,68.4927,68.4924,68.492,68.4917,68.4913 ,68.491,68.4906,68.4902,68.4899,68.4895 ,68.4908)
FOOTPRINT_POINT_LONGITUDE = (234.066,234.064,234.063,234.062, 234.061,234.06,234.059,234.058,234.058, 234.056,234.055,234.054,234.052,234.051 ,234.05,234.049,234.049,234.048,234.047 ,234.046,234.045,234.044,234.043, 234.042,234.047,234.054,234.061,234.068 ,234.075,234.082,234.09,234.097,234.104 ,234.111,234.118,234.125,234.132, 234.139,234.146,234.153,234.16,234.167, 234.174,234.18,234.187,234.194,234.201, 234.208,234.215,234.221,234.223,234.224 ,234.224,234.225,234.227,234.227, 234.228,234.229,234.23,234.231,234.232, 234.233,234.234,234.235,234.236,234.237 ,234.238,234.239,234.24,234.241,234.241 ,234.243,234.244,234.244,234.245, 234.238,234.231,234.224,234.217,234.21, 234.203,234.196,234.189,234.182,234.171 ,234.164,234.157,234.15,234.143,234.136 ,234.129,234.122,234.115,234.108, 234.101,234.094,234.087,234.08,234.073, 234.066)
ORBIT_NUMBER = 15866
ORBITAL_ECCENTRICITY = 0.573
ORBITAL_INCLINATION = 86.95
ORBITAL_SEMIMAJOR_AXIS = 8794.17
PERIAPSIS_ALTITUDE = 375.64
PERIAPSIS_ARGUMENT_ANGLE = 124.54
PERIAPSIS_TIME = 2016-07-09T06:10:32.000Z
SPACECRAFT_ORIENTATION = (0.0,-1.0,0.0)
^MEX_ORIENTATION_DESC = "MEX_ORIENTATION_DESC.TXT"
SPACECRAFT_POINTING_MODE = ACROSSTRACK
^MEX_POINTING_DESC = "MEX_POINTING_DESC.TXT"
RIGHT_ASCENSION = -1e+32
DECLINATION = -1e+32
OFFSET_ANGLE = -0.26
SPACECRAFT_SOLAR_DISTANCE = 2.1848e+08
TARGET_NAME = MARS
/* CAMERA DATA ELEMENTS */
BUFFER_MODE_ID = DIRECT
EXPOSURE_DURATION = 5.04
INST_CMPRS_NAME = NONE
INST_CMPRS_RATIO = 1.0
INST_CMPRS_QUALITY = -2147483648
INST_CMPRS_QUANTZ_TBL_ID = -2147483648
INSTRUMENT_TEMPERATURE = 8.18182
MISSING_FRAMES = 0
START_BIT = 0
/* RADIOMETRIC DATA ELEMENTS */
BANDWIDTH = 250.0
CENTER_FILTER_WAVELENGTH = 600.0
RADIANCE_OFFSET = -9.99e+31
RADIANCE_SCALING_FACTOR = -9.99e+31
REFLECTANCE_SCALING_FACTOR = -9.99e+31
MEX:REFLECTANCE_OFFSET = -9.99e+31
/* IMAGE OBJECT DEFINITIONS */
OBJECT = IMAGE
  INTERCHANGE_FORMAT = BINARY
  LINES = 953
  LINE_SAMPLES = 962
  SAMPLE_TYPE = UNSIGNED_INTEGER
  SAMPLE_BITS = 8
  BANDS = 1
  BAND_STORAGE_TYPE = BAND_SEQUENTIAL
  MAXIMUM = 235
  MEAN = 135.267
  MINIMUM = 24
  STANDARD_DEVIATION = 20.1206
END_OBJECT = IMAGE
/* MAP OBJECT DEFINITIONS */
OBJECT = IMAGE_MAP_PROJECTION
  ^DATA_SET_MAP_PROJECTION_CATALOG= "DSMAP.CAT"
  A_AXIS_RADIUS = 3396.19
  B_AXIS_RADIUS = 3396.19
  C_AXIS_RADIUS = 3396.19
  CENTER_LATITUDE = 0.0
  CENTER_LONGITUDE = 234.0
  COORDINATE_SYSTEM_NAME = PLANETOGRAPHIC
  COORDINATE_SYSTEM_TYPE = "BODY-FIXED ROTATING"
  EASTERNMOST_LONGITUDE = 234.245
  FIRST_STANDARD_PARALLEL = "N/A"
  LINE_FIRST_PIXEL = 1
  LINE_LAST_PIXEL = 953
  LINE_PROJECTION_OFFSET = 811123.0
  MAP_PROJECTION_ROTATION = 0.0
  MAP_PROJECTION_TYPE = SINUSOIDAL
  MAP_RESOLUTION = 11854.9393024378
  MAP_SCALE = 0.005
  MAXIMUM_LATITUDE = 68.5628
  MINIMUM_LATITUDE = 68.48950000000001
  POSITIVE_LONGITUDE_DIRECTION = EAST
  REFERENCE_LATITUDE = "N/A"
  REFERENCE_LONGITUDE = "N/A"
  SAMPLE_FIRST_PIXEL = 1
  SAMPLE_LAST_PIXEL = 962
  SAMPLE_PROJECTION_OFFSET = 7.0
  SECOND_STANDARD_PARALLEL = "N/A"
  WESTERNMOST_LONGITUDE = 234.042
END_OBJECT = IMAGE_MAP_PROJECTION
/* The JPEG2000 image data file associated with this label. */
OBJECT = COMPRESSED_FILE
  FILE_NAME = "HF866_0030_SR3.JP2"
  RECORD_TYPE = UNDEFINED
  FILE_RECORDS = UNK
  ENCODING_TYPE = "JP2"
  INTERCHANGE_FORMAT = BINARY
  UNCOMPRESSED_FILE_NAME = "HF866_0030_SR3.IMG"
  REQUIRED_STORAGE_BYTES = "935064"
  ^DESCRIPTION = "JP2INFO.TXT"
END_OBJECT = COMPRESSED_FILE
END
