PDS_VERSION_ID = PDS3
/* FILE DATA ELEMENTS */
RECORD_TYPE = STREAM
/* POINTERS TO DATA OBJECTS */
^COMPRESSED_FILE = "HF866_0034_SR3.JP2"
/* IDENTIFICATION DATA ELEMENTS */
DATA_SET_ID = "MEX-M-HRSC-5-REFDR-MAPPROJECTED-V3.0"
DATA_SET_NAME = "MARS EXPRESS HRSC MAP PROJECTED REFDR V3.0"
DETECTOR_ID = MEX_HRSC_SRC
EVENT_TYPE = "MARS-LOCAL-CARTOGRAPHY-Pf-Tc"
INSTRUMENT_HOST_ID = MEX
INSTRUMENT_HOST_NAME = "MARS EXPRESS"
INSTRUMENT_ID = HRSC
INSTRUMENT_NAME = "HIGH RESOLUTION STEREO CAMERA"
MISSION_NAME = "MARS EXPRESS"
MISSION_PHASE_NAME = ME_Phase_35
PROCESSING_LEVEL_ID = 3
PRODUCT_CREATION_TIME = 2017-06-29T11:20:52.000Z
PRODUCT_ID = "HF866_0034_SR3.JP2"
RELEASE_ID = 0135
REVISION_ID = 0000
/* QUALITY DATA ELEMENTS */
DATA_QUALITY_ID = 1
DATA_QUALITY_DESC = "Data calculated based on original SPICE kernels"
/* TIME DATA ELEMENTS */
SPACECRAFT_CLOCK_START_COUNT = "1/0416124330.09058"
SPACECRAFT_CLOCK_STOP_COUNT = "1/0416124492.24394"
IMAGE_TIME = 2016-07-09T06:07:06.243Z
START_TIME = 2016-07-09T06:07:06.240Z
STOP_TIME = 2016-07-09T06:07:06.245Z
/* ORBITAL DATA ELEMENTS */
ASCENDING_NODE_LONGITUDE = 275.83
MAXIMUM_RESOLUTION = 3.829
FOOTPRINT_POINT_LATITUDE = (68.3536,68.3556,68.3587,68.3614, 68.3632,68.3656,68.3688,68.3706,68.3734 ,68.3761,68.378,68.381,68.3827,68.3851, 68.3891,68.3926,68.3954,68.3978,68.4012 ,68.4029,68.4055,68.4072,68.4091,68.412 ,68.414,68.416,68.418,68.4184,68.4187, 68.4191,68.4194,68.4198,68.4201,68.4205 ,68.4208,68.4212,68.4215,68.4219, 68.4222,68.4226,68.4229,68.4233,68.4236 ,68.424,68.4243,68.4247,68.425,68.4254, 68.4257,68.4261,68.4264,68.4268,68.4235 ,68.4202,68.4179,68.4143,68.4108, 68.4091,68.4067,68.4042,68.4023,68.3985 ,68.396,68.3926,68.3902,68.3872,68.3846 ,68.3823,68.3804,68.3774,68.375,68.3723 ,68.3685,68.3653,68.3619,68.3616, 68.3612,68.3609,68.3605,68.3602,68.3598 ,68.3595,68.3592,68.3588,68.3585, 68.3581,68.3578,68.3574,68.3571,68.3567 ,68.3564,68.3561,68.3557,68.3554,68.355 ,68.3547,68.3543,68.354,68.3536, 68.3536)
FOOTPRINT_POINT_LONGITUDE = (234.117,234.116,234.115,234.114, 234.113,234.112,234.111,234.11,234.109, 234.108,234.108,234.107,234.106,234.105 ,234.104,234.102,234.101,234.1,234.099, 234.098,234.097,234.097,234.096,234.095 ,234.094,234.093,234.095,234.102, 234.109,234.116,234.123,234.13,234.137, 234.144,234.151,234.158,234.165,234.172 ,234.179,234.186,234.193,234.2,234.207, 234.214,234.221,234.228,234.235,234.242 ,234.249,234.256,234.263,234.27,234.272 ,234.273,234.274,234.276,234.277, 234.277,234.278,234.279,234.28,234.281, 234.282,234.284,234.284,234.286,234.286 ,234.287,234.288,234.289,234.29,234.291 ,234.292,234.293,234.293,234.286, 234.279,234.272,234.265,234.258,234.251 ,234.244,234.237,234.23,234.223,234.216 ,234.209,234.202,234.195,234.188, 234.181,234.176,234.169,234.162,234.155 ,234.148,234.141,234.134,234.127, 234.117)
ORBIT_NUMBER = 15866
ORBITAL_ECCENTRICITY = 0.573
ORBITAL_INCLINATION = 86.95
ORBITAL_SEMIMAJOR_AXIS = 8794.17
PERIAPSIS_ALTITUDE = 375.64
PERIAPSIS_ARGUMENT_ANGLE = 124.54
PERIAPSIS_TIME = 2016-07-09T06:10:32.000Z
SPACECRAFT_ORIENTATION = (0.0,-1.0,0.0)
^MEX_ORIENTATION_DESC = "MEX_ORIENTATION_DESC.TXT"
SPACECRAFT_POINTING_MODE = ACROSSTRACK
^MEX_POINTING_DESC = "MEX_POINTING_DESC.TXT"
RIGHT_ASCENSION = -1e+32
DECLINATION = -1e+32
OFFSET_ANGLE = -0.26
SPACECRAFT_SOLAR_DISTANCE = 2.1848e+08
TARGET_NAME = MARS
/* CAMERA DATA ELEMENTS */
BUFFER_MODE_ID = DIRECT
EXPOSURE_DURATION = 5.04
INST_CMPRS_NAME = NONE
INST_CMPRS_RATIO = 1.0
INST_CMPRS_QUALITY = -2147483648
INST_CMPRS_QUANTZ_TBL_ID = -2147483648
INSTRUMENT_TEMPERATURE = 8.18182
MISSING_FRAMES = 0
START_BIT = 0
/* RADIOMETRIC DATA ELEMENTS */
BANDWIDTH = 250.0
CENTER_FILTER_WAVELENGTH = 600.0
RADIANCE_OFFSET = -9.99e+31
RADIANCE_SCALING_FACTOR = -9.99e+31
REFLECTANCE_SCALING_FACTOR = -9.99e+31
MEX:REFLECTANCE_OFFSET = -9.99e+31
/* IMAGE OBJECT DEFINITIONS */
OBJECT = IMAGE
  INTERCHANGE_FORMAT = BINARY
  LINES = 951
  LINE_SAMPLES = 961
  SAMPLE_TYPE = UNSIGNED_INTEGER
  SAMPLE_BITS = 8
  BANDS = 1
  BAND_STORAGE_TYPE = BAND_SEQUENTIAL
  MAXIMUM = 234
  MEAN = 136.095
  MINIMUM = 34
  STANDARD_DEVIATION = 18.792
END_OBJECT = IMAGE
/* MAP OBJECT DEFINITIONS */
OBJECT = IMAGE_MAP_PROJECTION
  ^DATA_SET_MAP_PROJECTION_CATALOG= "DSMAP.CAT"
  A_AXIS_RADIUS = 3396.19
  B_AXIS_RADIUS = 3396.19
  C_AXIS_RADIUS = 3396.19
  CENTER_LATITUDE = 0.0
  CENTER_LONGITUDE = 234.0
  COORDINATE_SYSTEM_NAME = PLANETOGRAPHIC
  COORDINATE_SYSTEM_TYPE = "BODY-FIXED ROTATING"
  EASTERNMOST_LONGITUDE = 234.293
  FIRST_STANDARD_PARALLEL = "N/A"
  LINE_FIRST_PIXEL = 1
  LINE_LAST_PIXEL = 951
  LINE_PROJECTION_OFFSET = 809516.0
  MAP_PROJECTION_ROTATION = 0.0
  MAP_PROJECTION_TYPE = SINUSOIDAL
  MAP_RESOLUTION = 11854.9393024378
  MAP_SCALE = 0.005
  MAXIMUM_LATITUDE = 68.4268
  MINIMUM_LATITUDE = 68.3536
  POSITIVE_LONGITUDE_DIRECTION = EAST
  REFERENCE_LATITUDE = "N/A"
  REFERENCE_LONGITUDE = "N/A"
  SAMPLE_FIRST_PIXEL = 1
  SAMPLE_LAST_PIXEL = 961
  SAMPLE_PROJECTION_OFFSET = -215.0
  SECOND_STANDARD_PARALLEL = "N/A"
  WESTERNMOST_LONGITUDE = 234.093
END_OBJECT = IMAGE_MAP_PROJECTION
/* The JPEG2000 image data file associated with this label. */
OBJECT = COMPRESSED_FILE
  FILE_NAME = "HF866_0034_SR3.JP2"
  RECORD_TYPE = UNDEFINED
  FILE_RECORDS = UNK
  ENCODING_TYPE = "JP2"
  INTERCHANGE_FORMAT = BINARY
  UNCOMPRESSED_FILE_NAME = "HF866_0034_SR3.IMG"
  REQUIRED_STORAGE_BYTES = "932170"
  ^DESCRIPTION = "JP2INFO.TXT"
END_OBJECT = COMPRESSED_FILE
END
