PDS_VERSION_ID = PDS3
/* FILE DATA ELEMENTS */
RECORD_TYPE = STREAM
/* POINTERS TO DATA OBJECTS */
^COMPRESSED_FILE = "HF866_0040_SR3.JP2"
/* IDENTIFICATION DATA ELEMENTS */
DATA_SET_ID = "MEX-M-HRSC-5-REFDR-MAPPROJECTED-V3.0"
DATA_SET_NAME = "MARS EXPRESS HRSC MAP PROJECTED REFDR V3.0"
DETECTOR_ID = MEX_HRSC_SRC
EVENT_TYPE = "MARS-LOCAL-CARTOGRAPHY-Pf-Tc"
INSTRUMENT_HOST_ID = MEX
INSTRUMENT_HOST_NAME = "MARS EXPRESS"
INSTRUMENT_ID = HRSC
INSTRUMENT_NAME = "HIGH RESOLUTION STEREO CAMERA"
MISSION_NAME = "MARS EXPRESS"
MISSION_PHASE_NAME = ME_Phase_35
PROCESSING_LEVEL_ID = 3
PRODUCT_CREATION_TIME = 2017-06-29T11:20:52.000Z
PRODUCT_ID = "HF866_0040_SR3.JP2"
RELEASE_ID = 0135
REVISION_ID = 0000
/* QUALITY DATA ELEMENTS */
DATA_QUALITY_ID = 1
DATA_QUALITY_DESC = "Data calculated based on original SPICE kernels"
/* TIME DATA ELEMENTS */
SPACECRAFT_CLOCK_START_COUNT = "1/0416124330.09058"
SPACECRAFT_CLOCK_STOP_COUNT = "1/0416124492.24394"
IMAGE_TIME = 2016-07-09T06:07:09.513Z
START_TIME = 2016-07-09T06:07:09.510Z
STOP_TIME = 2016-07-09T06:07:09.515Z
/* ORBITAL DATA ELEMENTS */
ASCENDING_NODE_LONGITUDE = 275.83
MAXIMUM_RESOLUTION = 3.818
FOOTPRINT_POINT_LATITUDE = (68.1508,68.1527,68.1558,68.1592, 68.1615,68.1634,68.1657,68.1674,68.1697 ,68.1721,68.1749,68.1771,68.1802, 68.1824,68.1844,68.1871,68.1898,68.1918 ,68.1944,68.1964,68.199,68.2027,68.2043 ,68.2076,68.2096,68.2125,68.2138, 68.2142,68.2145,68.2149,68.2152,68.2156 ,68.2159,68.2163,68.2166,68.217,68.2173 ,68.2177,68.218,68.2183,68.2187,68.219, 68.2194,68.2197,68.2201,68.2204,68.2207 ,68.2211,68.2214,68.2218,68.2221, 68.2207,68.219,68.2163,68.2145,68.2115, 68.2084,68.2054,68.2034,68.2009,68.1973 ,68.1955,68.1931,68.1897,68.186,68.1827 ,68.1806,68.1774,68.1742,68.1712, 68.1681,68.1642,68.1617,68.1587,68.1575 ,68.1571,68.1568,68.1564,68.1561, 68.1557,68.1554,68.1551,68.1547,68.1544 ,68.154,68.1537,68.1533,68.153,68.1526, 68.1523,68.152,68.1516,68.1513,68.1509, 68.1506,68.1502,68.1499,68.1495,68.1492 ,68.1508)
FOOTPRINT_POINT_LONGITUDE = (234.191,234.19,234.189,234.188,234.187 ,234.186,234.186,234.185,234.184, 234.183,234.182,234.181,234.18,234.18, 234.179,234.178,234.177,234.176,234.175 ,234.174,234.173,234.172,234.171,234.17 ,234.17,234.168,234.174,234.182,234.189 ,234.196,234.203,234.21,234.217,234.224 ,234.231,234.238,234.245,234.251, 234.258,234.265,234.272,234.279,234.286 ,234.293,234.3,234.307,234.314,234.321, 234.328,234.335,234.342,234.345,234.346 ,234.346,234.347,234.348,234.349,234.35 ,234.351,234.352,234.353,234.354, 234.355,234.356,234.357,234.358,234.359 ,234.36,234.362,234.363,234.364,234.365 ,234.366,234.367,234.364,234.357,234.35 ,234.343,234.336,234.329,234.322, 234.315,234.309,234.302,234.295,234.288 ,234.281,234.274,234.267,234.26,234.253 ,234.246,234.239,234.232,234.226, 234.219,234.212,234.205,234.198, 234.191)
ORBIT_NUMBER = 15866
ORBITAL_ECCENTRICITY = 0.573
ORBITAL_INCLINATION = 86.95
ORBITAL_SEMIMAJOR_AXIS = 8794.17
PERIAPSIS_ALTITUDE = 375.64
PERIAPSIS_ARGUMENT_ANGLE = 124.54
PERIAPSIS_TIME = 2016-07-09T06:10:32.000Z
SPACECRAFT_ORIENTATION = (0.0,-1.0,0.0)
^MEX_ORIENTATION_DESC = "MEX_ORIENTATION_DESC.TXT"
SPACECRAFT_POINTING_MODE = ACROSSTRACK
^MEX_POINTING_DESC = "MEX_POINTING_DESC.TXT"
RIGHT_ASCENSION = -1e+32
DECLINATION = -1e+32
OFFSET_ANGLE = -0.26
SPACECRAFT_SOLAR_DISTANCE = 2.1848e+08
TARGET_NAME = MARS
/* CAMERA DATA ELEMENTS */
BUFFER_MODE_ID = DIRECT
EXPOSURE_DURATION = 5.04
INST_CMPRS_NAME = NONE
INST_CMPRS_RATIO = 1.0
INST_CMPRS_QUALITY = -2147483648
INST_CMPRS_QUANTZ_TBL_ID = -2147483648
INSTRUMENT_TEMPERATURE = 8.18182
MISSING_FRAMES = 0
START_BIT = 0
/* RADIOMETRIC DATA ELEMENTS */
BANDWIDTH = 250.0
CENTER_FILTER_WAVELENGTH = 600.0
RADIANCE_OFFSET = -9.99e+31
RADIANCE_SCALING_FACTOR = -9.99e+31
REFLECTANCE_SCALING_FACTOR = -9.99e+31
MEX:REFLECTANCE_OFFSET = -9.99e+31
/* IMAGE OBJECT DEFINITIONS */
OBJECT = IMAGE
  INTERCHANGE_FORMAT = BINARY
  LINES = 946
  LINE_SAMPLES = 958
  SAMPLE_TYPE = UNSIGNED_INTEGER
  SAMPLE_BITS = 8
  BANDS = 1
  BAND_STORAGE_TYPE = BAND_SEQUENTIAL
  MAXIMUM = 237
  MEAN = 130.213
  MINIMUM = 10
  STANDARD_DEVIATION = 20.0179
END_OBJECT = IMAGE
/* MAP OBJECT DEFINITIONS */
OBJECT = IMAGE_MAP_PROJECTION
  ^DATA_SET_MAP_PROJECTION_CATALOG= "DSMAP.CAT"
  A_AXIS_RADIUS = 3396.19
  B_AXIS_RADIUS = 3396.19
  C_AXIS_RADIUS = 3396.19
  CENTER_LATITUDE = 0.0
  CENTER_LONGITUDE = 234.0
  COORDINATE_SYSTEM_NAME = PLANETOGRAPHIC
  COORDINATE_SYSTEM_TYPE = "BODY-FIXED ROTATING"
  EASTERNMOST_LONGITUDE = 234.367
  FIRST_STANDARD_PARALLEL = "N/A"
  LINE_FIRST_PIXEL = 1
  LINE_LAST_PIXEL = 946
  LINE_PROJECTION_OFFSET = 807103.0
  MAP_PROJECTION_ROTATION = 0.0
  MAP_PROJECTION_TYPE = SINUSOIDAL
  MAP_RESOLUTION = 11854.9393024378
  MAP_SCALE = 0.005
  MAXIMUM_LATITUDE = 68.2221
  MINIMUM_LATITUDE = 68.14919999999999
  POSITIVE_LONGITUDE_DIRECTION = EAST
  REFERENCE_LATITUDE = "N/A"
  REFERENCE_LONGITUDE = "N/A"
  SAMPLE_FIRST_PIXEL = 1
  SAMPLE_LAST_PIXEL = 958
  SAMPLE_PROJECTION_OFFSET = -550.0
  SECOND_STANDARD_PARALLEL = "N/A"
  WESTERNMOST_LONGITUDE = 234.168
END_OBJECT = IMAGE_MAP_PROJECTION
/* The JPEG2000 image data file associated with this label. */
OBJECT = COMPRESSED_FILE
  FILE_NAME = "HF866_0040_SR3.JP2"
  RECORD_TYPE = UNDEFINED
  FILE_RECORDS = UNK
  ENCODING_TYPE = "JP2"
  INTERCHANGE_FORMAT = BINARY
  UNCOMPRESSED_FILE_NAME = "HF866_0040_SR3.IMG"
  REQUIRED_STORAGE_BYTES = "924470"
  ^DESCRIPTION = "JP2INFO.TXT"
END_OBJECT = COMPRESSED_FILE
END
