PDS_VERSION_ID = PDS3
/* FILE DATA ELEMENTS */
RECORD_TYPE = STREAM
/* POINTERS TO DATA OBJECTS */
^COMPRESSED_FILE = "HF866_0049_SR3.JP2"
/* IDENTIFICATION DATA ELEMENTS */
DATA_SET_ID = "MEX-M-HRSC-5-REFDR-MAPPROJECTED-V3.0"
DATA_SET_NAME = "MARS EXPRESS HRSC MAP PROJECTED REFDR V3.0"
DETECTOR_ID = MEX_HRSC_SRC
EVENT_TYPE = "MARS-LOCAL-CARTOGRAPHY-Pf-Tc"
INSTRUMENT_HOST_ID = MEX
INSTRUMENT_HOST_NAME = "MARS EXPRESS"
INSTRUMENT_ID = HRSC
INSTRUMENT_NAME = "HIGH RESOLUTION STEREO CAMERA"
MISSION_NAME = "MARS EXPRESS"
MISSION_PHASE_NAME = ME_Phase_35
PROCESSING_LEVEL_ID = 3
PRODUCT_CREATION_TIME = 2017-06-29T11:20:52.000Z
PRODUCT_ID = "HF866_0049_SR3.JP2"
RELEASE_ID = 0135
REVISION_ID = 0000
/* QUALITY DATA ELEMENTS */
DATA_QUALITY_ID = 1
DATA_QUALITY_DESC = "Data calculated based on original SPICE kernels"
/* TIME DATA ELEMENTS */
SPACECRAFT_CLOCK_START_COUNT = "1/0416124330.09058"
SPACECRAFT_CLOCK_STOP_COUNT = "1/0416124492.24394"
IMAGE_TIME = 2016-07-09T06:07:14.418Z
START_TIME = 2016-07-09T06:07:14.416Z
STOP_TIME = 2016-07-09T06:07:14.421Z
/* ORBITAL DATA ELEMENTS */
ASCENDING_NODE_LONGITUDE = 275.83
MAXIMUM_RESOLUTION = 3.802
FOOTPRINT_POINT_LATITUDE = (67.8429,67.8448,67.8476,67.8503, 67.8525,67.8544,67.8571,67.859,67.8616, 67.8638,67.8666,67.8685,67.8718,67.8754 ,67.8779,67.8816,67.8841,67.8878,67.89, 67.893,67.895,67.8978,67.8996,67.902, 67.9038,67.9055,67.9069,67.9072,67.9075 ,67.9079,67.9082,67.9086,67.9089, 67.9092,67.9096,67.9099,67.9103,67.9106 ,67.9109,67.9113,67.9116,67.9119, 67.9123,67.9126,67.9129,67.9133,67.9136 ,67.9139,67.9143,67.9146,67.915,67.9125 ,67.9107,67.9082,67.9063,67.9034, 67.9013,67.8981,67.8952,67.8928,67.8893 ,67.8859,67.8823,67.88,67.8777,67.8748, 67.8727,67.8691,67.8672,67.8633,67.8603 ,67.8582,67.8552,67.8531,67.8505, 67.8502,67.8499,67.8495,67.8492,67.8489 ,67.8485,67.8482,67.8479,67.8475, 67.8472,67.8469,67.8465,67.8462,67.8458 ,67.8455,67.8452,67.8448,67.8445, 67.8442,67.8438,67.8435,67.8431,67.8428 ,67.8425,67.8429)
FOOTPRINT_POINT_LONGITUDE = (234.301,234.3,234.299,234.298,234.298, 234.297,234.296,234.295,234.294,234.294 ,234.293,234.292,234.291,234.29,234.289 ,234.287,234.286,234.285,234.284, 234.283,234.283,234.282,234.281,234.28, 234.279,234.279,234.285,234.292,234.299 ,234.306,234.313,234.32,234.326,234.333 ,234.34,234.347,234.354,234.36,234.367, 234.374,234.381,234.388,234.394,234.401 ,234.408,234.415,234.422,234.429, 234.435,234.442,234.449,234.453,234.453 ,234.454,234.455,234.456,234.456, 234.458,234.459,234.459,234.461,234.462 ,234.463,234.464,234.465,234.466, 234.466,234.468,234.468,234.47,234.471, 234.471,234.472,234.473,234.47,234.464, 234.457,234.45,234.443,234.436,234.43, 234.423,234.416,234.409,234.402,234.396 ,234.389,234.382,234.375,234.369, 234.362,234.355,234.348,234.341,234.335 ,234.328,234.321,234.314,234.307, 234.301)
ORBIT_NUMBER = 15866
ORBITAL_ECCENTRICITY = 0.573
ORBITAL_INCLINATION = 86.95
ORBITAL_SEMIMAJOR_AXIS = 8794.17
PERIAPSIS_ALTITUDE = 375.64
PERIAPSIS_ARGUMENT_ANGLE = 124.54
PERIAPSIS_TIME = 2016-07-09T06:10:32.000Z
SPACECRAFT_ORIENTATION = (0.0,-1.0,0.0)
^MEX_ORIENTATION_DESC = "MEX_ORIENTATION_DESC.TXT"
SPACECRAFT_POINTING_MODE = ACROSSTRACK
^MEX_POINTING_DESC = "MEX_POINTING_DESC.TXT"
RIGHT_ASCENSION = -1e+32
DECLINATION = -1e+32
OFFSET_ANGLE = -0.26
SPACECRAFT_SOLAR_DISTANCE = 2.1848e+08
TARGET_NAME = MARS
/* CAMERA DATA ELEMENTS */
BUFFER_MODE_ID = DIRECT
EXPOSURE_DURATION = 5.04
INST_CMPRS_NAME = NONE
INST_CMPRS_RATIO = 1.0
INST_CMPRS_QUALITY = -2147483648
INST_CMPRS_QUANTZ_TBL_ID = -2147483648
INSTRUMENT_TEMPERATURE = 8.18182
MISSING_FRAMES = 0
START_BIT = 0
/* RADIOMETRIC DATA ELEMENTS */
BANDWIDTH = 250.0
CENTER_FILTER_WAVELENGTH = 600.0
RADIANCE_OFFSET = -9.99e+31
RADIANCE_SCALING_FACTOR = -9.99e+31
REFLECTANCE_SCALING_FACTOR = -9.99e+31
MEX:REFLECTANCE_OFFSET = -9.99e+31
/* IMAGE OBJECT DEFINITIONS */
OBJECT = IMAGE
  INTERCHANGE_FORMAT = BINARY
  LINES = 942
  LINE_SAMPLES = 954
  SAMPLE_TYPE = UNSIGNED_INTEGER
  SAMPLE_BITS = 8
  BANDS = 1
  BAND_STORAGE_TYPE = BAND_SEQUENTIAL
  MAXIMUM = 247
  MEAN = 131.263
  MINIMUM = 18
  STANDARD_DEVIATION = 19.1862
END_OBJECT = IMAGE
/* MAP OBJECT DEFINITIONS */
OBJECT = IMAGE_MAP_PROJECTION
  ^DATA_SET_MAP_PROJECTION_CATALOG= "DSMAP.CAT"
  A_AXIS_RADIUS = 3396.19
  B_AXIS_RADIUS = 3396.19
  C_AXIS_RADIUS = 3396.19
  CENTER_LATITUDE = 0.0
  CENTER_LONGITUDE = 234.0
  COORDINATE_SYSTEM_NAME = PLANETOGRAPHIC
  COORDINATE_SYSTEM_TYPE = "BODY-FIXED ROTATING"
  EASTERNMOST_LONGITUDE = 234.473
  FIRST_STANDARD_PARALLEL = "N/A"
  LINE_FIRST_PIXEL = 1
  LINE_LAST_PIXEL = 942
  LINE_PROJECTION_OFFSET = 803481.0
  MAP_PROJECTION_ROTATION = 0.0
  MAP_PROJECTION_TYPE = SINUSOIDAL
  MAP_RESOLUTION = 11854.9393024378
  MAP_SCALE = 0.005
  MAXIMUM_LATITUDE = 67.91500000000001
  MINIMUM_LATITUDE = 67.8425
  POSITIVE_LONGITUDE_DIRECTION = EAST
  REFERENCE_LATITUDE = "N/A"
  REFERENCE_LONGITUDE = "N/A"
  SAMPLE_FIRST_PIXEL = 1
  SAMPLE_LAST_PIXEL = 954
  SAMPLE_PROJECTION_OFFSET = -1049.0
  SECOND_STANDARD_PARALLEL = "N/A"
  WESTERNMOST_LONGITUDE = 234.279
END_OBJECT = IMAGE_MAP_PROJECTION
/* The JPEG2000 image data file associated with this label. */
OBJECT = COMPRESSED_FILE
  FILE_NAME = "HF866_0049_SR3.JP2"
  RECORD_TYPE = UNDEFINED
  FILE_RECORDS = UNK
  ENCODING_TYPE = "JP2"
  INTERCHANGE_FORMAT = BINARY
  UNCOMPRESSED_FILE_NAME = "HF866_0049_SR3.IMG"
  REQUIRED_STORAGE_BYTES = "916794"
  ^DESCRIPTION = "JP2INFO.TXT"
END_OBJECT = COMPRESSED_FILE
END
