PDS_VERSION_ID = PDS3
/* FILE DATA ELEMENTS */
RECORD_TYPE = STREAM
/* POINTERS TO DATA OBJECTS */
^COMPRESSED_FILE = "HF866_0067_SR3.JP2"
/* IDENTIFICATION DATA ELEMENTS */
DATA_SET_ID = "MEX-M-HRSC-5-REFDR-MAPPROJECTED-V3.0"
DATA_SET_NAME = "MARS EXPRESS HRSC MAP PROJECTED REFDR V3.0"
DETECTOR_ID = MEX_HRSC_SRC
EVENT_TYPE = "MARS-LOCAL-CARTOGRAPHY-Pf-Tc"
INSTRUMENT_HOST_ID = MEX
INSTRUMENT_HOST_NAME = "MARS EXPRESS"
INSTRUMENT_ID = HRSC
INSTRUMENT_NAME = "HIGH RESOLUTION STEREO CAMERA"
MISSION_NAME = "MARS EXPRESS"
MISSION_PHASE_NAME = ME_Phase_35
PROCESSING_LEVEL_ID = 3
PRODUCT_CREATION_TIME = 2017-06-29T11:20:52.000Z
PRODUCT_ID = "HF866_0067_SR3.JP2"
RELEASE_ID = 0135
REVISION_ID = 0000
/* QUALITY DATA ELEMENTS */
DATA_QUALITY_ID = 1
DATA_QUALITY_DESC = "Data calculated based on original SPICE kernels"
/* TIME DATA ELEMENTS */
SPACECRAFT_CLOCK_START_COUNT = "1/0416124330.09058"
SPACECRAFT_CLOCK_STOP_COUNT = "1/0416124492.24394"
IMAGE_TIME = 2016-07-09T06:07:24.228Z
START_TIME = 2016-07-09T06:07:24.226Z
STOP_TIME = 2016-07-09T06:07:24.231Z
/* ORBITAL DATA ELEMENTS */
ASCENDING_NODE_LONGITUDE = 275.83
MAXIMUM_RESOLUTION = 3.77
FOOTPRINT_POINT_LATITUDE = (67.2287,67.2307,67.2328,67.2356, 67.2396,67.2415,67.2441,67.2457,67.2483 ,67.2503,67.2536,67.2558,67.2575, 67.2608,67.2635,67.2653,67.2674,67.2707 ,67.2733,67.275,67.2776,67.2813,67.2844 ,67.2865,67.2882,67.2904,67.2917, 67.2921,67.2924,67.2927,67.2932,67.2935 ,67.2938,67.2942,67.2945,67.2948, 67.2951,67.2955,67.2958,67.2961,67.2964 ,67.2967,67.2971,67.2974,67.2977,67.298 ,67.2983,67.2987,67.299,67.2993,67.2996 ,67.297,67.2952,67.2928,67.2898,67.2879 ,67.2849,67.2813,67.2789,67.2764, 67.2737,67.2716,67.2697,67.2674,67.2646 ,67.2611,67.2576,67.2554,67.2517, 67.2492,67.2473,67.2451,67.2416,67.2391 ,67.2357,67.2353,67.235,67.2347,67.2344 ,67.2341,67.2337,67.2334,67.2331, 67.2328,67.2325,67.2321,67.2318,67.2315 ,67.2312,67.2308,67.2305,67.2302, 67.2299,67.2295,67.2292,67.2289,67.2286 ,67.2282,67.2279,67.2287)
FOOTPRINT_POINT_LONGITUDE = (234.51,234.51,234.509,234.508,234.507, 234.506,234.505,234.505,234.504,234.503 ,234.502,234.501,234.501,234.5,234.499, 234.498,234.498,234.497,234.496,234.495 ,234.494,234.493,234.492,234.491, 234.491,234.49,234.495,234.501,234.508, 234.514,234.524,234.531,234.538,234.544 ,234.551,234.557,234.564,234.57,234.577 ,234.584,234.59,234.597,234.603,234.61, 234.617,234.623,234.63,234.636,234.643, 234.649,234.656,234.658,234.658,234.659 ,234.66,234.661,234.662,234.663,234.664 ,234.665,234.665,234.666,234.667, 234.668,234.668,234.67,234.671,234.671, 234.673,234.673,234.674,234.675,234.676 ,234.677,234.674,234.668,234.661, 234.655,234.648,234.642,234.635,234.628 ,234.622,234.615,234.609,234.602, 234.596,234.589,234.582,234.576,234.569 ,234.563,234.556,234.55,234.543,234.536 ,234.53,234.523,234.517,234.51)
ORBIT_NUMBER = 15866
ORBITAL_ECCENTRICITY = 0.573
ORBITAL_INCLINATION = 86.95
ORBITAL_SEMIMAJOR_AXIS = 8794.17
PERIAPSIS_ALTITUDE = 375.64
PERIAPSIS_ARGUMENT_ANGLE = 124.54
PERIAPSIS_TIME = 2016-07-09T06:10:32.000Z
SPACECRAFT_ORIENTATION = (0.0,-1.0,0.0)
^MEX_ORIENTATION_DESC = "MEX_ORIENTATION_DESC.TXT"
SPACECRAFT_POINTING_MODE = ACROSSTRACK
^MEX_POINTING_DESC = "MEX_POINTING_DESC.TXT"
RIGHT_ASCENSION = -1e+32
DECLINATION = -1e+32
OFFSET_ANGLE = -0.26
SPACECRAFT_SOLAR_DISTANCE = 2.1848e+08
TARGET_NAME = MARS
/* CAMERA DATA ELEMENTS */
BUFFER_MODE_ID = DIRECT
EXPOSURE_DURATION = 5.04
INST_CMPRS_NAME = NONE
INST_CMPRS_RATIO = 1.0
INST_CMPRS_QUALITY = -2147483648
INST_CMPRS_QUANTZ_TBL_ID = -2147483648
INSTRUMENT_TEMPERATURE = 8.18182
MISSING_FRAMES = 0
START_BIT = 0
/* RADIOMETRIC DATA ELEMENTS */
BANDWIDTH = 250.0
CENTER_FILTER_WAVELENGTH = 600.0
RADIANCE_OFFSET = -9.99e+31
RADIANCE_SCALING_FACTOR = -9.99e+31
REFLECTANCE_SCALING_FACTOR = -9.99e+31
MEX:REFLECTANCE_OFFSET = -9.99e+31
/* IMAGE OBJECT DEFINITIONS */
OBJECT = IMAGE
  INTERCHANGE_FORMAT = BINARY
  LINES = 930
  LINE_SAMPLES = 934
  SAMPLE_TYPE = UNSIGNED_INTEGER
  SAMPLE_BITS = 8
  BANDS = 1
  BAND_STORAGE_TYPE = BAND_SEQUENTIAL
  MAXIMUM = 246
  MEAN = 134.425
  MINIMUM = 34
  STANDARD_DEVIATION = 20.081
END_OBJECT = IMAGE
/* MAP OBJECT DEFINITIONS */
OBJECT = IMAGE_MAP_PROJECTION
  ^DATA_SET_MAP_PROJECTION_CATALOG= "DSMAP.CAT"
  A_AXIS_RADIUS = 3396.19
  B_AXIS_RADIUS = 3396.19
  C_AXIS_RADIUS = 3396.19
  CENTER_LATITUDE = 0.0
  CENTER_LONGITUDE = 235.0
  COORDINATE_SYSTEM_NAME = PLANETOGRAPHIC
  COORDINATE_SYSTEM_TYPE = "BODY-FIXED ROTATING"
  EASTERNMOST_LONGITUDE = 234.677
  FIRST_STANDARD_PARALLEL = "N/A"
  LINE_FIRST_PIXEL = 1
  LINE_LAST_PIXEL = 930
  LINE_PROJECTION_OFFSET = 796222.0
  MAP_PROJECTION_ROTATION = 0.0
  MAP_PROJECTION_TYPE = SINUSOIDAL
  MAP_RESOLUTION = 11854.9393024378
  MAP_SCALE = 0.005
  MAXIMUM_LATITUDE = 67.2996
  MINIMUM_LATITUDE = 67.22790000000001
  POSITIVE_LONGITUDE_DIRECTION = EAST
  REFERENCE_LATITUDE = "N/A"
  REFERENCE_LONGITUDE = "N/A"
  SAMPLE_FIRST_PIXEL = 1
  SAMPLE_LAST_PIXEL = 934
  SAMPLE_PROJECTION_OFFSET = 2510.0
  SECOND_STANDARD_PARALLEL = "N/A"
  WESTERNMOST_LONGITUDE = 234.49
END_OBJECT = IMAGE_MAP_PROJECTION
/* The JPEG2000 image data file associated with this label. */
OBJECT = COMPRESSED_FILE
  FILE_NAME = "HF866_0067_SR3.JP2"
  RECORD_TYPE = UNDEFINED
  FILE_RECORDS = UNK
  ENCODING_TYPE = "JP2"
  INTERCHANGE_FORMAT = BINARY
  UNCOMPRESSED_FILE_NAME = "HF866_0067_SR3.IMG"
  REQUIRED_STORAGE_BYTES = "886366"
  ^DESCRIPTION = "JP2INFO.TXT"
END_OBJECT = COMPRESSED_FILE
END
