PDS_VERSION_ID = PDS3
/* FILE DATA ELEMENTS */
RECORD_TYPE = STREAM
/* POINTERS TO DATA OBJECTS */
^COMPRESSED_FILE = "HF869_0000_ND3.JP2"
/* IDENTIFICATION DATA ELEMENTS */
DATA_SET_ID = "MEX-M-HRSC-5-REFDR-MAPPROJECTED-V3.0"
DATA_SET_NAME = "MARS EXPRESS HRSC MAP PROJECTED REFDR V3.0"
DETECTOR_ID = MEX_HRSC_NADIR
EVENT_TYPE = "MARS-REGIONAL-STEREO-Te"
INSTRUMENT_HOST_ID = MEX
INSTRUMENT_HOST_NAME = "MARS EXPRESS"
INSTRUMENT_ID = HRSC
INSTRUMENT_NAME = "HIGH RESOLUTION STEREO CAMERA"
MISSION_NAME = "MARS EXPRESS"
MISSION_PHASE_NAME = ME_Phase_35
PROCESSING_LEVEL_ID = 3
PRODUCT_CREATION_TIME = 2017-06-29T11:20:52.000Z
PRODUCT_ID = "HF869_0000_ND3.JP2"
RELEASE_ID = 0135
REVISION_ID = 0000
/* QUALITY DATA ELEMENTS */
DATA_QUALITY_ID = 1
DATA_QUALITY_DESC = "Data calculated based on original SPICE kernels"
/* TIME DATA ELEMENTS */
SPACECRAFT_CLOCK_START_COUNT = "1/0416200270.09033"
SPACECRAFT_CLOCK_STOP_COUNT = "1/0416200452.34131"
START_TIME = 2016-07-10T03:11:52.536Z
STOP_TIME = 2016-07-10T03:13:37.532Z
/* ORBITAL DATA ELEMENTS */
ASCENDING_NODE_LONGITUDE = 275.77
MAXIMUM_RESOLUTION = 15.5
FOOTPRINT_POINT_LATITUDE = (47.7795,47.7748,47.7678,47.7573, 47.7483,47.7359,47.6618,47.5286,47.3954 ,47.2622,47.1291,46.996,46.7964,46.6633 ,46.5303,46.3309,46.198,45.9987,45.8659 ,45.7331,45.6004,45.4677,45.335,45.2024 ,45.0698,44.9372,44.8047,44.6722, 44.4736,44.3413,44.2089,44.0766,43.9444 ,43.6801,43.4159,43.086,42.8222,42.5587 ,42.2953,42.0322,41.8973,41.7623, 41.6274,41.4925,41.3577,41.2229,41.0882 ,41.0951,41.1055,41.1134,41.1176, 41.1208,41.1242,41.2593,41.3944,41.5296 ,41.6648,41.8001,41.9354,42.0706, 42.3344,42.5984,42.8627,42.9949,43.1271 ,43.2594,43.3917,43.5241,43.6566,43.789 ,43.9216,44.0541,44.1868,44.3195, 44.4521,44.5848,44.7177,44.8505,44.9834 ,45.1163,45.2493,45.3824,45.5154, 45.6486,45.7817,45.9148,46.048,46.1812, 46.3145,46.4478,46.5812,46.7146,46.848, 46.9815,47.115,47.2485,47.382,47.5156, 47.6492,47.7795)
FOOTPRINT_POINT_LONGITUDE = (291.701,291.47,291.162,290.757,290.448 ,290.061,289.827,289.835,289.844, 289.852,289.86,289.869,289.883,289.89, 289.898,289.913,289.921,289.934,289.942 ,289.95,289.959,289.967,289.975,289.983 ,289.991,290.0,290.007,290.014,290.026, 290.032,290.039,290.044,290.049,290.06, 290.072,290.089,290.101,290.112,290.123 ,290.133,290.138,290.143,290.148, 290.153,290.158,290.163,290.168,290.455 ,290.913,291.333,291.6,291.828,292.104, 292.1,292.095,292.091,292.086,292.082, 292.077,292.072,292.063,292.054,292.044 ,292.039,292.035,292.03,292.025,292.021 ,292.016,292.011,292.006,292.001, 291.996,291.992,291.986,291.979,291.975 ,291.97,291.965,291.959,291.954,291.95, 291.944,291.939,291.933,291.927,291.922 ,291.915,291.909,291.904,291.899, 291.893,291.887,291.881,291.874,291.868 ,291.862,291.855,291.849,291.701)
ORBIT_NUMBER = 15869
ORBITAL_ECCENTRICITY = 0.572
ORBITAL_INCLINATION = 86.94
ORBITAL_SEMIMAJOR_AXIS = 8792.6
PERIAPSIS_ALTITUDE = 376.72
PERIAPSIS_ARGUMENT_ANGLE = 124.07
PERIAPSIS_TIME = 2016-07-10T03:09:47.000Z
SPACECRAFT_ORIENTATION = (0.0,-1.0,0.0)
^MEX_ORIENTATION_DESC = "MEX_ORIENTATION_DESC.TXT"
SPACECRAFT_POINTING_MODE = ACROSSTRACK
^MEX_POINTING_DESC = "MEX_POINTING_DESC.TXT"
RIGHT_ASCENSION = -1e+32
DECLINATION = -1e+32
OFFSET_ANGLE = -0.15
SPACECRAFT_SOLAR_DISTANCE = 2.18321e+08
TARGET_NAME = MARS
/* CAMERA DATA ELEMENTS */
DETECTOR_TEMPERATURE = 18.5744
FOCAL_PLANE_TEMPERATURE = 8.5833
INST_CMPRS_NAME = "DISCRETE COSINE TRANSFORMATION (DCT)"
INST_CMPRS_RATIO = 4.60844
INST_CMPRS_QUALITY = 0
INST_CMPRS_QUANTZ_TBL_ID = 0
INSTRUMENT_TEMPERATURE = 11.8457
LENS_TEMPERATURE = 8.7872
MACROPIXEL_SIZE = 1
MISSING_FRAMES = 0
PIXEL_SUBSAMPLING_FLAG = N
SIGNAL_CHAIN_ID = 0
/* RADIOMETRIC DATA ELEMENTS */
BANDWIDTH = 177.0
CENTER_FILTER_WAVELENGTH = 677.5
RADIANCE_OFFSET = 1.02822
RADIANCE_SCALING_FACTOR = 0.0380824
REFLECTANCE_SCALING_FACTOR = 0.000964267
MEX:REFLECTANCE_OFFSET = 0.0260352
/* IMAGE OBJECT DEFINITIONS */
OBJECT = IMAGE
  INTERCHANGE_FORMAT = BINARY
  LINES = 31741
  LINE_SAMPLES = 7827
  SAMPLE_TYPE = UNSIGNED_INTEGER
  SAMPLE_BITS = 8
  BANDS = 1
  BAND_STORAGE_TYPE = BAND_SEQUENTIAL
  MAXIMUM = 255
  MEAN = 109.717
  MINIMUM = 1
  STANDARD_DEVIATION = 20.8865
END_OBJECT = IMAGE
/* MAP OBJECT DEFINITIONS */
OBJECT = IMAGE_MAP_PROJECTION
  ^DATA_SET_MAP_PROJECTION_CATALOG= "DSMAP.CAT"
  A_AXIS_RADIUS = 3396.0
  B_AXIS_RADIUS = 3396.0
  C_AXIS_RADIUS = 3396.0
  CENTER_LATITUDE = 0.0
  CENTER_LONGITUDE = 291.0
  COORDINATE_SYSTEM_NAME = PLANETOGRAPHIC
  COORDINATE_SYSTEM_TYPE = "BODY-FIXED ROTATING"
  EASTERNMOST_LONGITUDE = 292.104
  FIRST_STANDARD_PARALLEL = "N/A"
  LINE_FIRST_PIXEL = 1
  LINE_LAST_PIXEL = 31741
  LINE_PROJECTION_OFFSET = 226566.0
  MAP_PROJECTION_ROTATION = 0.0
  MAP_PROJECTION_TYPE = SINUSOIDAL
  MAP_RESOLUTION = 4741.71043093333
  MAP_SCALE = 0.0125
  MAXIMUM_LATITUDE = 47.7795
  MINIMUM_LATITUDE = 41.0882
  POSITIVE_LONGITUDE_DIRECTION = EAST
  REFERENCE_LATITUDE = "N/A"
  REFERENCE_LONGITUDE = "N/A"
  SAMPLE_FIRST_PIXEL = 1
  SAMPLE_LAST_PIXEL = 7827
  SAMPLE_PROJECTION_OFFSET = 3850.0
  SECOND_STANDARD_PARALLEL = "N/A"
  WESTERNMOST_LONGITUDE = 289.827
END_OBJECT = IMAGE_MAP_PROJECTION
/* The JPEG2000 image data file associated with this label. */
OBJECT = COMPRESSED_FILE
  FILE_NAME = "HF869_0000_ND3.JP2"
  RECORD_TYPE = UNDEFINED
  FILE_RECORDS = UNK
  ENCODING_TYPE = "JP2"
  INTERCHANGE_FORMAT = BINARY
  UNCOMPRESSED_FILE_NAME = "HF869_0000_ND3.IMG"
  REQUIRED_STORAGE_BYTES = "248468115"
  ^DESCRIPTION = "JP2INFO.TXT"
END_OBJECT = COMPRESSED_FILE
END
