PDS_VERSION_ID = PDS3
/* FILE DATA ELEMENTS */
RECORD_TYPE = STREAM
/* POINTERS TO DATA OBJECTS */
^COMPRESSED_FILE = "HF874_0000_IR3.JP2"
/* IDENTIFICATION DATA ELEMENTS */
DATA_SET_ID = "MEX-M-HRSC-5-REFDR-MAPPROJECTED-V3.0"
DATA_SET_NAME = "MARS EXPRESS HRSC MAP PROJECTED REFDR V3.0"
DETECTOR_ID = MEX_HRSC_IR
EVENT_TYPE = "MARS-REGIONAL-MAPPING-Vo-Te-Fl"
INSTRUMENT_HOST_ID = MEX
INSTRUMENT_HOST_NAME = "MARS EXPRESS"
INSTRUMENT_ID = HRSC
INSTRUMENT_NAME = "HIGH RESOLUTION STEREO CAMERA"
MISSION_NAME = "MARS EXPRESS"
MISSION_PHASE_NAME = ME_Phase_35
PROCESSING_LEVEL_ID = 3
PRODUCT_CREATION_TIME = 2017-06-29T11:20:52.000Z
PRODUCT_ID = "HF874_0000_IR3.JP2"
RELEASE_ID = 0135
REVISION_ID = 0000
/* QUALITY DATA ELEMENTS */
DATA_QUALITY_ID = 1
DATA_QUALITY_DESC = "Data calculated based on original SPICE kernels"
/* TIME DATA ELEMENTS */
SPACECRAFT_CLOCK_START_COUNT = "1/0416326544.08241"
SPACECRAFT_CLOCK_STOP_COUNT = "1/0416326889.54142"
START_TIME = 2016-07-11T14:16:00.495Z
STOP_TIME = 2016-07-11T14:18:53.211Z
/* ORBITAL DATA ELEMENTS */
ASCENDING_NODE_LONGITUDE = 275.67
MAXIMUM_RESOLUTION = 91.7
FOOTPRINT_POINT_LATITUDE = (25.1629,25.165,25.1663,25.1665,25.1657 ,25.1644,25.1625,24.9527,24.5705, 24.1929,24.0,23.8079,23.6152,23.3225, 23.1267,22.8329,22.6345,22.436,22.2377, 21.9371,21.7349,21.5333,21.2278,21.0236 ,20.7171,20.5093,20.3015,20.094,19.8843 ,19.6733,19.2497,18.9293,18.7156, 18.4989,18.1742,17.9555,17.7359,17.5173 ,17.1845,16.9628,16.7386,16.514,16.2889 ,16.0603,15.8264,15.6005,15.2659, 15.0394,14.6997,14.6696,14.6684,14.6664 ,14.662,14.6553,14.6497,14.6402,14.8668 ,15.0942,15.3218,15.5499,15.8918,16.12, 16.3482,16.6867,16.9124,17.1352,17.3587 ,17.5806,17.8008,18.1309,18.3477, 18.5651,18.7813,19.1032,19.318,19.5303, 19.7416,20.0585,20.267,20.4753,20.7866, 20.9917,21.197,21.4019,21.6043,21.9055, 22.11,22.4085,22.6077,22.9895,23.1949, 23.3948,23.5904,23.7834,23.9768,24.1704 ,24.3625,24.7424,25.1224,25.1629)
FOOTPRINT_POINT_LONGITUDE = (140.73,140.436,140.122,139.808,139.533 ,139.317,139.081,138.947,138.939, 138.932,138.928,138.924,138.919,138.913 ,138.908,138.901,138.895,138.891, 138.886,138.877,138.872,138.866,138.857 ,138.852,138.843,138.836,138.83,138.823 ,138.817,138.81,138.796,138.785,138.777 ,138.77,138.758,138.75,138.742,138.734, 138.722,138.713,138.705,138.696,138.687 ,138.677,138.666,138.657,138.645, 138.635,138.62,138.924,139.16,139.466, 139.842,140.313,140.642,141.065,141.143 ,141.141,141.14,141.139,141.137,141.136 ,141.135,141.133,141.131,141.13,141.128 ,141.127,141.125,141.123,141.122,141.12 ,141.119,141.117,141.115,141.114, 141.112,141.11,141.108,141.107,141.104, 141.103,141.101,141.1,141.098,141.097, 141.094,141.092,141.091,141.093,141.087 ,141.084,141.083,141.081,141.079, 141.078,141.076,141.073,141.069,140.73)
ORBIT_NUMBER = 15874
ORBITAL_ECCENTRICITY = 0.572
ORBITAL_INCLINATION = 86.94
ORBITAL_SEMIMAJOR_AXIS = 8792.47
PERIAPSIS_ALTITUDE = 377.62
PERIAPSIS_ARGUMENT_ANGLE = 123.19
PERIAPSIS_TIME = 2016-07-11T14:08:16.000Z
SPACECRAFT_ORIENTATION = (0.0,-1.0,0.0)
^MEX_ORIENTATION_DESC = "MEX_ORIENTATION_DESC.TXT"
SPACECRAFT_POINTING_MODE = NADIR
^MEX_POINTING_DESC = "MEX_POINTING_DESC.TXT"
RIGHT_ASCENSION = -1e+32
DECLINATION = -1e+32
OFFSET_ANGLE = -1e+32
SPACECRAFT_SOLAR_DISTANCE = 2.18057e+08
TARGET_NAME = MARS
/* CAMERA DATA ELEMENTS */
DETECTOR_TEMPERATURE = 18.1666
FOCAL_PLANE_TEMPERATURE = 8.5833
INST_CMPRS_NAME = "DISCRETE COSINE TRANSFORMATION (DCT)"
INST_CMPRS_RATIO = 10.2702
INST_CMPRS_QUALITY = 0
INST_CMPRS_QUANTZ_TBL_ID = 0
INSTRUMENT_TEMPERATURE = 11.6418
LENS_TEMPERATURE = 8.7872
MACROPIXEL_SIZE = 4
MISSING_FRAMES = 0
PIXEL_SUBSAMPLING_FLAG = N
SIGNAL_CHAIN_ID = 2
/* RADIOMETRIC DATA ELEMENTS */
BANDWIDTH = 81.0
CENTER_FILTER_WAVELENGTH = 955.5
RADIANCE_OFFSET = 0.874348
RADIANCE_SCALING_FACTOR = 0.00827157
REFLECTANCE_SCALING_FACTOR = 0.000848501
MEX:REFLECTANCE_OFFSET = 0.089691
/* IMAGE OBJECT DEFINITIONS */
OBJECT = IMAGE
  INTERCHANGE_FORMAT = BINARY
  LINES = 6233
  LINE_SAMPLES = 1609
  SAMPLE_TYPE = UNSIGNED_INTEGER
  SAMPLE_BITS = 8
  BANDS = 1
  BAND_STORAGE_TYPE = BAND_SEQUENTIAL
  MAXIMUM = 255
  MEAN = 205.67
  MINIMUM = 1
  STANDARD_DEVIATION = 38.7982
END_OBJECT = IMAGE
/* MAP OBJECT DEFINITIONS */
OBJECT = IMAGE_MAP_PROJECTION
  ^DATA_SET_MAP_PROJECTION_CATALOG= "DSMAP.CAT"
  A_AXIS_RADIUS = 3396.0
  B_AXIS_RADIUS = 3396.0
  C_AXIS_RADIUS = 3396.0
  CENTER_LATITUDE = 0.0
  CENTER_LONGITUDE = 140.0
  COORDINATE_SYSTEM_NAME = PLANETOGRAPHIC
  COORDINATE_SYSTEM_TYPE = "BODY-FIXED ROTATING"
  EASTERNMOST_LONGITUDE = 141.143
  FIRST_STANDARD_PARALLEL = "N/A"
  LINE_FIRST_PIXEL = 1
  LINE_LAST_PIXEL = 6233
  LINE_PROJECTION_OFFSET = 14906.625
  MAP_PROJECTION_ROTATION = 0.0
  MAP_PROJECTION_TYPE = SINUSOIDAL
  MAP_RESOLUTION = 592.713803866667
  MAP_SCALE = 0.1
  MAXIMUM_LATITUDE = 25.1665
  MINIMUM_LATITUDE = 14.6402
  POSITIVE_LONGITUDE_DIRECTION = EAST
  REFERENCE_LATITUDE = "N/A"
  REFERENCE_LONGITUDE = "N/A"
  SAMPLE_FIRST_PIXEL = 1
  SAMPLE_LAST_PIXEL = 1609
  SAMPLE_PROJECTION_OFFSET = 875.125
  SECOND_STANDARD_PARALLEL = "N/A"
  WESTERNMOST_LONGITUDE = 138.62
END_OBJECT = IMAGE_MAP_PROJECTION
/* The JPEG2000 image data file associated with this label. */
OBJECT = COMPRESSED_FILE
  FILE_NAME = "HF874_0000_IR3.JP2"
  RECORD_TYPE = UNDEFINED
  FILE_RECORDS = UNK
  ENCODING_TYPE = "JP2"
  INTERCHANGE_FORMAT = BINARY
  UNCOMPRESSED_FILE_NAME = "HF874_0000_IR3.IMG"
  REQUIRED_STORAGE_BYTES = "10048205"
  ^DESCRIPTION = "JP2INFO.TXT"
END_OBJECT = COMPRESSED_FILE
END
