PDS_VERSION_ID = PDS3
/* FILE DATA ELEMENTS */
RECORD_TYPE = STREAM
/* POINTERS TO DATA OBJECTS */
^COMPRESSED_FILE = "HF874_0000_S13.JP2"
/* IDENTIFICATION DATA ELEMENTS */
DATA_SET_ID = "MEX-M-HRSC-5-REFDR-MAPPROJECTED-V3.0"
DATA_SET_NAME = "MARS EXPRESS HRSC MAP PROJECTED REFDR V3.0"
DETECTOR_ID = MEX_HRSC_S1
EVENT_TYPE = "MARS-REGIONAL-MAPPING-Vo-Te-Fl"
INSTRUMENT_HOST_ID = MEX
INSTRUMENT_HOST_NAME = "MARS EXPRESS"
INSTRUMENT_ID = HRSC
INSTRUMENT_NAME = "HIGH RESOLUTION STEREO CAMERA"
MISSION_NAME = "MARS EXPRESS"
MISSION_PHASE_NAME = ME_Phase_35
PROCESSING_LEVEL_ID = 3
PRODUCT_CREATION_TIME = 2017-06-29T11:20:52.000Z
PRODUCT_ID = "HF874_0000_S13.JP2"
RELEASE_ID = 0135
REVISION_ID = 0000
/* QUALITY DATA ELEMENTS */
DATA_QUALITY_ID = 1
DATA_QUALITY_DESC = "Data calculated based on original SPICE kernels"
/* TIME DATA ELEMENTS */
SPACECRAFT_CLOCK_START_COUNT = "1/0416326544.08241"
SPACECRAFT_CLOCK_STOP_COUNT = "1/0416326889.54142"
START_TIME = 2016-07-11T14:15:51.797Z
STOP_TIME = 2016-07-11T14:18:41.806Z
/* ORBITAL DATA ELEMENTS */
ASCENDING_NODE_LONGITUDE = 275.67
MAXIMUM_RESOLUTION = 46.1
FOOTPRINT_POINT_LATITUDE = (25.169,25.1707,25.1711,25.1706,25.1685 ,25.1415,24.7609,24.3843,23.905,23.6146 ,23.3221,23.1269,22.9309,22.732,22.5338 ,22.3363,22.1367,21.9346,21.6322, 21.3265,21.1226,20.8165,20.6088,20.2973 ,20.0898,19.8786,19.6675,19.4562, 19.2433,19.0293,18.8154,18.5996,18.3824 ,18.1657,17.9462,17.7265,17.5073, 17.1742,16.9517,16.7277,16.502,16.2769, 16.0445,15.6975,15.4762,15.2439,14.8969 ,14.6543,14.6532,14.6518,14.6476,14.644 ,14.6389,14.6329,14.6275,14.9738,15.206 ,15.4385,15.6707,15.8996,16.2429, 16.4695,16.696,17.033,17.2568,17.4806, 17.7014,17.9224,18.1424,18.3595,18.5772 ,18.794,19.0088,19.2239,19.4383,19.7557 ,19.9676,20.1779,20.3861,20.5946, 20.8028,21.0074,21.2126,21.5201,21.7188 ,21.9212,22.2268,22.4256,22.624,22.8202 ,23.1054,23.3134,23.5096,23.7052, 23.8984,24.0911,24.4747,24.761,25.139, 25.169)
FOOTPRINT_POINT_LONGITUDE = (140.571,140.247,140.024,139.701, 139.337,138.958,138.95,138.943,138.934, 138.927,138.921,138.916,138.911,138.906 ,138.901,138.897,138.891,138.886, 138.878,138.869,138.864,138.855,138.849 ,138.839,138.833,138.826,138.82,138.813 ,138.806,138.799,138.791,138.784, 138.777,138.769,138.761,138.753,138.745 ,138.733,138.725,138.716,138.707, 138.699,138.688,138.673,138.667,138.657 ,138.642,138.777,139.188,139.503, 139.889,140.155,140.494,140.808,141.049 ,141.129,141.128,141.127,141.126, 141.125,141.123,141.122,141.121,141.119 ,141.118,141.116,141.115,141.113, 141.112,141.111,141.11,141.108,141.107, 141.105,141.104,141.102,141.1,141.099, 141.097,141.096,141.094,141.093,141.092 ,141.09,141.089,141.088,141.085,141.083 ,141.082,141.081,141.082,141.077, 141.075,141.074,141.072,141.07,141.068, 141.065,141.062,140.571)
ORBIT_NUMBER = 15874
ORBITAL_ECCENTRICITY = 0.572
ORBITAL_INCLINATION = 86.94
ORBITAL_SEMIMAJOR_AXIS = 8792.47
PERIAPSIS_ALTITUDE = 377.62
PERIAPSIS_ARGUMENT_ANGLE = 123.19
PERIAPSIS_TIME = 2016-07-11T14:08:16.000Z
SPACECRAFT_ORIENTATION = (0.0,-1.0,0.0)
^MEX_ORIENTATION_DESC = "MEX_ORIENTATION_DESC.TXT"
SPACECRAFT_POINTING_MODE = NADIR
^MEX_POINTING_DESC = "MEX_POINTING_DESC.TXT"
RIGHT_ASCENSION = -1e+32
DECLINATION = -1e+32
OFFSET_ANGLE = -1e+32
SPACECRAFT_SOLAR_DISTANCE = 2.18057e+08
TARGET_NAME = MARS
/* CAMERA DATA ELEMENTS */
DETECTOR_TEMPERATURE = 18.1666
FOCAL_PLANE_TEMPERATURE = 8.5833
INST_CMPRS_NAME = "DISCRETE COSINE TRANSFORMATION (DCT)"
INST_CMPRS_RATIO = 9.34651
INST_CMPRS_QUALITY = 0
INST_CMPRS_QUANTZ_TBL_ID = 0
INSTRUMENT_TEMPERATURE = 11.6418
LENS_TEMPERATURE = 8.7872
MACROPIXEL_SIZE = 2
MISSING_FRAMES = 0
PIXEL_SUBSAMPLING_FLAG = N
SIGNAL_CHAIN_ID = 1
/* RADIOMETRIC DATA ELEMENTS */
BANDWIDTH = 180.0
CENTER_FILTER_WAVELENGTH = 677.0
RADIANCE_OFFSET = 3.56001
RADIANCE_SCALING_FACTOR = 0.0324423
REFLECTANCE_SCALING_FACTOR = 0.000804804
MEX:REFLECTANCE_OFFSET = 0.088314
/* IMAGE OBJECT DEFINITIONS */
OBJECT = IMAGE
  INTERCHANGE_FORMAT = BINARY
  LINES = 12466
  LINE_SAMPLES = 3218
  SAMPLE_TYPE = UNSIGNED_INTEGER
  SAMPLE_BITS = 8
  BANDS = 1
  BAND_STORAGE_TYPE = BAND_SEQUENTIAL
  MAXIMUM = 255
  MEAN = 183.582
  MINIMUM = 1
  STANDARD_DEVIATION = 37.455
END_OBJECT = IMAGE
/* MAP OBJECT DEFINITIONS */
OBJECT = IMAGE_MAP_PROJECTION
  ^DATA_SET_MAP_PROJECTION_CATALOG= "DSMAP.CAT"
  A_AXIS_RADIUS = 3396.0
  B_AXIS_RADIUS = 3396.0
  C_AXIS_RADIUS = 3396.0
  CENTER_LATITUDE = 0.0
  CENTER_LONGITUDE = 140.0
  COORDINATE_SYSTEM_NAME = PLANETOGRAPHIC
  COORDINATE_SYSTEM_TYPE = "BODY-FIXED ROTATING"
  EASTERNMOST_LONGITUDE = 141.129
  FIRST_STANDARD_PARALLEL = "N/A"
  LINE_FIRST_PIXEL = 1
  LINE_LAST_PIXEL = 12466
  LINE_PROJECTION_OFFSET = 29813.75
  MAP_PROJECTION_ROTATION = 0.0
  MAP_PROJECTION_TYPE = SINUSOIDAL
  MAP_RESOLUTION = 1185.42760773333
  MAP_SCALE = 0.05
  MAXIMUM_LATITUDE = 25.1711
  MINIMUM_LATITUDE = 14.6275
  POSITIVE_LONGITUDE_DIRECTION = EAST
  REFERENCE_LATITUDE = "N/A"
  REFERENCE_LONGITUDE = "N/A"
  SAMPLE_FIRST_PIXEL = 1
  SAMPLE_LAST_PIXEL = 3218
  SAMPLE_PROJECTION_OFFSET = 1750.75
  SECOND_STANDARD_PARALLEL = "N/A"
  WESTERNMOST_LONGITUDE = 138.642
END_OBJECT = IMAGE_MAP_PROJECTION
/* The JPEG2000 image data file associated with this label. */
OBJECT = COMPRESSED_FILE
  FILE_NAME = "HF874_0000_S13.JP2"
  RECORD_TYPE = UNDEFINED
  FILE_RECORDS = UNK
  ENCODING_TYPE = "JP2"
  INTERCHANGE_FORMAT = BINARY
  UNCOMPRESSED_FILE_NAME = "HF874_0000_S13.IMG"
  REQUIRED_STORAGE_BYTES = "40138114"
  ^DESCRIPTION = "JP2INFO.TXT"
END_OBJECT = COMPRESSED_FILE
END
