PDS_VERSION_ID = PDS3
/* FILE DATA ELEMENTS */
RECORD_TYPE = STREAM
/* POINTERS TO DATA OBJECTS */
^COMPRESSED_FILE = "HF875_0000_S13.JP2"
/* IDENTIFICATION DATA ELEMENTS */
DATA_SET_ID = "MEX-M-HRSC-5-REFDR-MAPPROJECTED-V3.0"
DATA_SET_NAME = "MARS EXPRESS HRSC MAP PROJECTED REFDR V3.0"
DETECTOR_ID = MEX_HRSC_S1
EVENT_TYPE = "MARS-LOCAL-MAPPING-Im-Fl-Pf"
INSTRUMENT_HOST_ID = MEX
INSTRUMENT_HOST_NAME = "MARS EXPRESS"
INSTRUMENT_ID = HRSC
INSTRUMENT_NAME = "HIGH RESOLUTION STEREO CAMERA"
MISSION_NAME = "MARS EXPRESS"
MISSION_PHASE_NAME = ME_Phase_35
PROCESSING_LEVEL_ID = 3
PRODUCT_CREATION_TIME = 2017-06-29T11:20:52.000Z
PRODUCT_ID = "HF875_0000_S13.JP2"
RELEASE_ID = 0135
REVISION_ID = 0000
/* QUALITY DATA ELEMENTS */
DATA_QUALITY_ID = 1
DATA_QUALITY_DESC = "Data calculated based on original SPICE kernels"
/* TIME DATA ELEMENTS */
SPACECRAFT_CLOCK_START_COUNT = "1/0416351113.07363"
SPACECRAFT_CLOCK_STOP_COUNT = "1/0416351334.22179"
START_TIME = 2016-07-11T21:05:20.765Z
STOP_TIME = 2016-07-11T21:07:51.241Z
/* ORBITAL DATA ELEMENTS */
ASCENDING_NODE_LONGITUDE = 275.65
MAXIMUM_RESOLUTION = 32.3
FOOTPRINT_POINT_LATITUDE = (64.7139,64.6953,64.668,64.6451,64.6203 ,64.4717,64.1038,63.7351,63.3658, 63.1807,62.9955,62.8102,62.6248,62.4389 ,62.2531,62.0669,61.8806,61.694,61.5073 ,61.2269,61.0399,60.759,60.5718,60.3842 ,60.1963,59.9141,59.7257,59.5374, 59.3494,59.1607,58.972,58.7828,58.499, 58.3097,58.1202,57.9307,57.7409,57.551, 57.3608,57.1709,56.9807,56.7904,56.5998 ,56.3141,56.1231,55.932,55.6454,55.3584 ,55.1669,55.0531,55.0737,55.0869, 55.1031,55.1183,55.3146,55.5068,55.6988 ,55.8906,56.0825,56.2744,56.4662, 56.6576,56.8492,57.0407,57.2321,57.4233 ,57.6143,57.9008,58.0914,58.2823,58.473 ,58.6633,58.8535,59.1386,59.4234, 59.6131,59.8024,59.9918,60.1811,60.3705 ,60.5597,60.7486,60.9371,61.1257, 61.3144,61.5027,61.7847,61.9726,62.2543 ,62.4418,62.7229,62.91,63.0968,63.2835, 63.4701,63.6567,63.843,64.2154,64.5868, 64.7139)
FOOTPRINT_POINT_LONGITUDE = (36.1888,35.7015,35.0629,34.5779, 34.0931,33.6105,33.7216,33.8292,33.9332 ,33.984,34.0339,34.083,34.1314,34.1789, 34.2258,34.2718,34.317,34.3616,34.4054, 34.4698,34.5119,34.5739,34.6145,34.6543 ,34.6934,34.751,34.7886,34.8256,34.8623 ,34.8982,34.9335,34.9682,35.0193, 35.0527,35.0856,35.118,35.1498,35.1812, 35.212,35.2424,35.2723,35.3017,35.3307, 35.3733,35.4011,35.4284,35.4687,35.5079 ,35.5336,35.8424,36.3381,36.6985, 37.1952,37.7372,37.8674,37.8537,37.8399 ,37.826,37.8118,37.7973,37.7826,37.7678 ,37.7527,37.7373,37.7218,37.7061, 37.6902,37.6658,37.6495,37.6326,37.6156 ,37.5984,37.5811,37.5546,37.5276, 37.5092,37.4907,37.4719,37.4527,37.4331 ,37.4133,37.3933,37.3732,37.3526, 37.3315,37.3103,37.2781,37.2561,37.2225 ,37.1997,37.1648,37.1412,37.1174, 37.0931,37.0684,37.0432,37.0177,36.9653 ,36.9116,36.1888)
ORBIT_NUMBER = 15875
ORBITAL_ECCENTRICITY = 0.572
ORBITAL_INCLINATION = 86.94
ORBITAL_SEMIMAJOR_AXIS = 8793.26
PERIAPSIS_ALTITUDE = 377.36
PERIAPSIS_ARGUMENT_ANGLE = 123.02
PERIAPSIS_TIME = 2016-07-11T21:07:58.000Z
SPACECRAFT_ORIENTATION = (0.0,-1.0,0.0)
^MEX_ORIENTATION_DESC = "MEX_ORIENTATION_DESC.TXT"
SPACECRAFT_POINTING_MODE = NADIR
^MEX_POINTING_DESC = "MEX_POINTING_DESC.TXT"
RIGHT_ASCENSION = -1e+32
DECLINATION = -1e+32
OFFSET_ANGLE = -1e+32
SPACECRAFT_SOLAR_DISTANCE = 2.18004e+08
TARGET_NAME = MARS
/* CAMERA DATA ELEMENTS */
DETECTOR_TEMPERATURE = 18.5744
FOCAL_PLANE_TEMPERATURE = 10.4184
INST_CMPRS_NAME = "DISCRETE COSINE TRANSFORMATION (DCT)"
INST_CMPRS_RATIO = 9.08649
INST_CMPRS_QUALITY = 0
INST_CMPRS_QUANTZ_TBL_ID = 0
INSTRUMENT_TEMPERATURE = 12.2535
LENS_TEMPERATURE = 10.2145
MACROPIXEL_SIZE = 2
MISSING_FRAMES = 0
PIXEL_SUBSAMPLING_FLAG = N
SIGNAL_CHAIN_ID = 1
/* RADIOMETRIC DATA ELEMENTS */
BANDWIDTH = 180.0
CENTER_FILTER_WAVELENGTH = 677.0
RADIANCE_OFFSET = 3.05541
RADIANCE_SCALING_FACTOR = 0.00784278
REFLECTANCE_SCALING_FACTOR = 0.000194466
MEX:REFLECTANCE_OFFSET = 0.0757608
/* IMAGE OBJECT DEFINITIONS */
OBJECT = IMAGE
  INTERCHANGE_FORMAT = BINARY
  LINES = 22692
  LINE_SAMPLES = 4918
  SAMPLE_TYPE = UNSIGNED_INTEGER
  SAMPLE_BITS = 8
  BANDS = 1
  BAND_STORAGE_TYPE = BAND_SEQUENTIAL
  MAXIMUM = 255
  MEAN = 113.214
  MINIMUM = 1
  STANDARD_DEVIATION = 37.3312
END_OBJECT = IMAGE
/* MAP OBJECT DEFINITIONS */
OBJECT = IMAGE_MAP_PROJECTION
  ^DATA_SET_MAP_PROJECTION_CATALOG= "DSMAP.CAT"
  A_AXIS_RADIUS = 3396.0
  B_AXIS_RADIUS = 3396.0
  C_AXIS_RADIUS = 3396.0
  CENTER_LATITUDE = 0.0
  CENTER_LONGITUDE = 36.0
  COORDINATE_SYSTEM_NAME = PLANETOGRAPHIC
  COORDINATE_SYSTEM_TYPE = "BODY-FIXED ROTATING"
  EASTERNMOST_LONGITUDE = 37.8674
  FIRST_STANDARD_PARALLEL = "N/A"
  LINE_FIRST_PIXEL = 1
  LINE_LAST_PIXEL = 22692
  LINE_PROJECTION_OFFSET = 153222.75
  MAP_PROJECTION_ROTATION = 0.0
  MAP_PROJECTION_TYPE = SINUSOIDAL
  MAP_RESOLUTION = 2370.85521546667
  MAP_SCALE = 0.025
  MAXIMUM_LATITUDE = 64.7139
  MINIMUM_LATITUDE = 55.0531
  POSITIVE_LONGITUDE_DIRECTION = EAST
  REFERENCE_LATITUDE = "N/A"
  REFERENCE_LONGITUDE = "N/A"
  SAMPLE_FIRST_PIXEL = 1
  SAMPLE_LAST_PIXEL = 4918
  SAMPLE_PROJECTION_OFFSET = 2425.25
  SECOND_STANDARD_PARALLEL = "N/A"
  WESTERNMOST_LONGITUDE = 33.6105
END_OBJECT = IMAGE_MAP_PROJECTION
/* The JPEG2000 image data file associated with this label. */
OBJECT = COMPRESSED_FILE
  FILE_NAME = "HF875_0000_S13.JP2"
  RECORD_TYPE = UNDEFINED
  FILE_RECORDS = UNK
  ENCODING_TYPE = "JP2"
  INTERCHANGE_FORMAT = BINARY
  UNCOMPRESSED_FILE_NAME = "HF875_0000_S13.IMG"
  REQUIRED_STORAGE_BYTES = "111623846"
  ^DESCRIPTION = "JP2INFO.TXT"
END_OBJECT = COMPRESSED_FILE
END
