PDS_VERSION_ID = PDS3
/* FILE DATA ELEMENTS */
RECORD_TYPE = STREAM
/* POINTERS TO DATA OBJECTS */
^COMPRESSED_FILE = "HF881_0000_IR3.JP2"
/* IDENTIFICATION DATA ELEMENTS */
DATA_SET_ID = "MEX-M-HRSC-5-REFDR-MAPPROJECTED-V3.0"
DATA_SET_NAME = "MARS EXPRESS HRSC MAP PROJECTED REFDR V3.0"
DETECTOR_ID = MEX_HRSC_IR
EVENT_TYPE = "MARS-REGIONAL-MAPPING-Vo-Te-Fl"
INSTRUMENT_HOST_ID = MEX
INSTRUMENT_HOST_NAME = "MARS EXPRESS"
INSTRUMENT_ID = HRSC
INSTRUMENT_NAME = "HIGH RESOLUTION STEREO CAMERA"
MISSION_NAME = "MARS EXPRESS"
MISSION_PHASE_NAME = ME_Phase_35
PROCESSING_LEVEL_ID = 3
PRODUCT_CREATION_TIME = 2017-06-29T11:20:52.000Z
PRODUCT_ID = "HF881_0000_IR3.JP2"
RELEASE_ID = 0135
REVISION_ID = 0000
/* QUALITY DATA ELEMENTS */
DATA_QUALITY_ID = 1
DATA_QUALITY_DESC = "Data calculated based on original SPICE kernels"
/* TIME DATA ELEMENTS */
SPACECRAFT_CLOCK_START_COUNT = "1/0416502688.08281"
SPACECRAFT_CLOCK_STOP_COUNT = "1/0416503075.05700"
START_TIME = 2016-07-13T15:11:43.343Z
STOP_TIME = 2016-07-13T15:15:40.237Z
/* ORBITAL DATA ELEMENTS */
ASCENDING_NODE_LONGITUDE = 275.54
MAXIMUM_RESOLUTION = 78.5
FOOTPRINT_POINT_LATITUDE = (35.0,34.9511,34.8961,34.8445,34.5252, 34.1395,33.6217,33.3594,33.0975,32.8366 ,32.5728,32.3062,32.0399,31.7744, 31.5057,31.2352,30.9642,30.6942,30.2809 ,30.0053,29.7296,29.4493,29.1661, 28.8869,28.4605,28.1749,27.8893,27.598, 27.1629,26.8692,26.5731,26.2777,25.8261 ,25.5253,25.2218,24.9163,24.6087, 24.2977,23.8295,23.5152,23.2017,22.8819 ,22.5627,22.2394,21.9148,21.5866, 21.2579,20.759,20.4249,20.1481,20.172, 20.2064,20.2254,20.2401,20.2535,20.2695 ,20.6092,20.9438,21.2781,21.6084, 21.9388,22.2641,22.7508,23.0718,23.3923 ,23.7085,24.1816,24.4932,24.9585, 25.2653,25.5727,25.8749,26.177,26.4779, 26.7747,27.072,27.3658,27.6575,28.0948, 28.525,28.8122,29.0959,29.3775,29.6595, 29.9398,30.3548,30.6313,31.0412,31.3125 ,31.5847,31.8558,32.122,32.5217,32.7887 ,33.052,33.3141,33.5777,34.1008,34.6162 ,35.0)
FOOTPRINT_POINT_LONGITUDE = (142.459,141.859,141.24,140.701,140.63, 140.643,140.66,140.669,140.677,140.686, 140.694,140.702,140.71,140.718,140.726, 140.734,140.741,140.749,140.758,140.765 ,140.771,140.776,140.779,140.785, 140.792,140.796,140.8,140.803,140.808, 140.81,140.811,140.813,140.813,140.813, 140.814,140.813,140.811,140.809,140.805 ,140.804,140.803,140.8,140.797,140.794, 140.789,140.784,140.779,140.77,140.764, 140.969,141.342,141.915,142.275,142.564 ,142.85,143.184,143.178,143.172,143.165 ,143.159,143.152,143.145,143.135, 143.128,143.121,143.114,143.103,143.095 ,143.084,143.076,143.069,143.061, 143.053,143.044,143.036,143.028,143.019 ,143.01,142.996,142.983,142.973,142.964 ,142.954,142.944,142.935,142.92,142.909 ,142.893,142.882,142.872,142.861,142.85 ,142.833,142.822,142.81,142.799,142.788 ,142.765,142.742,142.459)
ORBIT_NUMBER = 15881
ORBITAL_ECCENTRICITY = 0.572
ORBITAL_INCLINATION = 86.94
ORBITAL_SEMIMAJOR_AXIS = 8790.15
PERIAPSIS_ALTITUDE = 378.38
PERIAPSIS_ARGUMENT_ANGLE = 121.98
PERIAPSIS_TIME = 2016-07-13T15:06:16.000Z
SPACECRAFT_ORIENTATION = (0.0,-1.0,0.0)
^MEX_ORIENTATION_DESC = "MEX_ORIENTATION_DESC.TXT"
SPACECRAFT_POINTING_MODE = ACROSSTRACK
^MEX_POINTING_DESC = "MEX_POINTING_DESC.TXT"
RIGHT_ASCENSION = -1e+32
DECLINATION = -1e+32
OFFSET_ANGLE = -1.7
SPACECRAFT_SOLAR_DISTANCE = 2.1769e+08
TARGET_NAME = MARS
/* CAMERA DATA ELEMENTS */
DETECTOR_TEMPERATURE = 17.1471
FOCAL_PLANE_TEMPERATURE = 9.195
INST_CMPRS_NAME = "DISCRETE COSINE TRANSFORMATION (DCT)"
INST_CMPRS_RATIO = 7.67457
INST_CMPRS_QUALITY = 0
INST_CMPRS_QUANTZ_TBL_ID = 0
INSTRUMENT_TEMPERATURE = 11.234
LENS_TEMPERATURE = 9.6028
MACROPIXEL_SIZE = 4
MISSING_FRAMES = 0
PIXEL_SUBSAMPLING_FLAG = N
SIGNAL_CHAIN_ID = 2
/* RADIOMETRIC DATA ELEMENTS */
BANDWIDTH = 81.0
CENTER_FILTER_WAVELENGTH = 955.5
RADIANCE_OFFSET = 0.752116
RADIANCE_SCALING_FACTOR = 0.0116775
REFLECTANCE_SCALING_FACTOR = 0.00119386
MEX:REFLECTANCE_OFFSET = 0.0768932
/* IMAGE OBJECT DEFINITIONS */
OBJECT = IMAGE
  INTERCHANGE_FORMAT = BINARY
  LINES = 8734
  LINE_SAMPLES = 1508
  SAMPLE_TYPE = UNSIGNED_INTEGER
  SAMPLE_BITS = 8
  BANDS = 1
  BAND_STORAGE_TYPE = BAND_SEQUENTIAL
  MAXIMUM = 255
  MEAN = 130.097
  MINIMUM = 1
  STANDARD_DEVIATION = 28.117
END_OBJECT = IMAGE
/* MAP OBJECT DEFINITIONS */
OBJECT = IMAGE_MAP_PROJECTION
  ^DATA_SET_MAP_PROJECTION_CATALOG= "DSMAP.CAT"
  A_AXIS_RADIUS = 3396.0
  B_AXIS_RADIUS = 3396.0
  C_AXIS_RADIUS = 3396.0
  CENTER_LATITUDE = 0.0
  CENTER_LONGITUDE = 142.0
  COORDINATE_SYSTEM_NAME = PLANETOGRAPHIC
  COORDINATE_SYSTEM_TYPE = "BODY-FIXED ROTATING"
  EASTERNMOST_LONGITUDE = 143.184
  FIRST_STANDARD_PARALLEL = "N/A"
  LINE_FIRST_PIXEL = 1
  LINE_LAST_PIXEL = 8734
  LINE_PROJECTION_OFFSET = 20705.125
  MAP_PROJECTION_ROTATION = 0.0
  MAP_PROJECTION_TYPE = SINUSOIDAL
  MAP_RESOLUTION = 592.713803866667
  MAP_SCALE = 0.1
  MAXIMUM_LATITUDE = 35.0
  MINIMUM_LATITUDE = 20.1481
  POSITIVE_LONGITUDE_DIRECTION = EAST
  REFERENCE_LATITUDE = "N/A"
  REFERENCE_LONGITUDE = "N/A"
  SAMPLE_FIRST_PIXEL = 1
  SAMPLE_LAST_PIXEL = 1508
  SAMPLE_PROJECTION_OFFSET = 797.125
  SECOND_STANDARD_PARALLEL = "N/A"
  WESTERNMOST_LONGITUDE = 140.63
END_OBJECT = IMAGE_MAP_PROJECTION
/* The JPEG2000 image data file associated with this label. */
OBJECT = COMPRESSED_FILE
  FILE_NAME = "HF881_0000_IR3.JP2"
  RECORD_TYPE = UNDEFINED
  FILE_RECORDS = UNK
  ENCODING_TYPE = "JP2"
  INTERCHANGE_FORMAT = BINARY
  UNCOMPRESSED_FILE_NAME = "HF881_0000_IR3.IMG"
  REQUIRED_STORAGE_BYTES = "13190476"
  ^DESCRIPTION = "JP2INFO.TXT"
END_OBJECT = COMPRESSED_FILE
END
