PDS_VERSION_ID = PDS3
/* FILE DATA ELEMENTS */
RECORD_TYPE = STREAM
/* POINTERS TO DATA OBJECTS */
^COMPRESSED_FILE = "HF881_0000_S23.JP2"
/* IDENTIFICATION DATA ELEMENTS */
DATA_SET_ID = "MEX-M-HRSC-5-REFDR-MAPPROJECTED-V3.0"
DATA_SET_NAME = "MARS EXPRESS HRSC MAP PROJECTED REFDR V3.0"
DETECTOR_ID = MEX_HRSC_S2
EVENT_TYPE = "MARS-REGIONAL-MAPPING-Vo-Te-Fl"
INSTRUMENT_HOST_ID = MEX
INSTRUMENT_HOST_NAME = "MARS EXPRESS"
INSTRUMENT_ID = HRSC
INSTRUMENT_NAME = "HIGH RESOLUTION STEREO CAMERA"
MISSION_NAME = "MARS EXPRESS"
MISSION_PHASE_NAME = ME_Phase_35
PROCESSING_LEVEL_ID = 3
PRODUCT_CREATION_TIME = 2017-06-29T11:20:52.000Z
PRODUCT_ID = "HF881_0000_S23.JP2"
RELEASE_ID = 0135
REVISION_ID = 0000
/* QUALITY DATA ELEMENTS */
DATA_QUALITY_ID = 1
DATA_QUALITY_DESC = "Data calculated based on original SPICE kernels"
/* TIME DATA ELEMENTS */
SPACECRAFT_CLOCK_START_COUNT = "1/0416502688.08281"
SPACECRAFT_CLOCK_STOP_COUNT = "1/0416503075.05700"
START_TIME = 2016-07-13T15:13:12.768Z
STOP_TIME = 2016-07-13T15:18:00.807Z
/* ORBITAL DATA ELEMENTS */
ASCENDING_NODE_LONGITUDE = 275.54
MAXIMUM_RESOLUTION = 44.8
FOOTPRINT_POINT_LATITUDE = (34.822,34.8384,34.8547,34.8709,34.8869 ,34.9028,34.9213,34.46,33.9238,33.6519, 33.1077,32.8312,32.5556,32.278,31.9981, 31.7191,31.436,31.011,30.7234,30.437, 30.0034,29.5681,29.2765,28.8334,28.5389 ,28.2397,27.7908,27.4932,27.1855, 26.8821,26.5759,26.1142,25.6492,25.3371 ,25.0217,24.7097,24.2453,23.9331, 23.6236,23.3152,23.0084,22.7039,22.4008 ,22.0986,21.7988,21.5002,21.2034, 20.9069,20.6124,20.3196,20.2764,20.233, 20.1971,20.1678,20.1395,20.1137,20.4088 ,20.706,21.0051,21.3047,21.6058,21.9083 ,22.2123,22.5178,22.8242,23.1322, 23.4416,23.7522,24.064,24.3771,24.6913, 25.0074,25.4791,25.9456,26.2557,26.5632 ,27.0224,27.3293,27.6301,27.9321, 28.2319,28.6776,28.9752,29.2687,29.5638 ,29.9996,30.2905,30.5786,31.0104,31.295 ,31.5811,31.8623,32.1445,32.5634, 32.8416,33.1184,33.3909,33.6648,34.3415 ,34.822)
FOOTPRINT_POINT_LONGITUDE = (142.786,142.442,142.093,141.738, 141.377,141.01,140.565,140.494,140.508, 140.515,140.529,140.536,140.542,140.548 ,140.555,140.56,140.566,140.575,140.58, 140.585,140.591,140.595,140.597,140.602 ,140.603,140.605,140.606,140.603, 140.607,140.606,140.604,140.601,140.597 ,140.594,140.591,140.585,140.575, 140.571,140.566,140.561,140.555,140.548 ,140.54,140.533,140.525,140.516,140.507 ,140.498,140.488,140.478,140.924, 141.567,142.112,142.565,143.013,143.438 ,143.429,143.419,143.41,143.4,143.39, 143.381,143.371,143.361,143.35,143.34, 143.33,143.319,143.309,143.298,143.287, 143.276,143.259,143.242,143.231,143.22, 143.202,143.19,143.179,143.167,143.155, 143.137,143.125,143.113,143.1,143.082, 143.069,143.056,143.037,143.024,143.01, 142.997,142.984,142.964,142.95,142.936, 142.923,142.91,142.875,142.786)
ORBIT_NUMBER = 15881
ORBITAL_ECCENTRICITY = 0.572
ORBITAL_INCLINATION = 86.94
ORBITAL_SEMIMAJOR_AXIS = 8790.15
PERIAPSIS_ALTITUDE = 378.38
PERIAPSIS_ARGUMENT_ANGLE = 121.98
PERIAPSIS_TIME = 2016-07-13T15:06:16.000Z
SPACECRAFT_ORIENTATION = (0.0,-1.0,0.0)
^MEX_ORIENTATION_DESC = "MEX_ORIENTATION_DESC.TXT"
SPACECRAFT_POINTING_MODE = ACROSSTRACK
^MEX_POINTING_DESC = "MEX_POINTING_DESC.TXT"
RIGHT_ASCENSION = -1e+32
DECLINATION = -1e+32
OFFSET_ANGLE = -1.7
SPACECRAFT_SOLAR_DISTANCE = 2.1769e+08
TARGET_NAME = MARS
/* CAMERA DATA ELEMENTS */
DETECTOR_TEMPERATURE = 18.5744
FOCAL_PLANE_TEMPERATURE = 9.195
INST_CMPRS_NAME = "DISCRETE COSINE TRANSFORMATION (DCT)"
INST_CMPRS_RATIO = 8.97032
INST_CMPRS_QUALITY = 0
INST_CMPRS_QUANTZ_TBL_ID = 0
INSTRUMENT_TEMPERATURE = 11.234
LENS_TEMPERATURE = 9.6028
MACROPIXEL_SIZE = 2
MISSING_FRAMES = 0
PIXEL_SUBSAMPLING_FLAG = N
SIGNAL_CHAIN_ID = 1
/* RADIOMETRIC DATA ELEMENTS */
BANDWIDTH = 178.0
CENTER_FILTER_WAVELENGTH = 679.0
RADIANCE_OFFSET = 3.31583
RADIANCE_SCALING_FACTOR = 0.0424927
REFLECTANCE_SCALING_FACTOR = 0.0010664
MEX:REFLECTANCE_OFFSET = 0.0832143
/* IMAGE OBJECT DEFINITIONS */
OBJECT = IMAGE
  INTERCHANGE_FORMAT = BINARY
  LINES = 17467
  LINE_SAMPLES = 3016
  SAMPLE_TYPE = UNSIGNED_INTEGER
  SAMPLE_BITS = 8
  BANDS = 1
  BAND_STORAGE_TYPE = BAND_SEQUENTIAL
  MAXIMUM = 255
  MEAN = 129.355
  MINIMUM = 1
  STANDARD_DEVIATION = 25.3536
END_OBJECT = IMAGE
/* MAP OBJECT DEFINITIONS */
OBJECT = IMAGE_MAP_PROJECTION
  ^DATA_SET_MAP_PROJECTION_CATALOG= "DSMAP.CAT"
  A_AXIS_RADIUS = 3396.0
  B_AXIS_RADIUS = 3396.0
  C_AXIS_RADIUS = 3396.0
  CENTER_LATITUDE = 0.0
  CENTER_LONGITUDE = 142.0
  COORDINATE_SYSTEM_NAME = PLANETOGRAPHIC
  COORDINATE_SYSTEM_TYPE = "BODY-FIXED ROTATING"
  EASTERNMOST_LONGITUDE = 143.438
  FIRST_STANDARD_PARALLEL = "N/A"
  LINE_FIRST_PIXEL = 1
  LINE_LAST_PIXEL = 17467
  LINE_PROJECTION_OFFSET = 41410.75
  MAP_PROJECTION_ROTATION = 0.0
  MAP_PROJECTION_TYPE = SINUSOIDAL
  MAP_RESOLUTION = 1185.42760773333
  MAP_SCALE = 0.05
  MAXIMUM_LATITUDE = 34.9213
  MINIMUM_LATITUDE = 20.1137
  POSITIVE_LONGITUDE_DIRECTION = EAST
  REFERENCE_LATITUDE = "N/A"
  REFERENCE_LONGITUDE = "N/A"
  SAMPLE_FIRST_PIXEL = 1
  SAMPLE_LAST_PIXEL = 3016
  SAMPLE_PROJECTION_OFFSET = 1594.75
  SECOND_STANDARD_PARALLEL = "N/A"
  WESTERNMOST_LONGITUDE = 140.478
END_OBJECT = IMAGE_MAP_PROJECTION
/* The JPEG2000 image data file associated with this label. */
OBJECT = COMPRESSED_FILE
  FILE_NAME = "HF881_0000_S23.JP2"
  RECORD_TYPE = UNDEFINED
  FILE_RECORDS = UNK
  ENCODING_TYPE = "JP2"
  INTERCHANGE_FORMAT = BINARY
  UNCOMPRESSED_FILE_NAME = "HF881_0000_S23.IMG"
  REQUIRED_STORAGE_BYTES = "52704600"
  ^DESCRIPTION = "JP2INFO.TXT"
END_OBJECT = COMPRESSED_FILE
END
