PDS_VERSION_ID = PDS3
/* FILE DATA ELEMENTS */
RECORD_TYPE = STREAM
/* POINTERS TO DATA OBJECTS */
^COMPRESSED_FILE = "HF882_0000_BL3.JP2"
/* IDENTIFICATION DATA ELEMENTS */
DATA_SET_ID = "MEX-M-HRSC-5-REFDR-MAPPROJECTED-V3.0"
DATA_SET_NAME = "MARS EXPRESS HRSC MAP PROJECTED REFDR V3.0"
DETECTOR_ID = MEX_HRSC_BLUE
EVENT_TYPE = "MARS-LOCAL-MAPPING-Im-Fl-Pf"
INSTRUMENT_HOST_ID = MEX
INSTRUMENT_HOST_NAME = "MARS EXPRESS"
INSTRUMENT_ID = HRSC
INSTRUMENT_NAME = "HIGH RESOLUTION STEREO CAMERA"
MISSION_NAME = "MARS EXPRESS"
MISSION_PHASE_NAME = ME_Phase_35
PROCESSING_LEVEL_ID = 3
PRODUCT_CREATION_TIME = 2017-06-29T11:20:52.000Z
PRODUCT_ID = "HF882_0000_BL3.JP2"
RELEASE_ID = 0135
REVISION_ID = 0000
/* QUALITY DATA ELEMENTS */
DATA_QUALITY_ID = 1
DATA_QUALITY_DESC = "Data calculated based on original SPICE kernels"
/* TIME DATA ELEMENTS */
SPACECRAFT_CLOCK_START_COUNT = "1/0416527435.08401"
SPACECRAFT_CLOCK_STOP_COUNT = "1/0416527666.17366"
START_TIME = 2016-07-13T22:04:44.525Z
STOP_TIME = 2016-07-13T22:07:22.256Z
/* ORBITAL DATA ELEMENTS */
ASCENDING_NODE_LONGITUDE = 275.52
MAXIMUM_RESOLUTION = 60.9
FOOTPRINT_POINT_LATITUDE = (63.2011,63.1857,63.1727,63.1525, 63.1246,63.0898,62.8048,62.6054,62.3061 ,62.1065,61.9069,61.7072,61.5075, 61.3077,61.0081,60.8083,60.6084,60.4085 ,60.2086,60.0086,59.7087,59.5087, 59.2087,59.0086,58.8086,58.6085,58.4084 ,58.2084,58.0083,57.8083,57.6082, 57.4082,57.2082,57.0081,56.8081,56.6081 ,56.4082,56.1082,55.9082,55.7083, 55.5084,55.3086,55.0088,54.7092,54.5095 ,54.3098,54.1101,53.9105,53.6111, 53.4117,53.2122,53.022,53.039,53.0511, 53.0615,53.0739,53.0818,53.0905,53.2906 ,53.5907,53.8912,54.0916,54.3924, 54.5929,54.7934,54.994,55.1946,55.4957, 55.6964,55.8971,56.0979,56.3992,56.7006 ,56.9015,57.1025,57.4039,57.6049,57.806 ,58.1076,58.3088,58.6104,58.8115, 59.0126,59.3143,59.616,59.8171,60.1188, 60.3199,60.5211,60.7221,60.9232,61.2249 ,61.4259,61.7274,61.9285,62.2301, 62.5315,62.8329,63.0338,63.2011)
FOOTPRINT_POINT_LONGITUDE = (40.841,40.3659,39.9968,39.47,38.8132, 38.0781,38.0138,38.0639,38.1376,38.1855 ,38.2326,38.2789,38.3242,38.3688, 38.4341,38.4767,38.5184,38.5595,38.5999 ,38.6398,38.6979,38.7357,38.7914, 38.8278,38.8633,38.8985,38.9329,38.9667 ,38.9999,39.0325,39.0645,39.0959, 39.1268,39.1572,39.1871,39.2164,39.245, 39.2872,39.315,39.342,39.3686,39.3947, 39.4331,39.4703,39.4946,39.5186,39.5421 ,39.5652,39.5993,39.621,39.6429,39.6628 ,40.1188,40.4721,40.8046,41.2417,41.554 ,41.8943,41.8811,41.8605,41.8403, 41.8267,41.8058,41.7916,41.7769,41.762, 41.7471,41.7243,41.7087,41.6927,41.6769 ,41.6524,41.6274,41.6103,41.5932, 41.5667,41.5488,41.5308,41.5031,41.4844 ,41.4555,41.4359,41.416,41.3854,41.3543 ,41.333,41.3007,41.2786,41.2562,41.2333 ,41.2103,41.1749,41.1507,41.1137, 41.0887,41.0505,41.0112,40.9708,40.9433 ,40.841)
ORBIT_NUMBER = 15882
ORBITAL_ECCENTRICITY = 0.572
ORBITAL_INCLINATION = 86.94
ORBITAL_SEMIMAJOR_AXIS = 8791.69
PERIAPSIS_ALTITUDE = 377.98
PERIAPSIS_ARGUMENT_ANGLE = 121.81
PERIAPSIS_TIME = 2016-07-13T22:05:58.000Z
SPACECRAFT_ORIENTATION = (0.0,-1.0,0.0)
^MEX_ORIENTATION_DESC = "MEX_ORIENTATION_DESC.TXT"
SPACECRAFT_POINTING_MODE = NADIR
^MEX_POINTING_DESC = "MEX_POINTING_DESC.TXT"
RIGHT_ASCENSION = -1e+32
DECLINATION = -1e+32
OFFSET_ANGLE = -1e+32
SPACECRAFT_SOLAR_DISTANCE = 2.17638e+08
TARGET_NAME = MARS
/* CAMERA DATA ELEMENTS */
DETECTOR_TEMPERATURE = 18.7783
FOCAL_PLANE_TEMPERATURE = 9.195
INST_CMPRS_NAME = "DISCRETE COSINE TRANSFORMATION (DCT)"
INST_CMPRS_RATIO = 5.54247
INST_CMPRS_QUALITY = 0
INST_CMPRS_QUANTZ_TBL_ID = 0
INSTRUMENT_TEMPERATURE = 11.4379
LENS_TEMPERATURE = 9.3989
MACROPIXEL_SIZE = 4
MISSING_FRAMES = 0
PIXEL_SUBSAMPLING_FLAG = N
SIGNAL_CHAIN_ID = 2
/* RADIOMETRIC DATA ELEMENTS */
BANDWIDTH = 76.0
CENTER_FILTER_WAVELENGTH = 444.0
RADIANCE_OFFSET = 0.556028
RADIANCE_SCALING_FACTOR = 0.00135191
REFLECTANCE_SCALING_FACTOR = 6.57925e-05
MEX:REFLECTANCE_OFFSET = 0.0270598
/* IMAGE OBJECT DEFINITIONS */
OBJECT = IMAGE
  INTERCHANGE_FORMAT = BINARY
  LINES = 12110
  LINE_SAMPLES = 2438
  SAMPLE_TYPE = UNSIGNED_INTEGER
  SAMPLE_BITS = 8
  BANDS = 1
  BAND_STORAGE_TYPE = BAND_SEQUENTIAL
  MAXIMUM = 254
  MEAN = 137.335
  MINIMUM = 1
  STANDARD_DEVIATION = 28.3384
END_OBJECT = IMAGE
/* MAP OBJECT DEFINITIONS */
OBJECT = IMAGE_MAP_PROJECTION
  ^DATA_SET_MAP_PROJECTION_CATALOG= "DSMAP.CAT"
  A_AXIS_RADIUS = 3396.0
  B_AXIS_RADIUS = 3396.0
  C_AXIS_RADIUS = 3396.0
  CENTER_LATITUDE = 0.0
  CENTER_LONGITUDE = 40.0
  COORDINATE_SYSTEM_NAME = PLANETOGRAPHIC
  COORDINATE_SYSTEM_TYPE = "BODY-FIXED ROTATING"
  EASTERNMOST_LONGITUDE = 41.8943
  FIRST_STANDARD_PARALLEL = "N/A"
  LINE_FIRST_PIXEL = 1
  LINE_LAST_PIXEL = 12110
  LINE_PROJECTION_OFFSET = 74945.625
  MAP_PROJECTION_ROTATION = 0.0
  MAP_PROJECTION_TYPE = SINUSOIDAL
  MAP_RESOLUTION = 1185.42760773333
  MAP_SCALE = 0.05
  MAXIMUM_LATITUDE = 63.2011
  MINIMUM_LATITUDE = 53.022
  POSITIVE_LONGITUDE_DIRECTION = EAST
  REFERENCE_LATITUDE = "N/A"
  REFERENCE_LONGITUDE = "N/A"
  SAMPLE_FIRST_PIXEL = 1
  SAMPLE_LAST_PIXEL = 2438
  SAMPLE_PROJECTION_OFFSET = 1110.875
  SECOND_STANDARD_PARALLEL = "N/A"
  WESTERNMOST_LONGITUDE = 38.0138
END_OBJECT = IMAGE_MAP_PROJECTION
/* The JPEG2000 image data file associated with this label. */
OBJECT = COMPRESSED_FILE
  FILE_NAME = "HF882_0000_BL3.JP2"
  RECORD_TYPE = UNDEFINED
  FILE_RECORDS = UNK
  ENCODING_TYPE = "JP2"
  INTERCHANGE_FORMAT = BINARY
  UNCOMPRESSED_FILE_NAME = "HF882_0000_BL3.IMG"
  REQUIRED_STORAGE_BYTES = "29543684"
  ^DESCRIPTION = "JP2INFO.TXT"
END_OBJECT = COMPRESSED_FILE
END
