PDS_VERSION_ID = PDS3
/* FILE DATA ELEMENTS */
RECORD_TYPE = STREAM
/* POINTERS TO DATA OBJECTS */
^COMPRESSED_FILE = "HF887_0000_ND3.JP2"
/* IDENTIFICATION DATA ELEMENTS */
DATA_SET_ID = "MEX-M-HRSC-5-REFDR-MAPPROJECTED-V3.0"
DATA_SET_NAME = "MARS EXPRESS HRSC MAP PROJECTED REFDR V3.0"
DETECTOR_ID = MEX_HRSC_NADIR
EVENT_TYPE = "MARS-REGIONAL-MAPPING-Vo-Te-Pf"
INSTRUMENT_HOST_ID = MEX
INSTRUMENT_HOST_NAME = "MARS EXPRESS"
INSTRUMENT_ID = HRSC
INSTRUMENT_NAME = "HIGH RESOLUTION STEREO CAMERA"
MISSION_NAME = "MARS EXPRESS"
MISSION_PHASE_NAME = ME_Phase_35
PROCESSING_LEVEL_ID = 3
PRODUCT_CREATION_TIME = 2017-06-29T11:20:52.000Z
PRODUCT_ID = "HF887_0000_ND3.JP2"
RELEASE_ID = 0135
REVISION_ID = 0000
/* QUALITY DATA ELEMENTS */
DATA_QUALITY_ID = 1
DATA_QUALITY_DESC = "Data calculated based on original SPICE kernels"
/* TIME DATA ELEMENTS */
SPACECRAFT_CLOCK_START_COUNT = "1/0416653274.09056"
SPACECRAFT_CLOCK_STOP_COUNT = "1/0416653578.40786"
START_TIME = 2016-07-15T09:01:59.919Z
STOP_TIME = 2016-07-15T09:05:48.925Z
/* ORBITAL DATA ELEMENTS */
ASCENDING_NODE_LONGITUDE = 275.44
MAXIMUM_RESOLUTION = 15.2
FOOTPRINT_POINT_LATITUDE = (68.7887,68.7443,68.6979,68.1204, 67.5419,66.9623,66.3817,66.0911,65.8003 ,65.5093,65.2181,64.9267,64.6351, 64.3433,64.0514,63.7593,63.4671,63.1747 ,62.8822,62.5896,62.2968,62.004,61.711, 61.4179,61.1248,60.8315,60.5382,60.2448 ,59.9514,59.6579,59.3643,59.0707, 58.7771,58.4834,58.1897,57.896,57.6023, 57.3086,57.0149,56.7212,56.4275,56.1339 ,55.8402,55.5466,55.2531,54.9596, 54.6662,54.3728,54.0795,54.0941,54.114, 54.13,54.4243,54.7187,55.0131,55.3076, 55.6022,55.8969,56.1916,56.4864,56.7812 ,57.076,57.3709,57.6658,57.9608,58.2557 ,58.5506,58.8456,59.1406,59.4355, 59.8779,60.4677,60.7626,61.0574,61.3522 ,61.6469,61.9415,62.2361,62.5306, 62.8251,63.1195,63.4137,63.7079,64.002, 64.443,64.7368,65.0305,65.3241,65.6175, 65.9108,66.204,66.497,66.7898,67.0825, 67.3751,67.6674,67.9596,68.2516,68.8351 ,68.7887)
FOOTPRINT_POINT_LONGITUDE = (248.309,247.142,246.063,246.278,246.48 ,246.671,246.85,246.936,247.019,247.1, 247.179,247.255,247.329,247.402,247.472 ,247.54,247.606,247.67,247.733,247.794, 247.853,247.91,247.966,248.021,248.074, 248.125,248.175,248.224,248.271,248.317 ,248.362,248.406,248.448,248.49,248.53, 248.569,248.607,248.644,248.68,248.715, 248.749,248.782,248.814,248.845,248.875 ,248.905,248.934,248.962,248.989, 249.637,250.43,251.293,251.28,251.266, 251.252,251.238,251.223,251.208,251.193 ,251.178,251.162,251.145,251.128, 251.111,251.094,251.076,251.058,251.039 ,251.019,250.999,250.968,250.926, 250.904,250.881,250.858,250.834,250.809 ,250.784,250.758,250.731,250.704, 250.676,250.647,250.617,250.572,250.54, 250.508,250.475,250.44,250.405,250.369, 250.331,250.292,250.253,250.212,250.17, 250.127,250.083,249.99,248.309)
ORBIT_NUMBER = 15887
ORBITAL_ECCENTRICITY = 0.572
ORBITAL_INCLINATION = 86.94
ORBITAL_SEMIMAJOR_AXIS = 8788.87
PERIAPSIS_ALTITUDE = 377.73
PERIAPSIS_ARGUMENT_ANGLE = 120.92
PERIAPSIS_TIME = 2016-07-15T09:04:33.000Z
SPACECRAFT_ORIENTATION = (0.0,-1.0,0.0)
^MEX_ORIENTATION_DESC = "MEX_ORIENTATION_DESC.TXT"
SPACECRAFT_POINTING_MODE = ACROSSTRACK
^MEX_POINTING_DESC = "MEX_POINTING_DESC.TXT"
RIGHT_ASCENSION = -1e+32
DECLINATION = -1e+32
OFFSET_ANGLE = 0.539
SPACECRAFT_SOLAR_DISTANCE = 2.17379e+08
TARGET_NAME = MARS
/* CAMERA DATA ELEMENTS */
DETECTOR_TEMPERATURE = 18.5744
FOCAL_PLANE_TEMPERATURE = 8.9911
INST_CMPRS_NAME = "DISCRETE COSINE TRANSFORMATION (DCT)"
INST_CMPRS_RATIO = 6.6692
INST_CMPRS_QUALITY = 0
INST_CMPRS_QUANTZ_TBL_ID = 0
INSTRUMENT_TEMPERATURE = 11.8457
LENS_TEMPERATURE = 8.9911
MACROPIXEL_SIZE = 1
MISSING_FRAMES = 0
PIXEL_SUBSAMPLING_FLAG = N
SIGNAL_CHAIN_ID = 0
/* RADIOMETRIC DATA ELEMENTS */
BANDWIDTH = 177.0
CENTER_FILTER_WAVELENGTH = 677.5
RADIANCE_OFFSET = 2.18761
RADIANCE_SCALING_FACTOR = 0.010803
REFLECTANCE_SCALING_FACTOR = 0.000271184
MEX:REFLECTANCE_OFFSET = 0.0549148
/* IMAGE OBJECT DEFINITIONS */
OBJECT = IMAGE
  INTERCHANGE_FORMAT = BINARY
  LINES = 69991
  LINE_SAMPLES = 11418
  SAMPLE_TYPE = UNSIGNED_INTEGER
  SAMPLE_BITS = 8
  BANDS = 1
  BAND_STORAGE_TYPE = BAND_SEQUENTIAL
  MAXIMUM = 255
  MEAN = 112.268
  MINIMUM = 1
  STANDARD_DEVIATION = 43.2667
END_OBJECT = IMAGE
/* MAP OBJECT DEFINITIONS */
OBJECT = IMAGE_MAP_PROJECTION
  ^DATA_SET_MAP_PROJECTION_CATALOG= "DSMAP.CAT"
  A_AXIS_RADIUS = 3396.0
  B_AXIS_RADIUS = 3396.0
  C_AXIS_RADIUS = 3396.0
  CENTER_LATITUDE = 0.0
  CENTER_LONGITUDE = 249.0
  COORDINATE_SYSTEM_NAME = PLANETOGRAPHIC
  COORDINATE_SYSTEM_TYPE = "BODY-FIXED ROTATING"
  EASTERNMOST_LONGITUDE = 251.293
  FIRST_STANDARD_PARALLEL = "N/A"
  LINE_FIRST_PIXEL = 1
  LINE_LAST_PIXEL = 69991
  LINE_PROJECTION_OFFSET = 326388.0
  MAP_PROJECTION_ROTATION = 0.0
  MAP_PROJECTION_TYPE = SINUSOIDAL
  MAP_RESOLUTION = 4741.71043093333
  MAP_SCALE = 0.0125
  MAXIMUM_LATITUDE = 68.8351
  MINIMUM_LATITUDE = 54.0795
  POSITIVE_LONGITUDE_DIRECTION = EAST
  REFERENCE_LATITUDE = "N/A"
  REFERENCE_LONGITUDE = "N/A"
  SAMPLE_FIRST_PIXEL = 1
  SAMPLE_LAST_PIXEL = 11418
  SAMPLE_PROJECTION_OFFSET = 5024.0
  SECOND_STANDARD_PARALLEL = "N/A"
  WESTERNMOST_LONGITUDE = 246.063
END_OBJECT = IMAGE_MAP_PROJECTION
/* The JPEG2000 image data file associated with this label. */
OBJECT = COMPRESSED_FILE
  FILE_NAME = "HF887_0000_ND3.JP2"
  RECORD_TYPE = UNDEFINED
  FILE_RECORDS = UNK
  ENCODING_TYPE = "JP2"
  INTERCHANGE_FORMAT = BINARY
  UNCOMPRESSED_FILE_NAME = "HF887_0000_ND3.IMG"
  REQUIRED_STORAGE_BYTES = "799191492"
  ^DESCRIPTION = "JP2INFO.TXT"
END_OBJECT = COMPRESSED_FILE
END
