PDS_VERSION_ID = PDS3
/* FILE DATA ELEMENTS */
RECORD_TYPE = STREAM
/* POINTERS TO DATA OBJECTS */
^COMPRESSED_FILE = "HF887_0000_P23.JP2"
/* IDENTIFICATION DATA ELEMENTS */
DATA_SET_ID = "MEX-M-HRSC-5-REFDR-MAPPROJECTED-V3.0"
DATA_SET_NAME = "MARS EXPRESS HRSC MAP PROJECTED REFDR V3.0"
DETECTOR_ID = MEX_HRSC_P2
EVENT_TYPE = "MARS-REGIONAL-MAPPING-Vo-Te-Pf"
INSTRUMENT_HOST_ID = MEX
INSTRUMENT_HOST_NAME = "MARS EXPRESS"
INSTRUMENT_ID = HRSC
INSTRUMENT_NAME = "HIGH RESOLUTION STEREO CAMERA"
MISSION_NAME = "MARS EXPRESS"
MISSION_PHASE_NAME = ME_Phase_35
PROCESSING_LEVEL_ID = 3
PRODUCT_CREATION_TIME = 2017-06-29T11:20:52.000Z
PRODUCT_ID = "HF887_0000_P23.JP2"
RELEASE_ID = 0135
REVISION_ID = 0000
/* QUALITY DATA ELEMENTS */
DATA_QUALITY_ID = 1
DATA_QUALITY_DESC = "Data calculated based on original SPICE kernels"
/* TIME DATA ELEMENTS */
SPACECRAFT_CLOCK_START_COUNT = "1/0416653274.09056"
SPACECRAFT_CLOCK_STOP_COUNT = "1/0416653578.40786"
START_TIME = 2016-07-15T09:02:23.914Z
STOP_TIME = 2016-07-15T09:06:12.190Z
/* ORBITAL DATA ELEMENTS */
ASCENDING_NODE_LONGITUDE = 275.44
MAXIMUM_RESOLUTION = 31.3
FOOTPRINT_POINT_LATITUDE = (68.77,68.7509,68.7289,68.7053,68.6803, 68.6537,68.6256,68.255,67.9624,67.6691, 67.2294,66.7895,66.4963,66.0557,65.6156 ,65.322,65.0284,64.7348,64.4411,64.1475 ,63.707,63.2665,62.973,62.5327,62.2392, 61.9458,61.6524,61.3592,61.0659,60.7728 ,60.4796,60.1866,59.7472,59.3079, 59.0152,58.7228,58.4304,58.1383,57.8462 ,57.5544,57.2628,56.9711,56.5345, 56.2432,55.9524,55.5164,55.2263,54.9363 ,54.6467,54.3567,54.0673,54.0725,54.098 ,54.1109,54.1217,54.2877,54.5782,54.869 ,55.1599,55.451,55.7426,56.0342,56.3263 ,56.6184,56.9106,57.2027,57.4959, 57.7889,58.082,58.3751,58.6688,59.1092, 59.55,59.9922,60.4327,60.7275,61.0221, 61.3169,61.759,62.0539,62.3491,62.7918, 63.0871,63.3824,63.6779,64.1214,64.5647 ,64.8604,65.156,65.452,65.7477,66.0434, 66.487,66.9304,67.3742,67.67,67.9661, 68.2618,68.5576,68.77)
FOOTPRINT_POINT_LONGITUDE = (249.796,249.252,248.679,248.109, 247.545,246.986,246.43,246.257,246.361, 246.463,246.608,246.747,246.836,246.965 ,247.088,247.167,247.244,247.319, 247.391,247.461,247.563,247.66,247.722, 247.813,247.871,247.927,247.982,248.036 ,248.088,248.138,248.187,248.235, 248.304,248.37,248.413,248.454,248.495, 248.534,248.572,248.609,248.645,248.68, 248.73,248.763,248.794,248.84,248.87, 248.898,248.926,248.953,248.979,249.312 ,249.959,250.321,250.639,251.306, 251.292,251.278,251.264,251.249,251.234 ,251.219,251.203,251.187,251.171, 251.153,251.137,251.119,251.101,251.082 ,251.064,251.034,251.004,250.974, 250.939,250.917,250.894,250.87,250.833, 250.807,250.781,250.741,250.713,250.684 ,250.655,250.609,250.562,250.529, 250.495,250.46,250.425,250.388,250.33, 250.27,250.207,250.164,250.12,250.074, 250.026,249.796)
ORBIT_NUMBER = 15887
ORBITAL_ECCENTRICITY = 0.572
ORBITAL_INCLINATION = 86.94
ORBITAL_SEMIMAJOR_AXIS = 8788.87
PERIAPSIS_ALTITUDE = 377.73
PERIAPSIS_ARGUMENT_ANGLE = 120.92
PERIAPSIS_TIME = 2016-07-15T09:04:33.000Z
SPACECRAFT_ORIENTATION = (0.0,-1.0,0.0)
^MEX_ORIENTATION_DESC = "MEX_ORIENTATION_DESC.TXT"
SPACECRAFT_POINTING_MODE = ACROSSTRACK
^MEX_POINTING_DESC = "MEX_POINTING_DESC.TXT"
RIGHT_ASCENSION = -1e+32
DECLINATION = -1e+32
OFFSET_ANGLE = 0.539
SPACECRAFT_SOLAR_DISTANCE = 2.17379e+08
TARGET_NAME = MARS
/* CAMERA DATA ELEMENTS */
DETECTOR_TEMPERATURE = 18.7783
FOCAL_PLANE_TEMPERATURE = 8.9911
INST_CMPRS_NAME = "DISCRETE COSINE TRANSFORMATION (DCT)"
INST_CMPRS_RATIO = 8.90585
INST_CMPRS_QUALITY = 0
INST_CMPRS_QUANTZ_TBL_ID = 0
INSTRUMENT_TEMPERATURE = 11.8457
LENS_TEMPERATURE = 8.9911
MACROPIXEL_SIZE = 2
MISSING_FRAMES = 0
PIXEL_SUBSAMPLING_FLAG = N
SIGNAL_CHAIN_ID = 3
/* RADIOMETRIC DATA ELEMENTS */
BANDWIDTH = 177.0
CENTER_FILTER_WAVELENGTH = 676.5
RADIANCE_OFFSET = 2.41519
RADIANCE_SCALING_FACTOR = 0.0111814
REFLECTANCE_SCALING_FACTOR = 0.00028015
MEX:REFLECTANCE_OFFSET = 0.0605124
/* IMAGE OBJECT DEFINITIONS */
OBJECT = IMAGE
  INTERCHANGE_FORMAT = BINARY
  LINES = 34996
  LINE_SAMPLES = 5709
  SAMPLE_TYPE = UNSIGNED_INTEGER
  SAMPLE_BITS = 8
  BANDS = 1
  BAND_STORAGE_TYPE = BAND_SEQUENTIAL
  MAXIMUM = 255
  MEAN = 112.021
  MINIMUM = 1
  STANDARD_DEVIATION = 45.9891
END_OBJECT = IMAGE
/* MAP OBJECT DEFINITIONS */
OBJECT = IMAGE_MAP_PROJECTION
  ^DATA_SET_MAP_PROJECTION_CATALOG= "DSMAP.CAT"
  A_AXIS_RADIUS = 3396.0
  B_AXIS_RADIUS = 3396.0
  C_AXIS_RADIUS = 3396.0
  CENTER_LATITUDE = 0.0
  CENTER_LONGITUDE = 249.0
  COORDINATE_SYSTEM_NAME = PLANETOGRAPHIC
  COORDINATE_SYSTEM_TYPE = "BODY-FIXED ROTATING"
  EASTERNMOST_LONGITUDE = 251.306
  FIRST_STANDARD_PARALLEL = "N/A"
  LINE_FIRST_PIXEL = 1
  LINE_LAST_PIXEL = 34996
  LINE_PROJECTION_OFFSET = 163193.75
  MAP_PROJECTION_ROTATION = 0.0
  MAP_PROJECTION_TYPE = SINUSOIDAL
  MAP_RESOLUTION = 2370.85521546667
  MAP_SCALE = 0.025
  MAXIMUM_LATITUDE = 68.77
  MINIMUM_LATITUDE = 54.0673
  POSITIVE_LONGITUDE_DIRECTION = EAST
  REFERENCE_LATITUDE = "N/A"
  REFERENCE_LONGITUDE = "N/A"
  SAMPLE_FIRST_PIXEL = 1
  SAMPLE_LAST_PIXEL = 5709
  SAMPLE_PROJECTION_OFFSET = 2511.75
  SECOND_STANDARD_PARALLEL = "N/A"
  WESTERNMOST_LONGITUDE = 246.257
END_OBJECT = IMAGE_MAP_PROJECTION
/* The JPEG2000 image data file associated with this label. */
OBJECT = COMPRESSED_FILE
  FILE_NAME = "HF887_0000_P23.JP2"
  RECORD_TYPE = UNDEFINED
  FILE_RECORDS = UNK
  ENCODING_TYPE = "JP2"
  INTERCHANGE_FORMAT = BINARY
  UNCOMPRESSED_FILE_NAME = "HF887_0000_P23.IMG"
  REQUIRED_STORAGE_BYTES = "199820709"
  ^DESCRIPTION = "JP2INFO.TXT"
END_OBJECT = COMPRESSED_FILE
END
