PDS_VERSION_ID = PDS3
/* FILE DATA ELEMENTS */
RECORD_TYPE = STREAM
/* POINTERS TO DATA OBJECTS */
^COMPRESSED_FILE = "HF893_0000_ND3.JP2"
/* IDENTIFICATION DATA ELEMENTS */
DATA_SET_ID = "MEX-M-HRSC-5-REFDR-MAPPROJECTED-V3.0"
DATA_SET_NAME = "MARS EXPRESS HRSC MAP PROJECTED REFDR V3.0"
DETECTOR_ID = MEX_HRSC_NADIR
EVENT_TYPE = "MARS-REGIONAL-MAPPING-Im-Pf"
INSTRUMENT_HOST_ID = MEX
INSTRUMENT_HOST_NAME = "MARS EXPRESS"
INSTRUMENT_ID = HRSC
INSTRUMENT_NAME = "HIGH RESOLUTION STEREO CAMERA"
MISSION_NAME = "MARS EXPRESS"
MISSION_PHASE_NAME = ME_Phase_35
PROCESSING_LEVEL_ID = 3
PRODUCT_CREATION_TIME = 2017-06-29T11:20:52.000Z
PRODUCT_ID = "HF893_0000_ND3.JP2"
RELEASE_ID = 0135
REVISION_ID = 0000
/* QUALITY DATA ELEMENTS */
DATA_QUALITY_ID = 1
DATA_QUALITY_DESC = "Data calculated based on original SPICE kernels"
/* TIME DATA ELEMENTS */
SPACECRAFT_CLOCK_START_COUNT = "1/0416804522.09050"
SPACECRAFT_CLOCK_STOP_COUNT = "1/0416804745.06716"
START_TIME = 2016-07-17T03:02:44.555Z
STOP_TIME = 2016-07-17T03:05:13.551Z
/* ORBITAL DATA ELEMENTS */
ASCENDING_NODE_LONGITUDE = 275.32
MAXIMUM_RESOLUTION = 15.3
FOOTPRINT_POINT_LATITUDE = (60.3418,60.3275,60.3119,60.2918, 60.2575,60.238,60.0481,59.8582,59.5733, 59.3833,59.1934,59.0034,58.8134,58.6234 ,58.4333,58.2433,58.0532,57.8632, 57.6732,57.4831,57.2931,57.103,56.913, 56.7229,56.5329,56.3429,56.1529,55.9629 ,55.773,55.583,55.3931,55.2032,55.0133, 54.8234,54.6336,54.4438,54.254,54.0643, 53.8746,53.6849,53.4953,53.3057,52.9267 ,52.5478,52.1691,51.7907,51.4124, 51.0344,50.7439,50.7574,50.7763,50.7876 ,50.7972,50.8087,51.1879,51.5673,51.947 ,52.1369,52.3269,52.517,52.7071,52.8973 ,53.0875,53.2778,53.4681,53.6585, 53.8489,54.0394,54.2299,54.4204,54.611, 54.8017,54.9923,55.1831,55.3738,55.5646 ,55.7554,55.9462,56.1371,56.328,56.5189 ,56.7099,56.9008,57.0918,57.2828, 57.4738,57.6649,57.8559,58.047,58.2381, 58.4291,58.6202,58.8113,59.0024,59.1935 ,59.3846,59.6713,59.9579,60.149, 60.3418)
FOOTPRINT_POINT_LONGITUDE = (355.141,354.739,354.335,353.855,353.12 ,352.701,352.742,352.782,352.84,352.879 ,352.917,352.954,352.99,353.026,353.062 ,353.096,353.13,353.164,353.197,353.23, 353.262,353.293,353.324,353.355,353.384 ,353.414,353.443,353.471,353.499, 353.527,353.554,353.581,353.607,353.633 ,353.658,353.683,353.707,353.731, 353.755,353.778,353.801,353.824,353.868 ,353.91,353.952,353.991,354.03,354.067, 354.226,354.577,355.122,355.492,355.84, 356.305,356.279,356.253,356.226,356.213 ,356.199,356.185,356.171,356.156, 356.142,356.127,356.112,356.097,356.081 ,356.066,356.05,356.034,356.018,356.002 ,355.985,355.968,355.951,355.934, 355.916,355.898,355.88,355.862,355.843, 355.825,355.806,355.786,355.767,355.747 ,355.727,355.706,355.686,355.665, 355.643,355.622,355.6,355.578,355.555, 355.532,355.497,355.461,355.437, 355.141)
ORBIT_NUMBER = 15893
ORBITAL_ECCENTRICITY = 0.572
ORBITAL_INCLINATION = 86.94
ORBITAL_SEMIMAJOR_AXIS = 8785.35
PERIAPSIS_ALTITUDE = 379.04
PERIAPSIS_ARGUMENT_ANGLE = 119.89
PERIAPSIS_TIME = 2016-07-17T03:02:50.000Z
SPACECRAFT_ORIENTATION = (0.0,-1.0,0.0)
^MEX_ORIENTATION_DESC = "MEX_ORIENTATION_DESC.TXT"
SPACECRAFT_POINTING_MODE = ACROSSTRACK
^MEX_POINTING_DESC = "MEX_POINTING_DESC.TXT"
RIGHT_ASCENSION = -1e+32
DECLINATION = -1e+32
OFFSET_ANGLE = -0.25
SPACECRAFT_SOLAR_DISTANCE = 2.1707e+08
TARGET_NAME = MARS
/* CAMERA DATA ELEMENTS */
DETECTOR_TEMPERATURE = 18.5744
FOCAL_PLANE_TEMPERATURE = 8.7872
INST_CMPRS_NAME = "DISCRETE COSINE TRANSFORMATION (DCT)"
INST_CMPRS_RATIO = 7.03526
INST_CMPRS_QUALITY = 0
INST_CMPRS_QUANTZ_TBL_ID = 0
INSTRUMENT_TEMPERATURE = 9.8067
LENS_TEMPERATURE = 10.2145
MACROPIXEL_SIZE = 1
MISSING_FRAMES = 0
PIXEL_SUBSAMPLING_FLAG = N
SIGNAL_CHAIN_ID = 0
/* RADIOMETRIC DATA ELEMENTS */
BANDWIDTH = 177.0
CENTER_FILTER_WAVELENGTH = 677.5
RADIANCE_OFFSET = 2.91681
RADIANCE_SCALING_FACTOR = 0.00635471
REFLECTANCE_SCALING_FACTOR = 0.000159067
MEX:REFLECTANCE_OFFSET = 0.0730116
/* IMAGE OBJECT DEFINITIONS */
OBJECT = IMAGE
  INTERCHANGE_FORMAT = BINARY
  LINES = 45566
  LINE_SAMPLES = 9251
  SAMPLE_TYPE = UNSIGNED_INTEGER
  SAMPLE_BITS = 8
  BANDS = 1
  BAND_STORAGE_TYPE = BAND_SEQUENTIAL
  MAXIMUM = 255
  MEAN = 121.753
  MINIMUM = 1
  STANDARD_DEVIATION = 33.0129
END_OBJECT = IMAGE
/* MAP OBJECT DEFINITIONS */
OBJECT = IMAGE_MAP_PROJECTION
  ^DATA_SET_MAP_PROJECTION_CATALOG= "DSMAP.CAT"
  A_AXIS_RADIUS = 3396.0
  B_AXIS_RADIUS = 3396.0
  C_AXIS_RADIUS = 3396.0
  CENTER_LATITUDE = 0.0
  CENTER_LONGITUDE = 355.0
  COORDINATE_SYSTEM_NAME = PLANETOGRAPHIC
  COORDINATE_SYSTEM_TYPE = "BODY-FIXED ROTATING"
  EASTERNMOST_LONGITUDE = 356.305
  FIRST_STANDARD_PARALLEL = "N/A"
  LINE_FIRST_PIXEL = 1
  LINE_LAST_PIXEL = 45566
  LINE_PROJECTION_OFFSET = 286158.0
  MAP_PROJECTION_ROTATION = 0.0
  MAP_PROJECTION_TYPE = SINUSOIDAL
  MAP_RESOLUTION = 4741.71043093333
  MAP_SCALE = 0.0125
  MAXIMUM_LATITUDE = 60.3418
  MINIMUM_LATITUDE = 50.7439
  POSITIVE_LONGITUDE_DIRECTION = EAST
  REFERENCE_LATITUDE = "N/A"
  REFERENCE_LONGITUDE = "N/A"
  SAMPLE_FIRST_PIXEL = 1
  SAMPLE_LAST_PIXEL = 9251
  SAMPLE_PROJECTION_OFFSET = 5368.0
  SECOND_STANDARD_PARALLEL = "N/A"
  WESTERNMOST_LONGITUDE = 352.701
END_OBJECT = IMAGE_MAP_PROJECTION
/* The JPEG2000 image data file associated with this label. */
OBJECT = COMPRESSED_FILE
  FILE_NAME = "HF893_0000_ND3.JP2"
  RECORD_TYPE = UNDEFINED
  FILE_RECORDS = UNK
  ENCODING_TYPE = "JP2"
  INTERCHANGE_FORMAT = BINARY
  UNCOMPRESSED_FILE_NAME = "HF893_0000_ND3.IMG"
  REQUIRED_STORAGE_BYTES = "421558819"
  ^DESCRIPTION = "JP2INFO.TXT"
END_OBJECT = COMPRESSED_FILE
END
