PDS_VERSION_ID = PDS3
/* FILE DATA ELEMENTS */
RECORD_TYPE = STREAM
/* POINTERS TO DATA OBJECTS */
^COMPRESSED_FILE = "HF896_0000_ND3.JP2"
/* IDENTIFICATION DATA ELEMENTS */
DATA_SET_ID = "MEX-M-HRSC-5-REFDR-MAPPROJECTED-V3.0"
DATA_SET_NAME = "MARS EXPRESS HRSC MAP PROJECTED REFDR V3.0"
DETECTOR_ID = MEX_HRSC_NADIR
EVENT_TYPE = "MARS-REGIONAL-MAPPING-Im-Fl"
INSTRUMENT_HOST_ID = MEX
INSTRUMENT_HOST_NAME = "MARS EXPRESS"
INSTRUMENT_ID = HRSC
INSTRUMENT_NAME = "HIGH RESOLUTION STEREO CAMERA"
MISSION_NAME = "MARS EXPRESS"
MISSION_PHASE_NAME = ME_Phase_35
PROCESSING_LEVEL_ID = 3
PRODUCT_CREATION_TIME = 2017-06-29T11:20:52.000Z
PRODUCT_ID = "HF896_0000_ND3.JP2"
RELEASE_ID = 0135
REVISION_ID = 0000
/* QUALITY DATA ELEMENTS */
DATA_QUALITY_ID = 1
DATA_QUALITY_DESC = "Data calculated based on original SPICE kernels"
/* TIME DATA ELEMENTS */
SPACECRAFT_CLOCK_START_COUNT = "1/0416880326.09079"
SPACECRAFT_CLOCK_STOP_COUNT = "1/0416880593.31235"
START_TIME = 2016-07-18T00:06:12.205Z
STOP_TIME = 2016-07-18T00:09:03.191Z
/* ORBITAL DATA ELEMENTS */
ASCENDING_NODE_LONGITUDE = 275.26
MAXIMUM_RESOLUTION = 17.2
FOOTPRINT_POINT_LATITUDE = (44.5038,44.4999,44.4951,44.4894, 44.4825,44.2832,43.8993,43.5068,43.3105 ,42.9181,42.5264,42.2272,42.027,41.8269 ,41.627,41.4271,41.2275,41.0246,40.8205 ,40.6166,40.4129,40.2092,40.0058, 39.6952,39.4874,39.2799,39.0726,38.8655 ,38.654,38.4425,38.2312,38.0202,37.8093 ,37.487,37.272,37.0572,36.8427,36.5149, 36.2962,36.0778,35.8596,35.6373,35.4149 ,35.1929,34.9711,34.6329,34.4071, 34.1816,34.0431,34.0454,34.0468,34.0478 ,34.0483,34.0477,34.1603,34.3863, 34.7259,34.9523,35.1747,35.3973,35.6202 ,35.953,36.1718,36.3909,36.6103,36.8297 ,37.0448,37.2602,37.5837,37.7994, 38.0108,38.2224,38.4342,38.6461,38.9624 ,39.1701,39.3781,39.5862,39.7945, 40.0024,40.2062,40.4102,40.6146,40.819, 41.0235,41.2276,41.4277,41.628,41.8284, 42.029,42.2297,42.5302,42.9229,43.1195, 43.3162,43.513,43.7099,43.907,44.2919, 44.5038)
FOOTPRINT_POINT_LONGITUDE = (50.2246,49.8979,49.5728,49.2495, 48.9073,48.5688,48.5805,48.5916,48.597, 48.6073,48.6175,48.6248,48.6275,48.6313 ,48.6352,48.6396,48.6438,48.6492, 48.6523,48.6551,48.6572,48.6614,48.6641 ,48.6683,48.6707,48.6729,48.6747, 48.6764,48.678,48.6799,48.6813,48.6826, 48.6839,48.6854,48.6861,48.6867,48.6872 ,48.6876,48.6879,48.6877,48.6874, 48.6868,48.6863,48.6853,48.6841,48.6823 ,48.6809,48.6794,49.0224,49.3029, 49.5407,49.8225,50.1707,50.5203,50.8804 ,50.8766,50.871,50.8677,50.8642,50.8604 ,50.8572,50.8511,50.8488,50.8446, 50.8414,50.8375,50.8334,50.8326,50.8283 ,50.8249,50.8232,50.819,50.8151,50.8089 ,50.8001,50.7968,50.793,50.789,50.7849, 50.782,50.7765,50.7718,50.7709,50.7674, 50.7583,50.7611,50.7592,50.7552,50.7503 ,50.7439,50.7379,50.7333,50.7258, 50.7206,50.7152,50.7088,50.7025,50.6988 ,50.6897,50.2246)
ORBIT_NUMBER = 15896
ORBITAL_ECCENTRICITY = 0.572
ORBITAL_INCLINATION = 86.95
ORBITAL_SEMIMAJOR_AXIS = 8788.36
PERIAPSIS_ALTITUDE = 379.1
PERIAPSIS_ARGUMENT_ANGLE = 119.4
PERIAPSIS_TIME = 2016-07-18T00:02:01.000Z
SPACECRAFT_ORIENTATION = (0.0,-1.0,0.0)
^MEX_ORIENTATION_DESC = "MEX_ORIENTATION_DESC.TXT"
SPACECRAFT_POINTING_MODE = ACROSSTRACK
^MEX_POINTING_DESC = "MEX_POINTING_DESC.TXT"
RIGHT_ASCENSION = -1e+32
DECLINATION = -1e+32
OFFSET_ANGLE = 0.4
SPACECRAFT_SOLAR_DISTANCE = 2.16916e+08
TARGET_NAME = MARS
/* CAMERA DATA ELEMENTS */
DETECTOR_TEMPERATURE = 18.7783
FOCAL_PLANE_TEMPERATURE = 10.2145
INST_CMPRS_NAME = "DISCRETE COSINE TRANSFORMATION (DCT)"
INST_CMPRS_RATIO = 4.77007
INST_CMPRS_QUALITY = 0
INST_CMPRS_QUANTZ_TBL_ID = 0
INSTRUMENT_TEMPERATURE = 12.6613
LENS_TEMPERATURE = 11.0301
MACROPIXEL_SIZE = 1
MISSING_FRAMES = 0
PIXEL_SUBSAMPLING_FLAG = N
SIGNAL_CHAIN_ID = 0
/* RADIOMETRIC DATA ELEMENTS */
BANDWIDTH = 177.0
CENTER_FILTER_WAVELENGTH = 677.5
RADIANCE_OFFSET = 2.21897
RADIANCE_SCALING_FACTOR = 0.0348074
REFLECTANCE_SCALING_FACTOR = 0.000870038
MEX:REFLECTANCE_OFFSET = 0.055465
/* IMAGE OBJECT DEFINITIONS */
OBJECT = IMAGE
  INTERCHANGE_FORMAT = BINARY
  LINES = 49648
  LINE_SAMPLES = 8873
  SAMPLE_TYPE = UNSIGNED_INTEGER
  SAMPLE_BITS = 8
  BANDS = 1
  BAND_STORAGE_TYPE = BAND_SEQUENTIAL
  MAXIMUM = 255
  MEAN = 133.892
  MINIMUM = 1
  STANDARD_DEVIATION = 29.8351
END_OBJECT = IMAGE
/* MAP OBJECT DEFINITIONS */
OBJECT = IMAGE_MAP_PROJECTION
  ^DATA_SET_MAP_PROJECTION_CATALOG= "DSMAP.CAT"
  A_AXIS_RADIUS = 3396.0
  B_AXIS_RADIUS = 3396.0
  C_AXIS_RADIUS = 3396.0
  CENTER_LATITUDE = 0.0
  CENTER_LONGITUDE = 50.0
  COORDINATE_SYSTEM_NAME = PLANETOGRAPHIC
  COORDINATE_SYSTEM_TYPE = "BODY-FIXED ROTATING"
  EASTERNMOST_LONGITUDE = 50.8804
  FIRST_STANDARD_PARALLEL = "N/A"
  LINE_FIRST_PIXEL = 1
  LINE_LAST_PIXEL = 49648
  LINE_PROJECTION_OFFSET = 211051.0
  MAP_PROJECTION_ROTATION = 0.0
  MAP_PROJECTION_TYPE = SINUSOIDAL
  MAP_RESOLUTION = 4741.71043093333
  MAP_SCALE = 0.0125
  MAXIMUM_LATITUDE = 44.5038
  MINIMUM_LATITUDE = 34.0431
  POSITIVE_LONGITUDE_DIRECTION = EAST
  REFERENCE_LATITUDE = "N/A"
  REFERENCE_LONGITUDE = "N/A"
  SAMPLE_FIRST_PIXEL = 1
  SAMPLE_LAST_PIXEL = 8873
  SAMPLE_PROJECTION_OFFSET = 5238.0
  SECOND_STANDARD_PARALLEL = "N/A"
  WESTERNMOST_LONGITUDE = 48.5688
END_OBJECT = IMAGE_MAP_PROJECTION
/* The JPEG2000 image data file associated with this label. */
OBJECT = COMPRESSED_FILE
  FILE_NAME = "HF896_0000_ND3.JP2"
  RECORD_TYPE = UNDEFINED
  FILE_RECORDS = UNK
  ENCODING_TYPE = "JP2"
  INTERCHANGE_FORMAT = BINARY
  UNCOMPRESSED_FILE_NAME = "HF896_0000_ND3.IMG"
  REQUIRED_STORAGE_BYTES = "440562196"
  ^DESCRIPTION = "JP2INFO.TXT"
END_OBJECT = COMPRESSED_FILE
END
