PDS_VERSION_ID = PDS3
/* FILE DATA ELEMENTS */
RECORD_TYPE = STREAM
/* POINTERS TO DATA OBJECTS */
^COMPRESSED_FILE = "HF899_0000_ND3.JP2"
/* IDENTIFICATION DATA ELEMENTS */
DATA_SET_ID = "MEX-M-HRSC-5-REFDR-MAPPROJECTED-V3.0"
DATA_SET_NAME = "MARS EXPRESS HRSC MAP PROJECTED REFDR V3.0"
DETECTOR_ID = MEX_HRSC_NADIR
EVENT_TYPE = "MARS-REGIONAL-MAPPING-Im-Gl-Pf"
INSTRUMENT_HOST_ID = MEX
INSTRUMENT_HOST_NAME = "MARS EXPRESS"
INSTRUMENT_ID = HRSC
INSTRUMENT_NAME = "HIGH RESOLUTION STEREO CAMERA"
MISSION_NAME = "MARS EXPRESS"
MISSION_PHASE_NAME = ME_Phase_35
PROCESSING_LEVEL_ID = 3
PRODUCT_CREATION_TIME = 2017-06-29T11:20:52.000Z
PRODUCT_ID = "HF899_0000_ND3.JP2"
RELEASE_ID = 0135
REVISION_ID = 0000
/* QUALITY DATA ELEMENTS */
DATA_QUALITY_ID = 1
DATA_QUALITY_DESC = "Data calculated based on original SPICE kernels"
/* TIME DATA ELEMENTS */
SPACECRAFT_CLOCK_START_COUNT = "1/0416955654.09027"
SPACECRAFT_CLOCK_STOP_COUNT = "1/0416955914.48083"
START_TIME = 2016-07-18T21:01:36.313Z
STOP_TIME = 2016-07-18T21:04:40.309Z
/* ORBITAL DATA ELEMENTS */
ASCENDING_NODE_LONGITUDE = 275.21
MAXIMUM_RESOLUTION = 15.3
FOOTPRINT_POINT_LATITUDE = (59.3224,59.3004,59.2765,59.0184, 58.7828,58.5471,58.3115,58.0759,57.8403 ,57.6047,57.3691,57.1336,56.8981, 56.6626,56.4272,56.1918,55.9564,55.7211 ,55.4859,55.2507,55.0156,54.7805, 54.5455,54.3105,54.0756,53.8408,53.6061 ,53.3714,53.1368,52.9024,52.668,52.4337 ,52.1995,51.9654,51.7313,51.4974, 51.2636,51.03,50.7964,50.5629,50.3296, 50.0964,49.8633,49.6303,49.1648,48.6998 ,48.2354,47.7716,47.5401,47.5503,47.564 ,47.5747,47.8144,48.2795,48.7452, 48.9782,49.2114,49.4448,49.6783,49.9119 ,50.1457,50.3796,50.6136,50.8477,51.082 ,51.3164,51.5509,51.7855,52.0202, 52.2551,52.49,52.725,52.9602,53.1954, 53.4308,53.6662,53.9017,54.1373,54.373, 54.6088,54.8446,55.0805,55.3165,55.5526 ,55.7887,56.0249,56.2611,56.4974, 56.7338,56.9702,57.2066,57.4431,57.6797 ,57.9162,58.1529,58.3895,58.6262, 58.8629,59.0996,59.3224)
FOOTPRINT_POINT_LONGITUDE = (102.57,101.776,101.066,100.482,100.518 ,100.552,100.586,100.619,100.651, 100.682,100.713,100.743,100.773,100.801 ,100.83,100.857,100.884,100.91,100.936, 100.961,100.986,101.01,101.033,101.056, 101.079,101.101,101.122,101.143,101.164 ,101.184,101.203,101.222,101.241, 101.259,101.276,101.294,101.311,101.327 ,101.343,101.359,101.374,101.389, 101.404,101.418,101.445,101.471,101.495 ,101.518,101.698,102.101,102.762, 103.496,103.694,103.678,103.661,103.652 ,103.644,103.635,103.626,103.616, 103.607,103.598,103.588,103.578,103.568 ,103.558,103.547,103.537,103.526, 103.515,103.504,103.493,103.481,103.469 ,103.458,103.446,103.433,103.421, 103.408,103.394,103.381,103.368,103.354 ,103.34,103.325,103.311,103.296,103.281 ,103.266,103.25,103.234,103.218,103.201 ,103.185,103.168,103.15,103.132,103.114 ,103.096,102.57)
ORBIT_NUMBER = 15899
ORBITAL_ECCENTRICITY = 0.572
ORBITAL_INCLINATION = 86.95
ORBITAL_SEMIMAJOR_AXIS = 8788.42
PERIAPSIS_ALTITUDE = 378.61
PERIAPSIS_ARGUMENT_ANGLE = 118.85
PERIAPSIS_TIME = 2016-07-18T21:01:09.000Z
SPACECRAFT_ORIENTATION = (0.0,-1.0,0.0)
^MEX_ORIENTATION_DESC = "MEX_ORIENTATION_DESC.TXT"
SPACECRAFT_POINTING_MODE = ACROSSTRACK
^MEX_POINTING_DESC = "MEX_POINTING_DESC.TXT"
RIGHT_ASCENSION = -1e+32
DECLINATION = -1e+32
OFFSET_ANGLE = 0.4
SPACECRAFT_SOLAR_DISTANCE = 2.16763e+08
TARGET_NAME = MARS
/* CAMERA DATA ELEMENTS */
DETECTOR_TEMPERATURE = 18.5744
FOCAL_PLANE_TEMPERATURE = 9.6028
INST_CMPRS_NAME = "DISCRETE COSINE TRANSFORMATION (DCT)"
INST_CMPRS_RATIO = 6.81608
INST_CMPRS_QUALITY = 0
INST_CMPRS_QUANTZ_TBL_ID = 0
INSTRUMENT_TEMPERATURE = 12.0496
LENS_TEMPERATURE = 9.3989
MACROPIXEL_SIZE = 1
MISSING_FRAMES = 0
PIXEL_SUBSAMPLING_FLAG = N
SIGNAL_CHAIN_ID = 0
/* RADIOMETRIC DATA ELEMENTS */
BANDWIDTH = 177.0
CENTER_FILTER_WAVELENGTH = 677.5
RADIANCE_OFFSET = 3.3923
RADIANCE_SCALING_FACTOR = 0.00696095
REFLECTANCE_SCALING_FACTOR = 0.00017375
MEX:REFLECTANCE_OFFSET = 0.0846741
/* IMAGE OBJECT DEFINITIONS */
OBJECT = IMAGE
  INTERCHANGE_FORMAT = BINARY
  LINES = 55939
  LINE_SAMPLES = 9168
  SAMPLE_TYPE = UNSIGNED_INTEGER
  SAMPLE_BITS = 8
  BANDS = 1
  BAND_STORAGE_TYPE = BAND_SEQUENTIAL
  MAXIMUM = 255
  MEAN = 109.536
  MINIMUM = 1
  STANDARD_DEVIATION = 33.8714
END_OBJECT = IMAGE
/* MAP OBJECT DEFINITIONS */
OBJECT = IMAGE_MAP_PROJECTION
  ^DATA_SET_MAP_PROJECTION_CATALOG= "DSMAP.CAT"
  A_AXIS_RADIUS = 3396.0
  B_AXIS_RADIUS = 3396.0
  C_AXIS_RADIUS = 3396.0
  CENTER_LATITUDE = 0.0
  CENTER_LONGITUDE = 102.0
  COORDINATE_SYSTEM_NAME = PLANETOGRAPHIC
  COORDINATE_SYSTEM_TYPE = "BODY-FIXED ROTATING"
  EASTERNMOST_LONGITUDE = 103.694
  FIRST_STANDARD_PARALLEL = "N/A"
  LINE_FIRST_PIXEL = 1
  LINE_LAST_PIXEL = 55939
  LINE_PROJECTION_OFFSET = 281333.0
  MAP_PROJECTION_ROTATION = 0.0
  MAP_PROJECTION_TYPE = SINUSOIDAL
  MAP_RESOLUTION = 4741.71043093333
  MAP_SCALE = 0.0125
  MAXIMUM_LATITUDE = 59.3224
  MINIMUM_LATITUDE = 47.5401
  POSITIVE_LONGITUDE_DIRECTION = EAST
  REFERENCE_LATITUDE = "N/A"
  REFERENCE_LONGITUDE = "N/A"
  SAMPLE_FIRST_PIXEL = 1
  SAMPLE_LAST_PIXEL = 9168
  SAMPLE_PROJECTION_OFFSET = 3710.0
  SECOND_STANDARD_PARALLEL = "N/A"
  WESTERNMOST_LONGITUDE = 100.482
END_OBJECT = IMAGE_MAP_PROJECTION
/* The JPEG2000 image data file associated with this label. */
OBJECT = COMPRESSED_FILE
  FILE_NAME = "HF899_0000_ND3.JP2"
  RECORD_TYPE = UNDEFINED
  FILE_RECORDS = UNK
  ENCODING_TYPE = "JP2"
  INTERCHANGE_FORMAT = BINARY
  UNCOMPRESSED_FILE_NAME = "HF899_0000_ND3.IMG"
  REQUIRED_STORAGE_BYTES = "512885424"
  ^DESCRIPTION = "JP2INFO.TXT"
END_OBJECT = COMPRESSED_FILE
END
