PDS_VERSION_ID = PDS3
/* FILE DATA ELEMENTS */
RECORD_TYPE = STREAM
/* POINTERS TO DATA OBJECTS */
^COMPRESSED_FILE = "HF900_0000_GR3.JP2"
/* IDENTIFICATION DATA ELEMENTS */
DATA_SET_ID = "MEX-M-HRSC-5-REFDR-MAPPROJECTED-V3.0"
DATA_SET_NAME = "MARS EXPRESS HRSC MAP PROJECTED REFDR V3.0"
DETECTOR_ID = MEX_HRSC_GREEN
EVENT_TYPE = "MARS-REGIONAL-MAPPING-Vo-Gl-Pf"
INSTRUMENT_HOST_ID = MEX
INSTRUMENT_HOST_NAME = "MARS EXPRESS"
INSTRUMENT_ID = HRSC
INSTRUMENT_NAME = "HIGH RESOLUTION STEREO CAMERA"
MISSION_NAME = "MARS EXPRESS"
MISSION_PHASE_NAME = ME_Phase_35
PROCESSING_LEVEL_ID = 3
PRODUCT_CREATION_TIME = 2017-06-29T11:20:52.000Z
PRODUCT_ID = "HF900_0000_GR3.JP2"
RELEASE_ID = 0135
REVISION_ID = 0000
/* QUALITY DATA ELEMENTS */
DATA_QUALITY_ID = 1
DATA_QUALITY_DESC = "Data calculated based on original SPICE kernels"
/* TIME DATA ELEMENTS */
SPACECRAFT_CLOCK_START_COUNT = "1/0416980746.09059"
SPACECRAFT_CLOCK_STOP_COUNT = "1/0416980983.56387"
START_TIME = 2016-07-19T03:59:43.520Z
STOP_TIME = 2016-07-19T04:02:27.313Z
/* ORBITAL DATA ELEMENTS */
ASCENDING_NODE_LONGITUDE = 275.19
MAXIMUM_RESOLUTION = 55.4
FOOTPRINT_POINT_LATITUDE = (65.1393,65.1128,65.0906,65.048,64.9858 ,64.7797,64.4701,64.2637,63.9538, 63.7472,63.4369,63.2301,62.9196,62.7125 ,62.5054,62.2982,62.0909,61.8836, 61.5725,61.365,61.1574,60.9498,60.7421, 60.4307,60.2229,59.9112,59.7034,59.4955 ,59.2876,59.0797,58.8718,58.6639, 58.4559,58.2479,58.0399,57.8319,57.6239 ,57.3118,57.1038,56.7918,56.5837, 56.3757,56.0636,55.8556,55.6476,55.4396 ,55.2317,55.0237,54.8159,54.608,54.5484 ,54.5615,54.5729,54.5897,54.6018, 54.7142,54.9229,55.1317,55.3405,55.5493 ,55.8626,56.0714,56.3848,56.5937, 56.9072,57.1162,57.3264,57.5354,57.7444 ,57.9535,58.1626,58.3716,58.685,59.0321 ,59.2411,59.6245,59.8335,60.147,60.4604 ,60.6693,60.8782,61.0871,61.2959, 61.5047,61.8179,62.0267,62.2354,62.444, 62.6527,62.8612,63.0698,63.2782,63.5909 ,63.7992,64.1116,64.3199,64.528,64.7361 ,64.9441,65.1393)
FOOTPRINT_POINT_LONGITUDE = (359.066,358.302,357.737,356.78,355.96, 356.023,356.115,356.175,356.262,356.319 ,356.403,356.457,356.537,356.588, 356.639,356.689,356.738,356.786,356.856 ,356.902,356.947,356.991,357.034, 357.097,357.139,357.199,357.238,357.277 ,357.315,357.352,357.389,357.424,357.46 ,357.494,357.528,357.562,357.594, 357.642,357.673,357.719,357.749,357.778 ,357.821,357.849,357.876,357.903, 357.929,357.955,357.981,358.006,358.384 ,358.733,359.061,359.607,359.997,360.35 ,360.334,360.318,360.302,360.285,360.26 ,360.243,360.217,360.199,360.172, 360.154,360.13,360.111,360.091,360.071, 360.051,360.031,360.0,359.822,359.799, 359.908,359.885,359.85,359.814,359.79, 359.766,359.74,359.715,359.689,359.649, 359.622,359.595,359.567,359.538,359.509 ,359.48,359.45,359.404,359.373,359.325, 359.292,359.258,359.225,359.19,359.066)
ORBIT_NUMBER = 15900
ORBITAL_ECCENTRICITY = 0.572
ORBITAL_INCLINATION = 86.94
ORBITAL_SEMIMAJOR_AXIS = 8784.01
PERIAPSIS_ALTITUDE = 379.7
PERIAPSIS_ARGUMENT_ANGLE = 118.68
PERIAPSIS_TIME = 2016-07-19T04:00:50.000Z
SPACECRAFT_ORIENTATION = (0.0,-1.0,0.0)
^MEX_ORIENTATION_DESC = "MEX_ORIENTATION_DESC.TXT"
SPACECRAFT_POINTING_MODE = NADIR
^MEX_POINTING_DESC = "MEX_POINTING_DESC.TXT"
RIGHT_ASCENSION = -1e+32
DECLINATION = -1e+32
OFFSET_ANGLE = -1e+32
SPACECRAFT_SOLAR_DISTANCE = 2.16713e+08
TARGET_NAME = MARS
/* CAMERA DATA ELEMENTS */
DETECTOR_TEMPERATURE = 18.5744
FOCAL_PLANE_TEMPERATURE = 8.7872
INST_CMPRS_NAME = "DISCRETE COSINE TRANSFORMATION (DCT)"
INST_CMPRS_RATIO = 16.2245
INST_CMPRS_QUALITY = 0
INST_CMPRS_QUANTZ_TBL_ID = 0
INSTRUMENT_TEMPERATURE = 11.8457
LENS_TEMPERATURE = 9.3989
MACROPIXEL_SIZE = 4
MISSING_FRAMES = 0
PIXEL_SUBSAMPLING_FLAG = N
SIGNAL_CHAIN_ID = 2
/* RADIOMETRIC DATA ELEMENTS */
BANDWIDTH = 88.0
CENTER_FILTER_WAVELENGTH = 538.0
RADIANCE_OFFSET = 1.54103
RADIANCE_SCALING_FACTOR = 0.00273385
REFLECTANCE_SCALING_FACTOR = 0.000110544
MEX:REFLECTANCE_OFFSET = 0.0623117
/* IMAGE OBJECT DEFINITIONS */
OBJECT = IMAGE
  INTERCHANGE_FORMAT = BINARY
  LINES = 12561
  LINE_SAMPLES = 2447
  SAMPLE_TYPE = UNSIGNED_INTEGER
  SAMPLE_BITS = 8
  BANDS = 1
  BAND_STORAGE_TYPE = BAND_SEQUENTIAL
  MAXIMUM = 255
  MEAN = 142.513
  MINIMUM = 3
  STANDARD_DEVIATION = 48.964
END_OBJECT = IMAGE
/* MAP OBJECT DEFINITIONS */
OBJECT = IMAGE_MAP_PROJECTION
  ^DATA_SET_MAP_PROJECTION_CATALOG= "DSMAP.CAT"
  A_AXIS_RADIUS = 3396.0
  B_AXIS_RADIUS = 3396.0
  C_AXIS_RADIUS = 3396.0
  CENTER_LATITUDE = 0.0
  CENTER_LONGITUDE = 359.0
  COORDINATE_SYSTEM_NAME = PLANETOGRAPHIC
  COORDINATE_SYSTEM_TYPE = "BODY-FIXED ROTATING"
  EASTERNMOST_LONGITUDE = 0.35
  FIRST_STANDARD_PARALLEL = "N/A"
  LINE_FIRST_PIXEL = 1
  LINE_LAST_PIXEL = 12561
  LINE_PROJECTION_OFFSET = 77198.625
  MAP_PROJECTION_ROTATION = 0.0
  MAP_PROJECTION_TYPE = SINUSOIDAL
  MAP_RESOLUTION = 1185.42760773333
  MAP_SCALE = 0.05
  MAXIMUM_LATITUDE = 65.13930000000001
  MINIMUM_LATITUDE = 54.5484
  POSITIVE_LONGITUDE_DIRECTION = EAST
  REFERENCE_LATITUDE = "N/A"
  REFERENCE_LONGITUDE = "N/A"
  SAMPLE_FIRST_PIXEL = 1
  SAMPLE_LAST_PIXEL = 2447
  SAMPLE_PROJECTION_OFFSET = 1531.625
  SECOND_STANDARD_PARALLEL = "N/A"
  WESTERNMOST_LONGITUDE = -4.04
END_OBJECT = IMAGE_MAP_PROJECTION
/* The JPEG2000 image data file associated with this label. */
OBJECT = COMPRESSED_FILE
  FILE_NAME = "HF900_0000_GR3.JP2"
  RECORD_TYPE = UNDEFINED
  FILE_RECORDS = UNK
  ENCODING_TYPE = "JP2"
  INTERCHANGE_FORMAT = BINARY
  UNCOMPRESSED_FILE_NAME = "HF900_0000_GR3.IMG"
  REQUIRED_STORAGE_BYTES = "30756343"
  ^DESCRIPTION = "JP2INFO.TXT"
END_OBJECT = COMPRESSED_FILE
END
