PDS_VERSION_ID = PDS3
/* FILE DATA ELEMENTS */
RECORD_TYPE = STREAM
/* POINTERS TO DATA OBJECTS */
^COMPRESSED_FILE = "HF900_0000_P13.JP2"
/* IDENTIFICATION DATA ELEMENTS */
DATA_SET_ID = "MEX-M-HRSC-5-REFDR-MAPPROJECTED-V3.0"
DATA_SET_NAME = "MARS EXPRESS HRSC MAP PROJECTED REFDR V3.0"
DETECTOR_ID = MEX_HRSC_P1
EVENT_TYPE = "MARS-REGIONAL-MAPPING-Vo-Gl-Pf"
INSTRUMENT_HOST_ID = MEX
INSTRUMENT_HOST_NAME = "MARS EXPRESS"
INSTRUMENT_ID = HRSC
INSTRUMENT_NAME = "HIGH RESOLUTION STEREO CAMERA"
MISSION_NAME = "MARS EXPRESS"
MISSION_PHASE_NAME = ME_Phase_35
PROCESSING_LEVEL_ID = 3
PRODUCT_CREATION_TIME = 2017-06-29T11:20:52.000Z
PRODUCT_ID = "HF900_0000_P13.JP2"
RELEASE_ID = 0135
REVISION_ID = 0000
/* QUALITY DATA ELEMENTS */
DATA_QUALITY_ID = 1
DATA_QUALITY_DESC = "Data calculated based on original SPICE kernels"
/* TIME DATA ELEMENTS */
SPACECRAFT_CLOCK_START_COUNT = "1/0416980746.09059"
SPACECRAFT_CLOCK_STOP_COUNT = "1/0416980983.56387"
START_TIME = 2016-07-19T03:59:26.222Z
STOP_TIME = 2016-07-19T04:02:10.338Z
/* ORBITAL DATA ELEMENTS */
ASCENDING_NODE_LONGITUDE = 275.19
MAXIMUM_RESOLUTION = 28.4
FOOTPRINT_POINT_LATITUDE = (65.1853,65.1623,65.1298,65.0869, 64.9746,64.7694,64.5638,64.3581,64.0494 ,63.7401,63.4306,63.2241,62.9141, 62.7073,62.3967,62.1895,61.9822,61.7751 ,61.5673,61.3596,61.1516,60.9438, 60.7357,60.4236,60.2153,60.007,59.6941, 59.4854,59.2767,58.9636,58.7547,58.5456 ,58.232,58.0228,57.8137,57.4995,57.2901 ,57.0806,56.8712,56.6614,56.4517, 56.2418,56.0321,55.8221,55.6122,55.4021 ,55.1922,54.9821,54.7721,54.5619, 54.5385,54.5575,54.5689,54.5843,54.5962 ,54.8072,55.0183,55.3347,55.651,55.8619 ,56.0727,56.2837,56.4939,56.7045, 56.9153,57.1259,57.342,57.6576,57.9734, 58.184,58.4993,58.8135,59.0235,59.2822, 59.4923,59.8582,60.0679,60.2776,60.487, 60.6963,60.9058,61.115,61.3242,61.5333, 61.7424,61.9515,62.1603,62.4731,62.6817 ,62.8901,63.2026,63.4109,63.6188, 63.8268,64.0345,64.346,64.5535,64.7609, 65.0719,65.1853)
FOOTPRINT_POINT_LONGITUDE = (358.775,358.15,357.378,356.49,355.942, 356.005,356.067,356.128,356.217,356.303 ,356.387,356.442,356.522,356.574, 356.651,356.701,356.749,356.798,356.844 ,356.891,356.936,356.98,357.024,357.088 ,357.13,357.171,357.231,357.27,357.308, 357.365,357.402,357.438,357.49,357.525, 357.559,357.608,357.641,357.672,357.704 ,357.734,357.764,357.793,357.822, 357.851,357.879,357.906,357.933,357.959 ,357.985,358.01,358.536,359.034,359.374 ,359.895,360.358,360.342,360.326, 360.302,360.278,360.261,360.244,360.226 ,360.209,360.192,360.174,360.155, 360.131,360.103,360.073,360.053,360.023 ,359.993,359.972,359.799,359.776, 359.889,359.866,359.843,359.82,359.796, 359.771,359.747,359.722,359.696,359.67, 359.643,359.616,359.575,359.547,359.519 ,359.475,359.445,359.415,359.384, 359.353,359.305,359.272,359.239,359.188 ,358.775)
ORBIT_NUMBER = 15900
ORBITAL_ECCENTRICITY = 0.572
ORBITAL_INCLINATION = 86.94
ORBITAL_SEMIMAJOR_AXIS = 8784.01
PERIAPSIS_ALTITUDE = 379.7
PERIAPSIS_ARGUMENT_ANGLE = 118.68
PERIAPSIS_TIME = 2016-07-19T04:00:50.000Z
SPACECRAFT_ORIENTATION = (0.0,-1.0,0.0)
^MEX_ORIENTATION_DESC = "MEX_ORIENTATION_DESC.TXT"
SPACECRAFT_POINTING_MODE = NADIR
^MEX_POINTING_DESC = "MEX_POINTING_DESC.TXT"
RIGHT_ASCENSION = -1e+32
DECLINATION = -1e+32
OFFSET_ANGLE = -1e+32
SPACECRAFT_SOLAR_DISTANCE = 2.16713e+08
TARGET_NAME = MARS
/* CAMERA DATA ELEMENTS */
DETECTOR_TEMPERATURE = 17.5549
FOCAL_PLANE_TEMPERATURE = 8.7872
INST_CMPRS_NAME = "DISCRETE COSINE TRANSFORMATION (DCT)"
INST_CMPRS_RATIO = 11.9646
INST_CMPRS_QUALITY = 0
INST_CMPRS_QUANTZ_TBL_ID = 0
INSTRUMENT_TEMPERATURE = 11.8457
LENS_TEMPERATURE = 9.3989
MACROPIXEL_SIZE = 2
MISSING_FRAMES = 0
PIXEL_SUBSAMPLING_FLAG = N
SIGNAL_CHAIN_ID = 3
/* RADIOMETRIC DATA ELEMENTS */
BANDWIDTH = 174.0
CENTER_FILTER_WAVELENGTH = 675.0
RADIANCE_OFFSET = 3.79531
RADIANCE_SCALING_FACTOR = 0.00898378
REFLECTANCE_SCALING_FACTOR = 0.000226941
MEX:REFLECTANCE_OFFSET = 0.0958742
/* IMAGE OBJECT DEFINITIONS */
OBJECT = IMAGE
  INTERCHANGE_FORMAT = BINARY
  LINES = 25121
  LINE_SAMPLES = 4894
  SAMPLE_TYPE = UNSIGNED_INTEGER
  SAMPLE_BITS = 8
  BANDS = 1
  BAND_STORAGE_TYPE = BAND_SEQUENTIAL
  MAXIMUM = 255
  MEAN = 131.727
  MINIMUM = 1
  STANDARD_DEVIATION = 54.6531
END_OBJECT = IMAGE
/* MAP OBJECT DEFINITIONS */
OBJECT = IMAGE_MAP_PROJECTION
  ^DATA_SET_MAP_PROJECTION_CATALOG= "DSMAP.CAT"
  A_AXIS_RADIUS = 3396.0
  B_AXIS_RADIUS = 3396.0
  C_AXIS_RADIUS = 3396.0
  CENTER_LATITUDE = 0.0
  CENTER_LONGITUDE = 359.0
  COORDINATE_SYSTEM_NAME = PLANETOGRAPHIC
  COORDINATE_SYSTEM_TYPE = "BODY-FIXED ROTATING"
  EASTERNMOST_LONGITUDE = 0.358
  FIRST_STANDARD_PARALLEL = "N/A"
  LINE_FIRST_PIXEL = 1
  LINE_LAST_PIXEL = 25121
  LINE_PROJECTION_OFFSET = 154397.75
  MAP_PROJECTION_ROTATION = 0.0
  MAP_PROJECTION_TYPE = SINUSOIDAL
  MAP_RESOLUTION = 2370.85521546667
  MAP_SCALE = 0.025
  MAXIMUM_LATITUDE = 65.1853
  MINIMUM_LATITUDE = 54.5385
  POSITIVE_LONGITUDE_DIRECTION = EAST
  REFERENCE_LATITUDE = "N/A"
  REFERENCE_LONGITUDE = "N/A"
  SAMPLE_FIRST_PIXEL = 1
  SAMPLE_LAST_PIXEL = 4894
  SAMPLE_PROJECTION_OFFSET = 3063.75
  SECOND_STANDARD_PARALLEL = "N/A"
  WESTERNMOST_LONGITUDE = -4.058
END_OBJECT = IMAGE_MAP_PROJECTION
/* The JPEG2000 image data file associated with this label. */
OBJECT = COMPRESSED_FILE
  FILE_NAME = "HF900_0000_P13.JP2"
  RECORD_TYPE = UNDEFINED
  FILE_RECORDS = UNK
  ENCODING_TYPE = "JP2"
  INTERCHANGE_FORMAT = BINARY
  UNCOMPRESSED_FILE_NAME = "HF900_0000_P13.IMG"
  REQUIRED_STORAGE_BYTES = "122966644"
  ^DESCRIPTION = "JP2INFO.TXT"
END_OBJECT = COMPRESSED_FILE
END
