PDS_VERSION_ID = PDS3
/* FILE DATA ELEMENTS */
RECORD_TYPE = STREAM
/* POINTERS TO DATA OBJECTS */
^COMPRESSED_FILE = "HF906_0000_S13.JP2"
/* IDENTIFICATION DATA ELEMENTS */
DATA_SET_ID = "MEX-M-HRSC-5-REFDR-MAPPROJECTED-V3.0"
DATA_SET_NAME = "MARS EXPRESS HRSC MAP PROJECTED REFDR V3.0"
DETECTOR_ID = MEX_HRSC_S1
EVENT_TYPE = "MARS-REGIONAL-MAPPING-Im-Pf"
INSTRUMENT_HOST_ID = MEX
INSTRUMENT_HOST_NAME = "MARS EXPRESS"
INSTRUMENT_ID = HRSC
INSTRUMENT_NAME = "HIGH RESOLUTION STEREO CAMERA"
MISSION_NAME = "MARS EXPRESS"
MISSION_PHASE_NAME = ME_Phase_35
PROCESSING_LEVEL_ID = 3
PRODUCT_CREATION_TIME = 2017-06-29T11:20:52.000Z
PRODUCT_ID = "HF906_0000_S13.JP2"
RELEASE_ID = 0135
REVISION_ID = 0000
/* QUALITY DATA ELEMENTS */
DATA_QUALITY_ID = 1
DATA_QUALITY_DESC = "Data calculated based on original SPICE kernels"
/* TIME DATA ELEMENTS */
SPACECRAFT_CLOCK_START_COUNT = "1/0417132289.07296"
SPACECRAFT_CLOCK_STOP_COUNT = "1/0417132595.11952"
START_TIME = 2016-07-20T22:04:56.787Z
STOP_TIME = 2016-07-20T22:07:43.791Z
/* ORBITAL DATA ELEMENTS */
ASCENDING_NODE_LONGITUDE = 275.08
MAXIMUM_RESOLUTION = 40.8
FOOTPRINT_POINT_LATITUDE = (37.4754,37.4729,37.4687,37.4624, 37.4555,37.4472,37.1731,36.7911,36.501, 36.3057,36.0127,35.6227,35.4243,35.2251 ,35.0263,34.8273,34.6285,34.4264, 34.2235,34.0207,33.8183,33.6154,33.4089 ,33.2023,32.9959,32.7894,32.5805,32.37, 32.1599,31.9495,31.6309,31.4169,31.204, 30.9899,30.7722,30.4458,30.2283,29.8977 ,29.6765,29.3452,29.1206,28.8955,28.671 ,28.4444,28.2158,27.9876,27.6428, 27.4111,27.1795,26.9457,26.8246,26.8308 ,26.833,26.8338,26.8315,26.8298,27.0658 ,27.2984,27.6473,27.879,28.1079,28.3369 ,28.6792,29.0173,29.2429,29.467,29.6884 ,29.91,30.2412,30.4593,30.6773,31.0046, 31.219,31.5411,31.7558,31.9683,32.1787, 32.3896,32.6006,32.8102,33.1201,33.3273 ,33.5341,33.8419,34.0447,34.248,34.4513 ,34.6543,34.8538,35.0529,35.2524,35.452 ,35.6512,35.8468,36.1402,36.336,36.5319 ,36.7269,37.1102,37.4754)
FOOTPRINT_POINT_LONGITUDE = (106.949,106.688,106.368,106.008, 105.687,105.366,105.053,105.058,105.061 ,105.063,105.065,105.068,105.07,105.071 ,105.072,105.073,105.074,105.074, 105.075,105.075,105.076,105.076,105.076 ,105.076,105.076,105.075,105.075, 105.074,105.073,105.072,105.071,105.069 ,105.068,105.066,105.065,105.062, 105.059,105.056,105.053,105.05,105.047, 105.044,105.04,105.037,105.034,105.03, 105.024,105.02,105.016,105.012,105.259, 105.759,106.099,106.53,107.075,107.355, 107.352,107.35,107.346,107.343,107.34, 107.337,107.333,107.328,107.325,107.322 ,107.319,107.316,107.311,107.308, 107.305,107.3,107.297,107.291,107.288, 107.284,107.281,107.277,107.274,107.27, 107.265,107.261,107.257,107.251,107.248 ,107.244,107.24,107.236,107.232,107.228 ,107.223,107.219,107.215,107.211, 107.204,107.2,107.195,107.191,107.182, 106.949)
ORBIT_NUMBER = 15906
ORBITAL_ECCENTRICITY = 0.572
ORBITAL_INCLINATION = 86.95
ORBITAL_SEMIMAJOR_AXIS = 8786.42
PERIAPSIS_ALTITUDE = 379.22
PERIAPSIS_ARGUMENT_ANGLE = 117.64
PERIAPSIS_TIME = 2016-07-20T21:59:07.000Z
SPACECRAFT_ORIENTATION = (0.0,-1.0,0.0)
^MEX_ORIENTATION_DESC = "MEX_ORIENTATION_DESC.TXT"
SPACECRAFT_POINTING_MODE = ACROSSTRACK
^MEX_POINTING_DESC = "MEX_POINTING_DESC.TXT"
RIGHT_ASCENSION = -1e+32
DECLINATION = -1e+32
OFFSET_ANGLE = -0.08
SPACECRAFT_SOLAR_DISTANCE = 2.16409e+08
TARGET_NAME = MARS
/* CAMERA DATA ELEMENTS */
DETECTOR_TEMPERATURE = 17.7588
FOCAL_PLANE_TEMPERATURE = 8.1755
INST_CMPRS_NAME = "DISCRETE COSINE TRANSFORMATION (DCT)"
INST_CMPRS_RATIO = 8.76677
INST_CMPRS_QUALITY = 0
INST_CMPRS_QUANTZ_TBL_ID = 0
INSTRUMENT_TEMPERATURE = 11.8457
LENS_TEMPERATURE = 8.9911
MACROPIXEL_SIZE = 2
MISSING_FRAMES = 0
PIXEL_SUBSAMPLING_FLAG = N
SIGNAL_CHAIN_ID = 1
/* RADIOMETRIC DATA ELEMENTS */
BANDWIDTH = 180.0
CENTER_FILTER_WAVELENGTH = 677.0
RADIANCE_OFFSET = 5.15093
RADIANCE_SCALING_FACTOR = 0.0180573
REFLECTANCE_SCALING_FACTOR = 0.000441209
MEX:REFLECTANCE_OFFSET = 0.125857
/* IMAGE OBJECT DEFINITIONS */
OBJECT = IMAGE
  INTERCHANGE_FORMAT = BINARY
  LINES = 12540
  LINE_SAMPLES = 2735
  SAMPLE_TYPE = UNSIGNED_INTEGER
  SAMPLE_BITS = 8
  BANDS = 1
  BAND_STORAGE_TYPE = BAND_SEQUENTIAL
  MAXIMUM = 255
  MEAN = 140.644
  MINIMUM = 1
  STANDARD_DEVIATION = 12.7922
END_OBJECT = IMAGE
/* MAP OBJECT DEFINITIONS */
OBJECT = IMAGE_MAP_PROJECTION
  ^DATA_SET_MAP_PROJECTION_CATALOG= "DSMAP.CAT"
  A_AXIS_RADIUS = 3396.0
  B_AXIS_RADIUS = 3396.0
  C_AXIS_RADIUS = 3396.0
  CENTER_LATITUDE = 0.0
  CENTER_LONGITUDE = 106.0
  COORDINATE_SYSTEM_NAME = PLANETOGRAPHIC
  COORDINATE_SYSTEM_TYPE = "BODY-FIXED ROTATING"
  EASTERNMOST_LONGITUDE = 107.355
  FIRST_STANDARD_PARALLEL = "N/A"
  LINE_FIRST_PIXEL = 1
  LINE_LAST_PIXEL = 12540
  LINE_PROJECTION_OFFSET = 44362.25
  MAP_PROJECTION_ROTATION = 0.0
  MAP_PROJECTION_TYPE = SINUSOIDAL
  MAP_RESOLUTION = 1185.42760773333
  MAP_SCALE = 0.05
  MAXIMUM_LATITUDE = 37.4754
  MINIMUM_LATITUDE = 26.8246
  POSITIVE_LONGITUDE_DIRECTION = EAST
  REFERENCE_LATITUDE = "N/A"
  REFERENCE_LONGITUDE = "N/A"
  SAMPLE_FIRST_PIXEL = 1
  SAMPLE_LAST_PIXEL = 2735
  SAMPLE_PROJECTION_OFFSET = 1188.75
  SECOND_STANDARD_PARALLEL = "N/A"
  WESTERNMOST_LONGITUDE = 105.012
END_OBJECT = IMAGE_MAP_PROJECTION
/* The JPEG2000 image data file associated with this label. */
OBJECT = COMPRESSED_FILE
  FILE_NAME = "HF906_0000_S13.JP2"
  RECORD_TYPE = UNDEFINED
  FILE_RECORDS = UNK
  ENCODING_TYPE = "JP2"
  INTERCHANGE_FORMAT = BINARY
  UNCOMPRESSED_FILE_NAME = "HF906_0000_S13.IMG"
  REQUIRED_STORAGE_BYTES = "34318780"
  ^DESCRIPTION = "JP2INFO.TXT"
END_OBJECT = COMPRESSED_FILE
END
