PDS_VERSION_ID = PDS3
/* FILE DATA ELEMENTS */
RECORD_TYPE = STREAM
/* POINTERS TO DATA OBJECTS */
^COMPRESSED_FILE = "HF907_0000_ND3.JP2"
/* IDENTIFICATION DATA ELEMENTS */
DATA_SET_ID = "MEX-M-HRSC-5-REFDR-MAPPROJECTED-V3.0"
DATA_SET_NAME = "MARS EXPRESS HRSC MAP PROJECTED REFDR V3.0"
DETECTOR_ID = MEX_HRSC_NADIR
EVENT_TYPE = "MARS-REGIONAL-MAPPING-Vo-Gl-Pf"
INSTRUMENT_HOST_ID = MEX
INSTRUMENT_HOST_NAME = "MARS EXPRESS"
INSTRUMENT_ID = HRSC
INSTRUMENT_NAME = "HIGH RESOLUTION STEREO CAMERA"
MISSION_NAME = "MARS EXPRESS"
MISSION_PHASE_NAME = ME_Phase_35
PROCESSING_LEVEL_ID = 3
PRODUCT_CREATION_TIME = 2017-06-29T11:20:52.000Z
PRODUCT_ID = "HF907_0000_ND3.JP2"
RELEASE_ID = 0135
REVISION_ID = 0000
/* QUALITY DATA ELEMENTS */
DATA_QUALITY_ID = 1
DATA_QUALITY_DESC = "Data calculated based on original SPICE kernels"
/* TIME DATA ELEMENTS */
SPACECRAFT_CLOCK_START_COUNT = "1/0417157146.09044"
SPACECRAFT_CLOCK_STOP_COUNT = "1/0417157305.16003"
START_TIME = 2016-07-21T04:59:48.467Z
STOP_TIME = 2016-07-21T05:01:13.461Z
/* ORBITAL DATA ELEMENTS */
ASCENDING_NODE_LONGITUDE = 275.06
MAXIMUM_RESOLUTION = 15.4
FOOTPRINT_POINT_LATITUDE = (58.5695,58.5522,58.5397,58.5298, 58.5135,58.4936,58.485,58.3767,58.2684, 58.16,58.0517,57.9434,57.8351,57.7268, 57.6185,57.5102,57.4019,57.2937,57.1854 ,57.0772,56.9689,56.8607,56.7525, 56.6442,56.536,56.4278,56.3197,56.2115, 56.1033,55.9952,55.8871,55.7789,55.6708 ,55.5627,55.3466,55.1305,54.9145, 54.6985,54.4826,54.2668,54.051,53.8353, 53.6197,53.4042,53.1887,53.0789,53.0885 ,53.1024,53.1135,53.1217,53.1274, 53.1345,53.1389,53.143,53.3066,53.5228, 53.7392,53.9556,54.1722,54.2805,54.3888 ,54.4971,54.6055,54.7138,54.8222, 54.9306,55.0391,55.1475,55.256,55.3645, 55.473,55.5815,55.69,55.7986,55.9071, 56.0157,56.1243,56.2329,56.3416,56.4502 ,56.5589,56.6675,56.7762,56.8849, 56.9936,57.1024,57.2111,57.3199,57.4286 ,57.5374,57.6462,57.755,57.8638,57.9726 ,58.0814,58.1903,58.2991,58.408,58.5168 ,58.5695)
FOOTPRINT_POINT_LONGITUDE = (3.59562,3.03811,2.67467,2.40852, 1.99758,1.538,1.31554,1.33346,1.35133, 1.36889,1.38626,1.40338,1.42035,1.43721 ,1.45389,1.47046,1.4869,1.50322,1.51938 ,1.53531,1.55101,1.56661,1.58217,1.5975 ,1.61266,1.62765,1.64263,1.65727, 1.67178,1.68631,1.70066,1.71486,1.72889 ,1.74281,1.77013,1.79714,1.82355, 1.84909,1.87448,1.89919,1.92375,1.9473, 1.9707,1.99357,2.01583,2.18813,2.4409, 2.83119,3.17542,3.45114,3.65817,3.934, 4.11794,4.30216,4.34831,4.33308,4.31788 ,4.30208,4.28646,4.27844,4.27036, 4.26229,4.25405,4.24576,4.23742,4.22902 ,4.22042,4.21183,4.20332,4.19468, 4.18588,4.17719,4.16841,4.15932,4.15025 ,4.14142,4.13225,4.12289,4.1136,4.10432 ,4.09489,4.08528,4.07579,4.06604, 4.05619,4.04648,4.03662,4.02659,4.01639 ,4.00624,3.99602,3.98566,3.97532, 3.96487,3.95425,3.94351,3.93283,3.92196 ,3.91095,3.59562)
ORBIT_NUMBER = 15907
ORBITAL_ECCENTRICITY = 0.572
ORBITAL_INCLINATION = 86.94
ORBITAL_SEMIMAJOR_AXIS = 8782.66
PERIAPSIS_ALTITUDE = 380.27
PERIAPSIS_ARGUMENT_ANGLE = 117.47
PERIAPSIS_TIME = 2016-07-21T04:58:48.000Z
SPACECRAFT_ORIENTATION = (0.0,-1.0,0.0)
^MEX_ORIENTATION_DESC = "MEX_ORIENTATION_DESC.TXT"
SPACECRAFT_POINTING_MODE = NADIR
^MEX_POINTING_DESC = "MEX_POINTING_DESC.TXT"
RIGHT_ASCENSION = -1e+32
DECLINATION = -1e+32
OFFSET_ANGLE = -1e+32
SPACECRAFT_SOLAR_DISTANCE = 2.16359e+08
TARGET_NAME = MARS
/* CAMERA DATA ELEMENTS */
DETECTOR_TEMPERATURE = 18.5744
FOCAL_PLANE_TEMPERATURE = 9.3989
INST_CMPRS_NAME = "DISCRETE COSINE TRANSFORMATION (DCT)"
INST_CMPRS_RATIO = 6.50364
INST_CMPRS_QUALITY = 0
INST_CMPRS_QUANTZ_TBL_ID = 0
INSTRUMENT_TEMPERATURE = 12.4574
LENS_TEMPERATURE = 9.3989
MACROPIXEL_SIZE = 1
MISSING_FRAMES = 0
PIXEL_SUBSAMPLING_FLAG = N
SIGNAL_CHAIN_ID = 0
/* RADIOMETRIC DATA ELEMENTS */
BANDWIDTH = 177.0
CENTER_FILTER_WAVELENGTH = 677.5
RADIANCE_OFFSET = 4.05113
RADIANCE_SCALING_FACTOR = 0.0114385
REFLECTANCE_SCALING_FACTOR = 0.000284448
MEX:REFLECTANCE_OFFSET = 0.100742
/* IMAGE OBJECT DEFINITIONS */
OBJECT = IMAGE
  INTERCHANGE_FORMAT = BINARY
  LINES = 26095
  LINE_SAMPLES = 7985
  SAMPLE_TYPE = UNSIGNED_INTEGER
  SAMPLE_BITS = 8
  BANDS = 1
  BAND_STORAGE_TYPE = BAND_SEQUENTIAL
  MAXIMUM = 255
  MEAN = 81.5341
  MINIMUM = 1
  STANDARD_DEVIATION = 36.6543
END_OBJECT = IMAGE
/* MAP OBJECT DEFINITIONS */
OBJECT = IMAGE_MAP_PROJECTION
  ^DATA_SET_MAP_PROJECTION_CATALOG= "DSMAP.CAT"
  A_AXIS_RADIUS = 3396.0
  B_AXIS_RADIUS = 3396.0
  C_AXIS_RADIUS = 3396.0
  CENTER_LATITUDE = 0.0
  CENTER_LONGITUDE = 3.0
  COORDINATE_SYSTEM_NAME = PLANETOGRAPHIC
  COORDINATE_SYSTEM_TYPE = "BODY-FIXED ROTATING"
  EASTERNMOST_LONGITUDE = 4.34831
  FIRST_STANDARD_PARALLEL = "N/A"
  LINE_FIRST_PIXEL = 1
  LINE_LAST_PIXEL = 26095
  LINE_PROJECTION_OFFSET = 277751.0
  MAP_PROJECTION_ROTATION = 0.0
  MAP_PROJECTION_TYPE = SINUSOIDAL
  MAP_RESOLUTION = 4741.71043093333
  MAP_SCALE = 0.0125
  MAXIMUM_LATITUDE = 58.5695
  MINIMUM_LATITUDE = 53.0789
  POSITIVE_LONGITUDE_DIRECTION = EAST
  REFERENCE_LATITUDE = "N/A"
  REFERENCE_LONGITUDE = "N/A"
  SAMPLE_FIRST_PIXEL = 1
  SAMPLE_LAST_PIXEL = 7985
  SAMPLE_PROJECTION_OFFSET = 4179.0
  SECOND_STANDARD_PARALLEL = "N/A"
  WESTERNMOST_LONGITUDE = 1.31554
END_OBJECT = IMAGE_MAP_PROJECTION
/* The JPEG2000 image data file associated with this label. */
OBJECT = COMPRESSED_FILE
  FILE_NAME = "HF907_0000_ND3.JP2"
  RECORD_TYPE = UNDEFINED
  FILE_RECORDS = UNK
  ENCODING_TYPE = "JP2"
  INTERCHANGE_FORMAT = BINARY
  UNCOMPRESSED_FILE_NAME = "HF907_0000_ND3.IMG"
  REQUIRED_STORAGE_BYTES = "208400515"
  ^DESCRIPTION = "JP2INFO.TXT"
END_OBJECT = COMPRESSED_FILE
END
