PDS_VERSION_ID = PDS3
/* FILE DATA ELEMENTS */
RECORD_TYPE = STREAM
/* POINTERS TO DATA OBJECTS */
^COMPRESSED_FILE = "HF907_0000_P23.JP2"
/* IDENTIFICATION DATA ELEMENTS */
DATA_SET_ID = "MEX-M-HRSC-5-REFDR-MAPPROJECTED-V3.0"
DATA_SET_NAME = "MARS EXPRESS HRSC MAP PROJECTED REFDR V3.0"
DETECTOR_ID = MEX_HRSC_P2
EVENT_TYPE = "MARS-REGIONAL-MAPPING-Vo-Gl-Pf"
INSTRUMENT_HOST_ID = MEX
INSTRUMENT_HOST_NAME = "MARS EXPRESS"
INSTRUMENT_ID = HRSC
INSTRUMENT_NAME = "HIGH RESOLUTION STEREO CAMERA"
MISSION_NAME = "MARS EXPRESS"
MISSION_PHASE_NAME = ME_Phase_35
PROCESSING_LEVEL_ID = 3
PRODUCT_CREATION_TIME = 2017-06-29T11:20:52.000Z
PRODUCT_ID = "HF907_0000_P23.JP2"
RELEASE_ID = 0135
REVISION_ID = 0000
/* QUALITY DATA ELEMENTS */
DATA_QUALITY_ID = 1
DATA_QUALITY_DESC = "Data calculated based on original SPICE kernels"
/* TIME DATA ELEMENTS */
SPACECRAFT_CLOCK_START_COUNT = "1/0417157146.09044"
SPACECRAFT_CLOCK_STOP_COUNT = "1/0417157305.16003"
START_TIME = 2016-07-21T05:00:11.577Z
STOP_TIME = 2016-07-21T05:01:37.705Z
/* ORBITAL DATA ELEMENTS */
ASCENDING_NODE_LONGITUDE = 275.06
MAXIMUM_RESOLUTION = 32.1
FOOTPRINT_POINT_LATITUDE = (58.5131,58.5027,58.4945,58.4834, 58.4699,58.4582,58.443,58.4329,58.5026, 58.3937,58.2849,58.1761,58.0674,57.9588 ,57.7959,57.6873,57.5788,57.4702, 57.3616,57.1987,57.0902,56.9819,56.8735 ,56.7651,56.6025,56.4943,56.386,56.2778 ,56.1156,56.0075,55.8994,55.7912, 55.6831,55.5752,55.4133,55.2513,55.0895 ,54.9277,54.8202,54.7126,54.6049, 54.4973,54.3897,54.2284,53.9597,53.7452 ,53.477,53.2094,53.1024,53.1091,53.1154 ,53.1215,53.1307,53.1363,53.1428, 53.1515,53.1571,53.1655,53.382,53.5433, 53.7048,53.9739,54.0817,54.1897,54.2976 ,54.4055,54.5675,54.6754,54.7835, 54.8916,54.9996,55.1618,55.27,55.3785, 55.4867,55.5951,55.7037,55.812,55.975, 56.0835,56.2463,56.4093,56.5181,56.6268 ,56.7357,56.8445,57.0077,57.1712, 57.2802,57.3891,57.498,57.6072,57.7709, 57.9348,58.044,58.2079,58.3171,58.4265, 58.5905,58.5131)
FOOTPRINT_POINT_LONGITUDE = (3.76444,3.40338,3.13896,2.80254, 2.41833,2.10655,1.72267,1.48264,1.29989 ,1.31777,1.33547,1.35295,1.37018, 1.38718,1.4124,1.42905,1.44549,1.46189, 1.47815,1.50231,1.51804,1.53357,1.54908 ,1.5644,1.58715,1.60203,1.61688,1.6315, 1.6531,1.66737,1.68149,1.69561,1.70946, 1.72311,1.74341,1.76353,1.78331,1.80275 ,1.81535,1.82789,1.84043,1.85282, 1.86504,1.88321,1.91298,1.9359,1.96425, 1.99159,2.14032,2.3247,2.50908,2.69332, 2.99262,3.17684,3.40739,3.73011,3.96066 ,4.33011,4.36936,4.35778,4.34613, 4.32617,4.31812,4.31015,4.30201,4.29378 ,4.28131,4.27288,4.2644,4.2559,4.24719, 4.23409,4.22529,4.21659,4.20761,4.19867 ,4.18974,4.18052,4.1668,4.1575,4.14329, 4.12907,4.11949,4.10974,4.10008,4.09019 ,4.07523,4.06021,4.05003,4.0397,4.02922 ,4.01887,4.00309,3.98714,3.97636, 3.95999,3.94895,3.9379,3.921,3.76444)
ORBIT_NUMBER = 15907
ORBITAL_ECCENTRICITY = 0.572
ORBITAL_INCLINATION = 86.94
ORBITAL_SEMIMAJOR_AXIS = 8782.66
PERIAPSIS_ALTITUDE = 380.27
PERIAPSIS_ARGUMENT_ANGLE = 117.47
PERIAPSIS_TIME = 2016-07-21T04:58:48.000Z
SPACECRAFT_ORIENTATION = (0.0,-1.0,0.0)
^MEX_ORIENTATION_DESC = "MEX_ORIENTATION_DESC.TXT"
SPACECRAFT_POINTING_MODE = NADIR
^MEX_POINTING_DESC = "MEX_POINTING_DESC.TXT"
RIGHT_ASCENSION = -1e+32
DECLINATION = -1e+32
OFFSET_ANGLE = -1e+32
SPACECRAFT_SOLAR_DISTANCE = 2.16359e+08
TARGET_NAME = MARS
/* CAMERA DATA ELEMENTS */
DETECTOR_TEMPERATURE = 19.39
FOCAL_PLANE_TEMPERATURE = 9.3989
INST_CMPRS_NAME = "DISCRETE COSINE TRANSFORMATION (DCT)"
INST_CMPRS_RATIO = 7.38853
INST_CMPRS_QUALITY = 0
INST_CMPRS_QUANTZ_TBL_ID = 0
INSTRUMENT_TEMPERATURE = 12.4574
LENS_TEMPERATURE = 9.3989
MACROPIXEL_SIZE = 2
MISSING_FRAMES = 0
PIXEL_SUBSAMPLING_FLAG = N
SIGNAL_CHAIN_ID = 3
/* RADIOMETRIC DATA ELEMENTS */
BANDWIDTH = 177.0
CENTER_FILTER_WAVELENGTH = 676.5
RADIANCE_OFFSET = 4.3943
RADIANCE_SCALING_FACTOR = 0.0106552
REFLECTANCE_SCALING_FACTOR = 0.000264466
MEX:REFLECTANCE_OFFSET = 0.109068
/* IMAGE OBJECT DEFINITIONS */
OBJECT = IMAGE
  INTERCHANGE_FORMAT = BINARY
  LINES = 13048
  LINE_SAMPLES = 3993
  SAMPLE_TYPE = UNSIGNED_INTEGER
  SAMPLE_BITS = 8
  BANDS = 1
  BAND_STORAGE_TYPE = BAND_SEQUENTIAL
  MAXIMUM = 255
  MEAN = 79.3058
  MINIMUM = 1
  STANDARD_DEVIATION = 36.4852
END_OBJECT = IMAGE
/* MAP OBJECT DEFINITIONS */
OBJECT = IMAGE_MAP_PROJECTION
  ^DATA_SET_MAP_PROJECTION_CATALOG= "DSMAP.CAT"
  A_AXIS_RADIUS = 3396.0
  B_AXIS_RADIUS = 3396.0
  C_AXIS_RADIUS = 3396.0
  CENTER_LATITUDE = 0.0
  CENTER_LONGITUDE = 3.0
  COORDINATE_SYSTEM_NAME = PLANETOGRAPHIC
  COORDINATE_SYSTEM_TYPE = "BODY-FIXED ROTATING"
  EASTERNMOST_LONGITUDE = 4.36936
  FIRST_STANDARD_PARALLEL = "N/A"
  LINE_FIRST_PIXEL = 1
  LINE_LAST_PIXEL = 13048
  LINE_PROJECTION_OFFSET = 138875.25
  MAP_PROJECTION_ROTATION = 0.0
  MAP_PROJECTION_TYPE = SINUSOIDAL
  MAP_RESOLUTION = 2370.85521546667
  MAP_SCALE = 0.025
  MAXIMUM_LATITUDE = 58.5905
  MINIMUM_LATITUDE = 53.1024
  POSITIVE_LONGITUDE_DIRECTION = EAST
  REFERENCE_LATITUDE = "N/A"
  REFERENCE_LONGITUDE = "N/A"
  SAMPLE_FIRST_PIXEL = 1
  SAMPLE_LAST_PIXEL = 3993
  SAMPLE_PROJECTION_OFFSET = 2089.25
  SECOND_STANDARD_PARALLEL = "N/A"
  WESTERNMOST_LONGITUDE = 1.29989
END_OBJECT = IMAGE_MAP_PROJECTION
/* The JPEG2000 image data file associated with this label. */
OBJECT = COMPRESSED_FILE
  FILE_NAME = "HF907_0000_P23.JP2"
  RECORD_TYPE = UNDEFINED
  FILE_RECORDS = UNK
  ENCODING_TYPE = "JP2"
  INTERCHANGE_FORMAT = BINARY
  UNCOMPRESSED_FILE_NAME = "HF907_0000_P23.IMG"
  REQUIRED_STORAGE_BYTES = "52124622"
  ^DESCRIPTION = "JP2INFO.TXT"
END_OBJECT = COMPRESSED_FILE
END
