PDS_VERSION_ID = PDS3
/* FILE DATA ELEMENTS */
RECORD_TYPE = STREAM
/* POINTERS TO DATA OBJECTS */
^COMPRESSED_FILE = "HF908_0009_BL3.JP2"
/* IDENTIFICATION DATA ELEMENTS */
DATA_SET_ID = "MEX-M-HRSC-5-REFDR-MAPPROJECTED-V3.0"
DATA_SET_NAME = "MARS EXPRESS HRSC MAP PROJECTED REFDR V3.0"
DETECTOR_ID = MEX_HRSC_BLUE
EVENT_TYPE = "MARS-REGIONAL-MAPPING-Pf-At"
INSTRUMENT_HOST_ID = MEX
INSTRUMENT_HOST_NAME = "MARS EXPRESS"
INSTRUMENT_ID = HRSC
INSTRUMENT_NAME = "HIGH RESOLUTION STEREO CAMERA"
MISSION_NAME = "MARS EXPRESS"
MISSION_PHASE_NAME = ME_Phase_35
PROCESSING_LEVEL_ID = 3
PRODUCT_CREATION_TIME = 2017-06-29T11:20:52.000Z
PRODUCT_ID = "HF908_0009_BL3.JP2"
RELEASE_ID = 0135
REVISION_ID = 0000
/* QUALITY DATA ELEMENTS */
DATA_QUALITY_ID = 1
DATA_QUALITY_DESC = "Data calculated based on original SPICE kernels"
/* TIME DATA ELEMENTS */
SPACECRAFT_CLOCK_START_COUNT = "1/0417182153.07305"
SPACECRAFT_CLOCK_STOP_COUNT = "1/0417182489.38401"
START_TIME = 2016-07-21T11:56:43.943Z
STOP_TIME = 2016-07-21T12:01:03.975Z
/* ORBITAL DATA ELEMENTS */
ASCENDING_NODE_LONGITUDE = 275.04
MAXIMUM_RESOLUTION = 61.1
FOOTPRINT_POINT_LATITUDE = (70.0201,69.9708,69.9143,69.8566, 69.5308,69.2047,68.8782,68.5515,68.2244 ,67.8971,67.5695,67.0777,66.7494,66.421 ,66.0924,65.7636,65.4347,65.1055, 64.7763,64.4469,63.9526,63.623,63.2932, 62.9634,62.6335,62.3037,61.9737,61.6438 ,61.1487,60.8187,60.4887,60.1588, 59.8288,59.4989,59.1691,58.8392,58.5096 ,58.18,57.8505,57.5211,57.1919,56.8628, 56.5338,56.205,55.8763,55.5478,55.2195, 54.8913,54.5634,54.0718,53.4173,53.3778 ,53.3991,53.5882,53.9168,54.2456, 54.5747,54.904,55.2335,55.5632,55.8931, 56.2233,56.5536,56.8842,57.2148,57.5457 ,57.8767,58.2079,58.5392,58.8706, 59.2022,59.534,60.0318,60.3637,60.8618, 61.1939,61.5261,61.8583,62.1905,62.5228 ,62.8551,63.1874,63.5197,64.0182, 64.3505,64.8489,65.1811,65.6793,66.1773 ,66.5093,66.8412,67.1729,67.5046, 67.8361,68.1675,68.4987,68.8298,69.1608 ,69.4915,70.0201)
FOOTPRINT_POINT_LONGITUDE = (258.404,257.282,256.159,254.751, 254.928,255.099,255.264,255.422,255.576 ,255.725,255.868,256.074,256.206, 256.334,256.458,256.578,256.693,256.806 ,256.914,257.02,257.172,257.269,257.364 ,257.455,257.544,257.63,257.714,257.795 ,257.913,257.988,258.062,258.133, 258.202,258.269,258.334,258.398,258.459 ,258.519,258.577,258.633,258.688, 258.741,258.792,258.842,258.891,258.938 ,258.984,259.029,259.072,259.135, 259.214,260.002,260.65,261.524,261.497, 261.468,261.439,261.41,261.379,261.348, 261.316,261.284,261.25,261.216,261.181, 261.145,261.108,261.071,261.032,260.992 ,260.952,260.91,260.846,260.801,260.732 ,260.685,260.636,260.586,260.534, 260.481,260.427,260.371,260.313,260.224 ,260.162,260.066,260.0,259.896,259.788, 259.714,259.636,259.557,259.475,259.39, 259.302,259.212,259.118,259.022,258.922 ,258.404)
ORBIT_NUMBER = 15908
ORBITAL_ECCENTRICITY = 0.572
ORBITAL_INCLINATION = 86.94
ORBITAL_SEMIMAJOR_AXIS = 8783.26
PERIAPSIS_ALTITUDE = 379.7
PERIAPSIS_ARGUMENT_ANGLE = 117.3
PERIAPSIS_TIME = 2016-07-21T11:58:35.000Z
SPACECRAFT_ORIENTATION = (0.0,-1.0,0.0)
^MEX_ORIENTATION_DESC = "MEX_ORIENTATION_DESC.TXT"
SPACECRAFT_POINTING_MODE = ACROSSTRACK
^MEX_POINTING_DESC = "MEX_POINTING_DESC.TXT"
RIGHT_ASCENSION = -1e+32
DECLINATION = -1e+32
OFFSET_ANGLE = -0.269
SPACECRAFT_SOLAR_DISTANCE = 2.16309e+08
TARGET_NAME = MARS
/* CAMERA DATA ELEMENTS */
DETECTOR_TEMPERATURE = 18.9822
FOCAL_PLANE_TEMPERATURE = 9.3989
INST_CMPRS_NAME = "DISCRETE COSINE TRANSFORMATION (DCT)"
INST_CMPRS_RATIO = 4.39469
INST_CMPRS_QUALITY = 0
INST_CMPRS_QUANTZ_TBL_ID = 0
INSTRUMENT_TEMPERATURE = 13.0691
LENS_TEMPERATURE = 9.6028
MACROPIXEL_SIZE = 4
MISSING_FRAMES = 0
PIXEL_SUBSAMPLING_FLAG = N
SIGNAL_CHAIN_ID = 2
/* RADIOMETRIC DATA ELEMENTS */
BANDWIDTH = 76.0
CENTER_FILTER_WAVELENGTH = 444.0
RADIANCE_OFFSET = 0.463434
RADIANCE_SCALING_FACTOR = 0.00164797
REFLECTANCE_SCALING_FACTOR = 7.92236e-05
MEX:REFLECTANCE_OFFSET = 0.0222789
/* IMAGE OBJECT DEFINITIONS */
OBJECT = IMAGE
  INTERCHANGE_FORMAT = BINARY
  LINES = 19810
  LINE_SAMPLES = 3492
  SAMPLE_TYPE = UNSIGNED_INTEGER
  SAMPLE_BITS = 8
  BANDS = 1
  BAND_STORAGE_TYPE = BAND_SEQUENTIAL
  MAXIMUM = 255
  MEAN = 163.832
  MINIMUM = 1
  STANDARD_DEVIATION = 46.4364
END_OBJECT = IMAGE
/* MAP OBJECT DEFINITIONS */
OBJECT = IMAGE_MAP_PROJECTION
  ^DATA_SET_MAP_PROJECTION_CATALOG= "DSMAP.CAT"
  A_AXIS_RADIUS = 3396.0
  B_AXIS_RADIUS = 3396.0
  C_AXIS_RADIUS = 3396.0
  CENTER_LATITUDE = 0.0
  CENTER_LONGITUDE = 259.0
  COORDINATE_SYSTEM_NAME = PLANETOGRAPHIC
  COORDINATE_SYSTEM_TYPE = "BODY-FIXED ROTATING"
  EASTERNMOST_LONGITUDE = 261.524
  FIRST_STANDARD_PARALLEL = "N/A"
  LINE_FIRST_PIXEL = 1
  LINE_LAST_PIXEL = 19810
  LINE_PROJECTION_OFFSET = 83046.875
  MAP_PROJECTION_ROTATION = 0.0
  MAP_PROJECTION_TYPE = SINUSOIDAL
  MAP_RESOLUTION = 1185.42760773333
  MAP_SCALE = 0.05
  MAXIMUM_LATITUDE = 70.0201
  MINIMUM_LATITUDE = 53.3778
  POSITIVE_LONGITUDE_DIRECTION = EAST
  REFERENCE_LATITUDE = "N/A"
  REFERENCE_LONGITUDE = "N/A"
  SAMPLE_FIRST_PIXEL = 1
  SAMPLE_LAST_PIXEL = 3492
  SAMPLE_PROJECTION_OFFSET = 1696.875
  SECOND_STANDARD_PARALLEL = "N/A"
  WESTERNMOST_LONGITUDE = 254.751
END_OBJECT = IMAGE_MAP_PROJECTION
/* The JPEG2000 image data file associated with this label. */
OBJECT = COMPRESSED_FILE
  FILE_NAME = "HF908_0009_BL3.JP2"
  RECORD_TYPE = UNDEFINED
  FILE_RECORDS = UNK
  ENCODING_TYPE = "JP2"
  INTERCHANGE_FORMAT = BINARY
  UNCOMPRESSED_FILE_NAME = "HF908_0009_BL3.IMG"
  REQUIRED_STORAGE_BYTES = "69200964"
  ^DESCRIPTION = "JP2INFO.TXT"
END_OBJECT = COMPRESSED_FILE
END
