PDS_VERSION_ID = PDS3
/* FILE DATA ELEMENTS */
RECORD_TYPE = STREAM
/* POINTERS TO DATA OBJECTS */
^COMPRESSED_FILE = "HF910_0000_RE3.JP2"
/* IDENTIFICATION DATA ELEMENTS */
DATA_SET_ID = "MEX-M-HRSC-5-REFDR-MAPPROJECTED-V3.0"
DATA_SET_NAME = "MARS EXPRESS HRSC MAP PROJECTED REFDR V3.0"
DETECTOR_ID = MEX_HRSC_RED
EVENT_TYPE = "MARS-REGIONAL-MAPPING-Gl-Pf-Mw"
INSTRUMENT_HOST_ID = MEX
INSTRUMENT_HOST_NAME = "MARS EXPRESS"
INSTRUMENT_ID = HRSC
INSTRUMENT_NAME = "HIGH RESOLUTION STEREO CAMERA"
MISSION_NAME = "MARS EXPRESS"
MISSION_PHASE_NAME = ME_Phase_35
PROCESSING_LEVEL_ID = 3
PRODUCT_CREATION_TIME = 2017-06-29T11:20:52.000Z
PRODUCT_ID = "HF910_0000_RE3.JP2"
RELEASE_ID = 0135
REVISION_ID = 0000
/* QUALITY DATA ELEMENTS */
DATA_QUALITY_ID = 1
DATA_QUALITY_DESC = "Data calculated based on original SPICE kernels"
/* TIME DATA ELEMENTS */
SPACECRAFT_CLOCK_START_COUNT = "1/0417232686.09044"
SPACECRAFT_CLOCK_STOP_COUNT = "1/0417232936.08912"
START_TIME = 2016-07-22T01:59:17.384Z
STOP_TIME = 2016-07-22T02:02:14.857Z
/* ORBITAL DATA ELEMENTS */
ASCENDING_NODE_LONGITUDE = 274.99
MAXIMUM_RESOLUTION = 64.8
FOOTPRINT_POINT_LATITUDE = (59.6247,59.61,59.5986,59.5838,59.5697, 59.5487,59.4164,59.1955,58.9744,58.7538 ,58.423,58.2025,57.9823,57.652,57.4321, 57.2126,56.8829,56.5544,56.3354,56.1166 ,55.8976,55.6794,55.352,55.0249,54.807, 54.5897,54.3722,54.1551,53.9382,53.613, 53.3967,53.0724,52.8565,52.6408,52.4253 ,52.2102,51.8875,51.672,51.3428,51.1232 ,50.7938,50.5745,50.356,50.1373,49.8068 ,49.583,49.2472,49.0243,48.8013,48.6668 ,48.6755,48.6801,48.6896,48.6956, 48.7014,48.7055,48.8223,49.0459,49.382, 49.6061,49.8306,50.0532,50.2722,50.492, 50.8223,51.1527,51.373,51.594,51.92, 52.1355,52.3516,52.675,52.8916,53.1084, 53.3251,53.5425,53.7601,54.0865,54.3046 ,54.5228,54.8505,55.0691,55.3975, 55.7262,55.9456,56.1652,56.4946,56.8252 ,57.0455,57.2656,57.4867,57.8179, 58.0386,58.2605,58.593,58.8146,59.147, 59.3694,59.5914,59.6247)
FOOTPRINT_POINT_LONGITUDE = (56.1152,55.6164,55.2594,54.8306,54.449 ,53.9221,53.856,53.8973,53.938,53.9776, 54.0355,54.0735,54.1104,54.1646,54.1998 ,54.2341,54.2849,54.3333,54.365,54.396, 54.4268,54.4563,54.4999,54.5423,54.57, 54.5966,54.6231,54.6488,54.6741,54.7112 ,54.7351,54.7702,54.793,54.8153,54.8371 ,54.8584,54.8899,54.9108,54.9409, 54.9604,54.9891,55.0078,55.0256,55.0434 ,55.0696,55.0868,55.1123,55.1285, 55.1444,55.261,55.6081,55.8028,56.2343, 56.5362,56.8807,57.1386,57.4614,57.448, 57.4274,57.4133,57.3991,57.3848,57.3704 ,57.3559,57.334,57.3113,57.2958,57.2802 ,57.2568,57.241,57.225,57.2002,57.1835, 57.1667,57.1495,57.1321,57.1145,57.0874 ,57.0691,57.0505,57.0219,57.0025, 56.9728,56.9423,56.9216,56.9005,56.8682 ,56.8353,56.8128,56.7898,56.7667, 56.7311,56.7067,56.6823,56.6446,56.6189 ,56.5793,56.5526,56.5252,56.1152)
ORBIT_NUMBER = 15910
ORBITAL_ECCENTRICITY = 0.572
ORBITAL_INCLINATION = 86.95
ORBITAL_SEMIMAJOR_AXIS = 8784.84
PERIAPSIS_ALTITUDE = 379.97
PERIAPSIS_ARGUMENT_ANGLE = 116.98
PERIAPSIS_TIME = 2016-07-22T01:57:58.000Z
SPACECRAFT_ORIENTATION = (0.0,-1.0,0.0)
^MEX_ORIENTATION_DESC = "MEX_ORIENTATION_DESC.TXT"
SPACECRAFT_POINTING_MODE = ACROSSTRACK
^MEX_POINTING_DESC = "MEX_POINTING_DESC.TXT"
RIGHT_ASCENSION = -1e+32
DECLINATION = -1e+32
OFFSET_ANGLE = -0.18
SPACECRAFT_SOLAR_DISTANCE = 2.16209e+08
TARGET_NAME = MARS
/* CAMERA DATA ELEMENTS */
DETECTOR_TEMPERATURE = 18.9822
FOCAL_PLANE_TEMPERATURE = 9.3989
INST_CMPRS_NAME = "DISCRETE COSINE TRANSFORMATION (DCT)"
INST_CMPRS_RATIO = 23.9554
INST_CMPRS_QUALITY = 0
INST_CMPRS_QUANTZ_TBL_ID = 0
INSTRUMENT_TEMPERATURE = 12.0496
LENS_TEMPERATURE = 10.0106
MACROPIXEL_SIZE = 4
MISSING_FRAMES = 0
PIXEL_SUBSAMPLING_FLAG = N
SIGNAL_CHAIN_ID = 2
/* RADIOMETRIC DATA ELEMENTS */
BANDWIDTH = 48.0
CENTER_FILTER_WAVELENGTH = 748.0
RADIANCE_OFFSET = 0.776794
RADIANCE_SCALING_FACTOR = 0.00414628
REFLECTANCE_SCALING_FACTOR = 0.000442314
MEX:REFLECTANCE_OFFSET = 0.0828662
/* IMAGE OBJECT DEFINITIONS */
OBJECT = IMAGE
  INTERCHANGE_FORMAT = BINARY
  LINES = 13123
  LINE_SAMPLES = 2411
  SAMPLE_TYPE = UNSIGNED_INTEGER
  SAMPLE_BITS = 8
  BANDS = 1
  BAND_STORAGE_TYPE = BAND_SEQUENTIAL
  MAXIMUM = 255
  MEAN = 124.759
  MINIMUM = 1
  STANDARD_DEVIATION = 61.1345
END_OBJECT = IMAGE
/* MAP OBJECT DEFINITIONS */
OBJECT = IMAGE_MAP_PROJECTION
  ^DATA_SET_MAP_PROJECTION_CATALOG= "DSMAP.CAT"
  A_AXIS_RADIUS = 3396.0
  B_AXIS_RADIUS = 3396.0
  C_AXIS_RADIUS = 3396.0
  CENTER_LATITUDE = 0.0
  CENTER_LONGITUDE = 56.0
  COORDINATE_SYSTEM_NAME = PLANETOGRAPHIC
  COORDINATE_SYSTEM_TYPE = "BODY-FIXED ROTATING"
  EASTERNMOST_LONGITUDE = 57.4614
  FIRST_STANDARD_PARALLEL = "N/A"
  LINE_FIRST_PIXEL = 1
  LINE_LAST_PIXEL = 13123
  LINE_PROJECTION_OFFSET = 70787.875
  MAP_PROJECTION_ROTATION = 0.0
  MAP_PROJECTION_TYPE = SINUSOIDAL
  MAP_RESOLUTION = 1185.42760773333
  MAP_SCALE = 0.05
  MAXIMUM_LATITUDE = 59.6247
  MINIMUM_LATITUDE = 48.6668
  POSITIVE_LONGITUDE_DIRECTION = EAST
  REFERENCE_LATITUDE = "N/A"
  REFERENCE_LONGITUDE = "N/A"
  SAMPLE_FIRST_PIXEL = 1
  SAMPLE_LAST_PIXEL = 2411
  SAMPLE_PROJECTION_OFFSET = 1302.625
  SECOND_STANDARD_PARALLEL = "N/A"
  WESTERNMOST_LONGITUDE = 53.856
END_OBJECT = IMAGE_MAP_PROJECTION
/* The JPEG2000 image data file associated with this label. */
OBJECT = COMPRESSED_FILE
  FILE_NAME = "HF910_0000_RE3.JP2"
  RECORD_TYPE = UNDEFINED
  FILE_RECORDS = UNK
  ENCODING_TYPE = "JP2"
  INTERCHANGE_FORMAT = BINARY
  UNCOMPRESSED_FILE_NAME = "HF910_0000_RE3.IMG"
  REQUIRED_STORAGE_BYTES = "31658841"
  ^DESCRIPTION = "JP2INFO.TXT"
END_OBJECT = COMPRESSED_FILE
END
