PDS_VERSION_ID = PDS3
/* FILE DATA ELEMENTS */
RECORD_TYPE = STREAM
/* POINTERS TO DATA OBJECTS */
^COMPRESSED_FILE = "HF912_0000_P13.JP2"
/* IDENTIFICATION DATA ELEMENTS */
DATA_SET_ID = "MEX-M-HRSC-5-REFDR-MAPPROJECTED-V3.0"
DATA_SET_NAME = "MARS EXPRESS HRSC MAP PROJECTED REFDR V3.0"
DETECTOR_ID = MEX_HRSC_P1
EVENT_TYPE = "MARS-REGIONAL-MAPPING-Im-Pf"
INSTRUMENT_HOST_ID = MEX
INSTRUMENT_HOST_NAME = "MARS EXPRESS"
INSTRUMENT_ID = HRSC
INSTRUMENT_NAME = "HIGH RESOLUTION STEREO CAMERA"
MISSION_NAME = "MARS EXPRESS"
MISSION_PHASE_NAME = ME_Phase_35
PROCESSING_LEVEL_ID = 3
PRODUCT_CREATION_TIME = 2017-06-29T11:20:52.000Z
PRODUCT_ID = "HF912_0000_P13.JP2"
RELEASE_ID = 0135
REVISION_ID = 0000
/* QUALITY DATA ELEMENTS */
DATA_QUALITY_ID = 1
DATA_QUALITY_DESC = "Data calculated based on original SPICE kernels"
/* TIME DATA ELEMENTS */
SPACECRAFT_CLOCK_START_COUNT = "1/0417283070.09063"
SPACECRAFT_CLOCK_STOP_COUNT = "1/0417283280.26203"
START_TIME = 2016-07-22T15:58:09.868Z
STOP_TIME = 2016-07-22T16:00:20.958Z
/* ORBITAL DATA ELEMENTS */
ASCENDING_NODE_LONGITUDE = 274.96
MAXIMUM_RESOLUTION = 31.6
FOOTPRINT_POINT_LATITUDE = (58.6054,58.6084,58.6088,58.6079, 58.6055,58.6019,58.5971,58.2741,58.1054 ,57.9367,57.7676,57.5992,57.4299,57.261 ,57.092,56.9232,56.7544,56.585,56.4163, 56.1626,55.9092,55.7402,55.4867,55.3175 ,55.1489,54.9768,54.8061,54.6365, 54.4671,54.2982,54.1296,53.796,53.6262, 53.3724,53.2032,53.0338,52.8646,52.6953 ,52.5258,52.3564,52.1873,52.0185, 51.8493,51.6802,51.5112,51.3422,51.1731 ,50.9195,50.7503,50.4967,50.2434, 50.0745,50.0722,50.0717,50.0701,50.0671 ,50.0615,50.0547,50.2239,50.3933, 50.5627,50.8169,50.9865,51.2406,51.4101 ,51.5795,51.749,51.9185,52.0881,52.2577 ,52.5122,52.7665,52.9361,53.1059, 53.2767,53.5326,53.7004,53.9524,54.2878 ,54.4577,54.7139,54.9709,55.1449, 55.3982,55.5664,55.8203,55.9899,56.2437 ,56.4982,56.6679,56.9223,57.092,57.2614 ,57.4309,57.6001,57.7694,57.9389, 58.1084,58.3625,58.6054)
FOOTPRINT_POINT_LONGITUDE = (214.253,213.672,213.274,212.881, 212.492,212.108,211.728,211.787,211.805 ,211.822,211.84,211.856,211.873,211.889 ,211.906,211.921,211.937,211.952, 211.967,211.989,212.01,212.024,212.045, 212.058,212.071,212.085,212.098,212.111 ,212.123,212.135,212.147,212.167, 212.179,212.195,212.206,212.216,212.226 ,212.236,212.246,212.256,212.265, 212.274,212.283,212.292,212.301,212.309 ,212.318,212.33,212.338,212.349,212.361 ,212.368,212.711,213.058,213.409, 213.764,214.212,214.653,214.65,214.646, 214.643,214.638,214.634,214.629,214.626 ,214.622,214.618,214.615,214.611, 214.607,214.601,214.595,214.591,214.587 ,214.58,214.571,214.57,214.569,214.567, 214.562,214.552,214.539,214.525,214.52, 214.518,214.511,214.506,214.499,214.491 ,214.485,214.476,214.47,214.464,214.458 ,214.452,214.446,214.44,214.433,214.424 ,214.253)
ORBIT_NUMBER = 15912
ORBITAL_ECCENTRICITY = 0.572
ORBITAL_INCLINATION = 86.96
ORBITAL_SEMIMAJOR_AXIS = 8779.11
PERIAPSIS_ALTITUDE = 379.87
PERIAPSIS_ARGUMENT_ANGLE = 116.62
PERIAPSIS_TIME = 2016-07-22T15:57:19.000Z
SPACECRAFT_ORIENTATION = (0.0,-1.0,0.0)
^MEX_ORIENTATION_DESC = "MEX_ORIENTATION_DESC.TXT"
SPACECRAFT_POINTING_MODE = ACROSSTRACK
^MEX_POINTING_DESC = "MEX_POINTING_DESC.TXT"
RIGHT_ASCENSION = -1e+32
DECLINATION = -1e+32
OFFSET_ANGLE = 0.95
SPACECRAFT_SOLAR_DISTANCE = 2.16109e+08
TARGET_NAME = MARS
/* CAMERA DATA ELEMENTS */
DETECTOR_TEMPERATURE = 17.5549
FOCAL_PLANE_TEMPERATURE = 8.1755
INST_CMPRS_NAME = "DISCRETE COSINE TRANSFORMATION (DCT)"
INST_CMPRS_RATIO = 9.41778
INST_CMPRS_QUALITY = 0
INST_CMPRS_QUANTZ_TBL_ID = 0
INSTRUMENT_TEMPERATURE = 11.8457
LENS_TEMPERATURE = 7.3599
MACROPIXEL_SIZE = 2
MISSING_FRAMES = 0
PIXEL_SUBSAMPLING_FLAG = N
SIGNAL_CHAIN_ID = 3
/* RADIOMETRIC DATA ELEMENTS */
BANDWIDTH = 174.0
CENTER_FILTER_WAVELENGTH = 675.0
RADIANCE_OFFSET = 3.28243
RADIANCE_SCALING_FACTOR = 0.0150177
REFLECTANCE_SCALING_FACTOR = 0.000377253
MEX:REFLECTANCE_OFFSET = 0.0824568
/* IMAGE OBJECT DEFINITIONS */
OBJECT = IMAGE
  INTERCHANGE_FORMAT = BINARY
  LINES = 20203
  LINE_SAMPLES = 4154
  SAMPLE_TYPE = UNSIGNED_INTEGER
  SAMPLE_BITS = 8
  BANDS = 1
  BAND_STORAGE_TYPE = BAND_SEQUENTIAL
  MAXIMUM = 255
  MEAN = 106.761
  MINIMUM = 1
  STANDARD_DEVIATION = 47.0495
END_OBJECT = IMAGE
/* MAP OBJECT DEFINITIONS */
OBJECT = IMAGE_MAP_PROJECTION
  ^DATA_SET_MAP_PROJECTION_CATALOG= "DSMAP.CAT"
  A_AXIS_RADIUS = 3396.0
  B_AXIS_RADIUS = 3396.0
  C_AXIS_RADIUS = 3396.0
  CENTER_LATITUDE = 0.0
  CENTER_LONGITUDE = 213.0
  COORDINATE_SYSTEM_NAME = PLANETOGRAPHIC
  COORDINATE_SYSTEM_TYPE = "BODY-FIXED ROTATING"
  EASTERNMOST_LONGITUDE = 214.653
  FIRST_STANDARD_PARALLEL = "N/A"
  LINE_FIRST_PIXEL = 1
  LINE_LAST_PIXEL = 20203
  LINE_PROJECTION_OFFSET = 138891.75
  MAP_PROJECTION_ROTATION = 0.0
  MAP_PROJECTION_TYPE = SINUSOIDAL
  MAP_RESOLUTION = 2370.85521546667
  MAP_SCALE = 0.025
  MAXIMUM_LATITUDE = 58.6088
  MINIMUM_LATITUDE = 50.0547
  POSITIVE_LONGITUDE_DIRECTION = EAST
  REFERENCE_LATITUDE = "N/A"
  REFERENCE_LONGITUDE = "N/A"
  SAMPLE_FIRST_PIXEL = 1
  SAMPLE_LAST_PIXEL = 4154
  SAMPLE_PROJECTION_OFFSET = 1586.25
  SECOND_STANDARD_PARALLEL = "N/A"
  WESTERNMOST_LONGITUDE = 211.728
END_OBJECT = IMAGE_MAP_PROJECTION
/* The JPEG2000 image data file associated with this label. */
OBJECT = COMPRESSED_FILE
  FILE_NAME = "HF912_0000_P13.JP2"
  RECORD_TYPE = UNDEFINED
  FILE_RECORDS = UNK
  ENCODING_TYPE = "JP2"
  INTERCHANGE_FORMAT = BINARY
  UNCOMPRESSED_FILE_NAME = "HF912_0000_P13.IMG"
  REQUIRED_STORAGE_BYTES = "83948186"
  ^DESCRIPTION = "JP2INFO.TXT"
END_OBJECT = COMPRESSED_FILE
END
