PDS_VERSION_ID = PDS3
/* FILE DATA ELEMENTS */
RECORD_TYPE = STREAM
/* POINTERS TO DATA OBJECTS */
^COMPRESSED_FILE = "HF917_0000_GR3.JP2"
/* IDENTIFICATION DATA ELEMENTS */
DATA_SET_ID = "MEX-M-HRSC-5-REFDR-MAPPROJECTED-V3.0"
DATA_SET_NAME = "MARS EXPRESS HRSC MAP PROJECTED REFDR V3.0"
DETECTOR_ID = MEX_HRSC_GREEN
EVENT_TYPE = "MARS-REGIONAL-MAPPING-Te-Gl-Mw"
INSTRUMENT_HOST_ID = MEX
INSTRUMENT_HOST_NAME = "MARS EXPRESS"
INSTRUMENT_ID = HRSC
INSTRUMENT_NAME = "HIGH RESOLUTION STEREO CAMERA"
MISSION_NAME = "MARS EXPRESS"
MISSION_PHASE_NAME = ME_Phase_35
PROCESSING_LEVEL_ID = 3
PRODUCT_CREATION_TIME = 2017-06-29T11:20:52.000Z
PRODUCT_ID = "HF917_0000_GR3.JP2"
RELEASE_ID = 0135
REVISION_ID = 0000
/* QUALITY DATA ELEMENTS */
DATA_QUALITY_ID = 1
DATA_QUALITY_DESC = "Data calculated based on original SPICE kernels"
/* TIME DATA ELEMENTS */
SPACECRAFT_CLOCK_START_COUNT = "1/0417409202.09038"
SPACECRAFT_CLOCK_STOP_COUNT = "1/0417409544.62281"
START_TIME = 2016-07-24T03:00:43.579Z
STOP_TIME = 2016-07-24T03:04:31.444Z
/* ORBITAL DATA ELEMENTS */
ASCENDING_NODE_LONGITUDE = 274.86
MAXIMUM_RESOLUTION = 71.6
FOOTPRINT_POINT_LATITUDE = (45.4353,45.4361,45.433,45.4135,44.9248 ,44.6749,44.4252,44.1758,43.9264, 43.5501,43.2956,43.0413,42.7873,42.5336 ,42.2751,42.0162,41.7574,41.4993, 41.1053,40.8416,40.5787,40.1798,39.9115 ,39.6436,39.376,39.103,38.6942,38.4217, 38.144,37.867,37.5904,37.3098,37.0277, 36.747,36.4623,36.1766,35.8913,35.456, 35.166,34.8722,34.5774,34.283,33.9837, 33.5361,33.2323,32.9309,32.4708,32.1644 ,31.6443,31.6421,31.6392,31.6348, 31.6293,31.6239,31.6163,31.9282,32.2392 ,32.5473,33.0068,33.3107,33.7625, 34.0618,34.3603,34.6558,35.0986,35.3887 ,35.6798,36.1119,36.3993,36.6866, 36.9683,37.2505,37.6716,37.9489,38.2265 ,38.5032,38.776,39.0493,39.4579,39.7265 ,40.1294,40.3979,40.6617,40.9257, 41.1902,41.5832,41.8417,42.1015,42.362, 42.6189,42.8732,43.1279,43.3828,43.7638 ,44.0135,44.2633,44.5135,44.7639, 45.2576,45.4353)
FOOTPRINT_POINT_LONGITUDE = (62.875,62.208,61.5544,60.9362,60.9444, 60.9482,60.9517,60.955,60.9581,60.9623, 60.9648,60.967,60.969,60.9708,60.9724, 60.9737,60.9748,60.9755,60.9765,60.9769 ,60.9768,60.9767,60.9762,60.9755, 60.9746,60.9734,60.9712,60.9694,60.9675 ,60.9652,60.9627,60.9598,60.957,60.9537 ,60.9502,60.9464,60.9425,60.9361, 60.9316,60.9268,60.9217,60.9164,60.9107 ,60.9018,60.8955,60.8891,60.8787, 60.8715,60.9461,61.3719,61.8218,62.1633 ,62.5748,62.875,63.302,63.3036,63.3002, 63.2992,63.2973,63.2962,63.297,63.2975, 63.2958,63.2929,63.2899,63.2913,63.2902 ,63.2881,63.2832,63.2793,63.2782, 63.2763,63.2754,63.2746,63.2741,63.2726 ,63.271,63.2691,63.2661,63.263,63.2612, 63.2588,63.2561,63.2537,63.2506,63.2471 ,63.2482,63.244,63.2378,63.2369,63.2354 ,63.2324,63.2302,63.2261,63.223,63.2204 ,63.2169,63.2138,63.2068,62.875)
ORBIT_NUMBER = 15917
ORBITAL_ECCENTRICITY = 0.572
ORBITAL_INCLINATION = 86.95
ORBITAL_SEMIMAJOR_AXIS = 8783.11
PERIAPSIS_ALTITUDE = 380.31
PERIAPSIS_ARGUMENT_ANGLE = 115.76
PERIAPSIS_TIME = 2016-07-24T02:55:56.000Z
SPACECRAFT_ORIENTATION = (0.0,-1.0,0.0)
^MEX_ORIENTATION_DESC = "MEX_ORIENTATION_DESC.TXT"
SPACECRAFT_POINTING_MODE = ACROSSTRACK
^MEX_POINTING_DESC = "MEX_POINTING_DESC.TXT"
RIGHT_ASCENSION = -1e+32
DECLINATION = -1e+32
OFFSET_ANGLE = 0.95
SPACECRAFT_SOLAR_DISTANCE = 2.15861e+08
TARGET_NAME = MARS
/* CAMERA DATA ELEMENTS */
DETECTOR_TEMPERATURE = 18.3705
FOCAL_PLANE_TEMPERATURE = 9.6028
INST_CMPRS_NAME = "DISCRETE COSINE TRANSFORMATION (DCT)"
INST_CMPRS_RATIO = 8.75416
INST_CMPRS_QUALITY = 0
INST_CMPRS_QUANTZ_TBL_ID = 0
INSTRUMENT_TEMPERATURE = 12.0496
LENS_TEMPERATURE = 10.2145
MACROPIXEL_SIZE = 4
MISSING_FRAMES = 0
PIXEL_SUBSAMPLING_FLAG = N
SIGNAL_CHAIN_ID = 2
/* RADIOMETRIC DATA ELEMENTS */
BANDWIDTH = 88.0
CENTER_FILTER_WAVELENGTH = 538.0
RADIANCE_OFFSET = 1.07524
RADIANCE_SCALING_FACTOR = 0.00653577
REFLECTANCE_SCALING_FACTOR = 0.000262198
MEX:REFLECTANCE_OFFSET = 0.0431358
/* IMAGE OBJECT DEFINITIONS */
OBJECT = IMAGE
  INTERCHANGE_FORMAT = BINARY
  LINES = 16378
  LINE_SAMPLES = 2586
  SAMPLE_TYPE = UNSIGNED_INTEGER
  SAMPLE_BITS = 8
  BANDS = 1
  BAND_STORAGE_TYPE = BAND_SEQUENTIAL
  MAXIMUM = 255
  MEAN = 131.063
  MINIMUM = 1
  STANDARD_DEVIATION = 34.6863
END_OBJECT = IMAGE
/* MAP OBJECT DEFINITIONS */
OBJECT = IMAGE_MAP_PROJECTION
  ^DATA_SET_MAP_PROJECTION_CATALOG= "DSMAP.CAT"
  A_AXIS_RADIUS = 3396.0
  B_AXIS_RADIUS = 3396.0
  C_AXIS_RADIUS = 3396.0
  CENTER_LATITUDE = 0.0
  CENTER_LONGITUDE = 62.0
  COORDINATE_SYSTEM_NAME = PLANETOGRAPHIC
  COORDINATE_SYSTEM_TYPE = "BODY-FIXED ROTATING"
  EASTERNMOST_LONGITUDE = 63.3036
  FIRST_STANDARD_PARALLEL = "N/A"
  LINE_FIRST_PIXEL = 1
  LINE_LAST_PIXEL = 16378
  LINE_PROJECTION_OFFSET = 53865.875
  MAP_PROJECTION_ROTATION = 0.0
  MAP_PROJECTION_TYPE = SINUSOIDAL
  MAP_RESOLUTION = 1185.42760773333
  MAP_SCALE = 0.05
  MAXIMUM_LATITUDE = 45.4361
  MINIMUM_LATITUDE = 31.6163
  POSITIVE_LONGITUDE_DIRECTION = EAST
  REFERENCE_LATITUDE = "N/A"
  REFERENCE_LONGITUDE = "N/A"
  SAMPLE_FIRST_PIXEL = 1
  SAMPLE_LAST_PIXEL = 2586
  SAMPLE_PROJECTION_OFFSET = 1181.125
  SECOND_STANDARD_PARALLEL = "N/A"
  WESTERNMOST_LONGITUDE = 60.8715
END_OBJECT = IMAGE_MAP_PROJECTION
/* The JPEG2000 image data file associated with this label. */
OBJECT = COMPRESSED_FILE
  FILE_NAME = "HF917_0000_GR3.JP2"
  RECORD_TYPE = UNDEFINED
  FILE_RECORDS = UNK
  ENCODING_TYPE = "JP2"
  INTERCHANGE_FORMAT = BINARY
  UNCOMPRESSED_FILE_NAME = "HF917_0000_GR3.IMG"
  REQUIRED_STORAGE_BYTES = "42374196"
  ^DESCRIPTION = "JP2INFO.TXT"
END_OBJECT = COMPRESSED_FILE
END
