PDS_VERSION_ID = PDS3
/* FILE DATA ELEMENTS */
RECORD_TYPE = STREAM
/* POINTERS TO DATA OBJECTS */
^COMPRESSED_FILE = "HF918_0000_BL3.JP2"
/* IDENTIFICATION DATA ELEMENTS */
DATA_SET_ID = "MEX-M-HRSC-5-REFDR-MAPPROJECTED-V3.0"
DATA_SET_NAME = "MARS EXPRESS HRSC MAP PROJECTED REFDR V3.0"
DETECTOR_ID = MEX_HRSC_BLUE
EVENT_TYPE = "MARS-REGIONAL-MAPPING-Pf"
INSTRUMENT_HOST_ID = MEX
INSTRUMENT_HOST_NAME = "MARS EXPRESS"
INSTRUMENT_ID = HRSC
INSTRUMENT_NAME = "HIGH RESOLUTION STEREO CAMERA"
MISSION_NAME = "MARS EXPRESS"
MISSION_PHASE_NAME = ME_Phase_35
PROCESSING_LEVEL_ID = 3
PRODUCT_CREATION_TIME = 2017-06-29T11:20:52.000Z
PRODUCT_ID = "HF918_0000_BL3.JP2"
RELEASE_ID = 0135
REVISION_ID = 0000
/* QUALITY DATA ELEMENTS */
DATA_QUALITY_ID = 1
DATA_QUALITY_DESC = "Data calculated based on original SPICE kernels"
/* TIME DATA ELEMENTS */
SPACECRAFT_CLOCK_START_COUNT = "1/0417434098.09034"
SPACECRAFT_CLOCK_STOP_COUNT = "1/0417434456.56304"
START_TIME = 2016-07-24T09:55:46.411Z
STOP_TIME = 2016-07-24T10:00:25.559Z
/* ORBITAL DATA ELEMENTS */
ASCENDING_NODE_LONGITUDE = 274.85
MAXIMUM_RESOLUTION = 61.6
FOOTPRINT_POINT_LATITUDE = (64.103,64.0561,64.0194,63.6683,63.3182 ,62.968,62.6179,62.0928,61.7427,61.3927 ,61.0427,60.6928,60.343,59.9933,59.6437 ,59.2942,58.9449,58.5957,58.2467, 57.8979,57.5492,57.2007,56.8524,56.5044 ,56.1566,55.809,55.4617,55.1146,54.7678 ,54.4213,54.075,53.7291,53.3835,53.0382 ,52.3486,51.6605,51.31,50.9575,50.6055, 50.254,49.9028,49.3664,49.0071,48.6484, 48.2902,47.9254,47.559,47.1933,46.8282, 46.4548,46.4696,46.4884,46.8734,47.2397 ,47.6066,47.974,48.3402,48.6995,49.0593 ,49.4196,49.9579,50.3102,50.6629, 51.0161,51.3695,51.7214,52.412,52.7578, 53.104,53.4505,53.7974,54.1446,54.4922, 54.84,55.1882,55.5367,55.8854,56.2344, 56.5837,56.9332,57.283,57.6331,57.9833, 58.3338,58.6845,59.0353,59.3864,59.7376 ,60.0891,60.4407,60.7924,61.1442, 61.4962,62.0245,62.3767,62.729,63.0815, 63.434,63.7864,64.103)
FOOTPRINT_POINT_LONGITUDE = (317.323,316.111,315.305,314.926, 315.016,315.104,315.189,315.311,315.389 ,315.464,315.537,315.608,315.677, 315.743,315.807,315.869,315.93,315.988, 316.044,316.099,316.151,316.203,316.252 ,316.3,316.346,316.391,316.435,316.477, 316.518,316.557,316.595,316.632,316.668 ,316.702,316.768,316.829,316.858, 316.887,316.915,316.942,316.968,317.005 ,317.029,317.052,317.074,317.096, 317.117,317.137,317.156,317.175,317.938 ,318.829,319.436,319.419,319.401, 319.383,319.365,319.346,319.327,319.308 ,319.278,319.258,319.237,319.216, 319.194,319.172,319.127,319.104,319.08, 319.056,319.031,319.005,318.979,318.952 ,318.924,318.896,318.866,318.837, 318.806,318.774,318.742,318.709,318.675 ,318.64,318.604,318.566,318.528,318.489 ,318.449,318.408,318.365,318.321, 318.277,318.207,318.158,318.108,318.057 ,318.004,317.949,317.323)
ORBIT_NUMBER = 15918
ORBITAL_ECCENTRICITY = 0.572
ORBITAL_INCLINATION = 86.96
ORBITAL_SEMIMAJOR_AXIS = 8778.32
PERIAPSIS_ALTITUDE = 380.91
PERIAPSIS_ARGUMENT_ANGLE = 115.6
PERIAPSIS_TIME = 2016-07-24T09:55:38.000Z
SPACECRAFT_ORIENTATION = (0.0,-1.0,0.0)
^MEX_ORIENTATION_DESC = "MEX_ORIENTATION_DESC.TXT"
SPACECRAFT_POINTING_MODE = NADIR
^MEX_POINTING_DESC = "MEX_POINTING_DESC.TXT"
RIGHT_ASCENSION = -1e+32
DECLINATION = -1e+32
OFFSET_ANGLE = -1e+32
SPACECRAFT_SOLAR_DISTANCE = 2.15811e+08
TARGET_NAME = MARS
/* CAMERA DATA ELEMENTS */
DETECTOR_TEMPERATURE = 18.5744
FOCAL_PLANE_TEMPERATURE = 9.3989
INST_CMPRS_NAME = "DISCRETE COSINE TRANSFORMATION (DCT)"
INST_CMPRS_RATIO = 5.51413
INST_CMPRS_QUALITY = 0
INST_CMPRS_QUANTZ_TBL_ID = 0
INSTRUMENT_TEMPERATURE = 12.4574
LENS_TEMPERATURE = 10.2145
MACROPIXEL_SIZE = 4
MISSING_FRAMES = 0
PIXEL_SUBSAMPLING_FLAG = N
SIGNAL_CHAIN_ID = 2
/* RADIOMETRIC DATA ELEMENTS */
BANDWIDTH = 76.0
CENTER_FILTER_WAVELENGTH = 444.0
RADIANCE_OFFSET = 0.58709
RADIANCE_SCALING_FACTOR = 0.0016923
REFLECTANCE_SCALING_FACTOR = 8.0981e-05
MEX:REFLECTANCE_OFFSET = 0.0280938
/* IMAGE OBJECT DEFINITIONS */
OBJECT = IMAGE
  INTERCHANGE_FORMAT = BINARY
  LINES = 20982
  LINE_SAMPLES = 2850
  SAMPLE_TYPE = UNSIGNED_INTEGER
  SAMPLE_BITS = 8
  BANDS = 1
  BAND_STORAGE_TYPE = BAND_SEQUENTIAL
  MAXIMUM = 254
  MEAN = 111.642
  MINIMUM = 1
  STANDARD_DEVIATION = 44.0697
END_OBJECT = IMAGE
/* MAP OBJECT DEFINITIONS */
OBJECT = IMAGE_MAP_PROJECTION
  ^DATA_SET_MAP_PROJECTION_CATALOG= "DSMAP.CAT"
  A_AXIS_RADIUS = 3396.0
  B_AXIS_RADIUS = 3396.0
  C_AXIS_RADIUS = 3396.0
  CENTER_LATITUDE = 0.0
  CENTER_LONGITUDE = 318.0
  COORDINATE_SYSTEM_NAME = PLANETOGRAPHIC
  COORDINATE_SYSTEM_TYPE = "BODY-FIXED ROTATING"
  EASTERNMOST_LONGITUDE = 319.436
  FIRST_STANDARD_PARALLEL = "N/A"
  LINE_FIRST_PIXEL = 1
  LINE_LAST_PIXEL = 20982
  LINE_PROJECTION_OFFSET = 76024.125
  MAP_PROJECTION_ROTATION = 0.0
  MAP_PROJECTION_TYPE = SINUSOIDAL
  MAP_RESOLUTION = 1185.42760773333
  MAP_SCALE = 0.05
  MAXIMUM_LATITUDE = 64.10299999999999
  MINIMUM_LATITUDE = 46.4548
  POSITIVE_LONGITUDE_DIRECTION = EAST
  REFERENCE_LATITUDE = "N/A"
  REFERENCE_LONGITUDE = "N/A"
  SAMPLE_FIRST_PIXEL = 1
  SAMPLE_LAST_PIXEL = 2850
  SAMPLE_PROJECTION_OFFSET = 1654.875
  SECOND_STANDARD_PARALLEL = "N/A"
  WESTERNMOST_LONGITUDE = 314.926
END_OBJECT = IMAGE_MAP_PROJECTION
/* The JPEG2000 image data file associated with this label. */
OBJECT = COMPRESSED_FILE
  FILE_NAME = "HF918_0000_BL3.JP2"
  RECORD_TYPE = UNDEFINED
  FILE_RECORDS = UNK
  ENCODING_TYPE = "JP2"
  INTERCHANGE_FORMAT = BINARY
  UNCOMPRESSED_FILE_NAME = "HF918_0000_BL3.IMG"
  REQUIRED_STORAGE_BYTES = "59821500"
  ^DESCRIPTION = "JP2INFO.TXT"
END_OBJECT = COMPRESSED_FILE
END
