PDS_VERSION_ID = PDS3
/* FILE DATA ELEMENTS */
RECORD_TYPE = STREAM
/* POINTERS TO DATA OBJECTS */
^COMPRESSED_FILE = "HF920_0009_GR3.JP2"
/* IDENTIFICATION DATA ELEMENTS */
DATA_SET_ID = "MEX-M-HRSC-5-REFDR-MAPPROJECTED-V3.0"
DATA_SET_NAME = "MARS EXPRESS HRSC MAP PROJECTED REFDR V3.0"
DETECTOR_ID = MEX_HRSC_GREEN
EVENT_TYPE = "MARS-REGIONAL-MAPPING-Im-Pf"
INSTRUMENT_HOST_ID = MEX
INSTRUMENT_HOST_NAME = "MARS EXPRESS"
INSTRUMENT_ID = HRSC
INSTRUMENT_NAME = "HIGH RESOLUTION STEREO CAMERA"
MISSION_NAME = "MARS EXPRESS"
MISSION_PHASE_NAME = ME_Phase_35
PROCESSING_LEVEL_ID = 3
PRODUCT_CREATION_TIME = 2017-06-29T11:20:52.000Z
PRODUCT_ID = "HF920_0009_GR3.JP2"
RELEASE_ID = 0135
REVISION_ID = 0000
/* QUALITY DATA ELEMENTS */
DATA_QUALITY_ID = 1
DATA_QUALITY_DESC = "Data calculated based on original SPICE kernels"
/* TIME DATA ELEMENTS */
SPACECRAFT_CLOCK_START_COUNT = "1/0417484524.08266"
SPACECRAFT_CLOCK_STOP_COUNT = "1/0417484710.41862"
START_TIME = 2016-07-24T23:56:00.585Z
STOP_TIME = 2016-07-24T23:57:51.333Z
/* ORBITAL DATA ELEMENTS */
ASCENDING_NODE_LONGITUDE = 274.82
MAXIMUM_RESOLUTION = 61.7
FOOTPRINT_POINT_LATITUDE = (60.5478,60.5392,60.5294,60.5186, 60.5067,60.4936,60.4622,60.3207,60.1791 ,59.9668,59.7545,59.5422,59.3299, 59.1884,59.0469,58.9054,58.6932,58.5516 ,58.4103,58.2688,58.1273,57.9859, 57.8444,57.703,57.5617,57.3496,57.1376, 56.9962,56.8549,56.643,56.5018,56.2899, 56.1487,56.0074,55.8663,55.6546,55.5135 ,55.3725,55.2314,55.0199,54.8789,54.738 ,54.5267,54.3154,54.1745,53.893,53.6116 ,53.4006,53.3961,53.4091,53.4164, 53.4266,53.4322,53.4361,53.5772,53.7183 ,53.9301,54.0713,54.2125,54.3538, 54.4951,54.6365,54.7779,54.9193,55.1315 ,55.273,55.4145,55.5561,55.6976,55.8392 ,55.9809,56.1226,56.3351,56.4769, 56.6186,56.7604,56.9731,57.1149,57.2568 ,57.3988,57.6117,57.7536,57.8955, 58.0375,58.2505,58.3925,58.5346,58.6766 ,58.8187,58.9608,59.1739,59.316,59.5292 ,59.7425,59.8846,60.0979,60.2402, 60.3823,60.5246,60.5478)
FOOTPRINT_POINT_LONGITUDE = (114.441,114.047,113.654,113.265, 112.878,112.493,112.142,112.165,112.187 ,112.22,112.252,112.283,112.314,112.334 ,112.354,112.374,112.403,112.422, 112.441,112.459,112.477,112.495,112.513 ,112.53,112.548,112.573,112.598,112.614 ,112.63,112.654,112.67,112.693,112.708, 112.722,112.737,112.758,112.772,112.786 ,112.8,112.82,112.833,112.846,112.866, 112.884,112.897,112.921,112.944,112.961 ,113.289,113.797,114.13,114.689,115.095 ,115.353,115.346,115.339,115.328, 115.321,115.314,115.306,115.299,115.292 ,115.284,115.276,115.264,115.257, 115.249,115.241,115.233,115.224,115.216 ,115.208,115.195,115.186,115.178, 115.169,115.156,115.147,115.137,115.127 ,115.113,115.104,115.094,115.084, 115.069,115.06,115.049,115.039,115.029, 115.018,115.002,114.992,114.975,114.958 ,114.947,114.929,114.917,114.906, 114.893,114.441)
ORBIT_NUMBER = 15920
ORBITAL_ECCENTRICITY = 0.572
ORBITAL_INCLINATION = 86.94
ORBITAL_SEMIMAJOR_AXIS = 8782.63
PERIAPSIS_ALTITUDE = 380.56
PERIAPSIS_ARGUMENT_ANGLE = 115.23
PERIAPSIS_TIME = 2016-07-24T23:55:02.000Z
SPACECRAFT_ORIENTATION = (0.0,-1.0,0.0)
^MEX_ORIENTATION_DESC = "MEX_ORIENTATION_DESC.TXT"
SPACECRAFT_POINTING_MODE = ACROSSTRACK
^MEX_POINTING_DESC = "MEX_POINTING_DESC.TXT"
RIGHT_ASCENSION = -1e+32
DECLINATION = -1e+32
OFFSET_ANGLE = 0.51
SPACECRAFT_SOLAR_DISTANCE = 2.15713e+08
TARGET_NAME = MARS
/* CAMERA DATA ELEMENTS */
DETECTOR_TEMPERATURE = 18.5744
FOCAL_PLANE_TEMPERATURE = 9.3989
INST_CMPRS_NAME = "DISCRETE COSINE TRANSFORMATION (DCT)"
INST_CMPRS_RATIO = 9.76249
INST_CMPRS_QUALITY = 0
INST_CMPRS_QUANTZ_TBL_ID = 0
INSTRUMENT_TEMPERATURE = 11.8457
LENS_TEMPERATURE = 9.3989
MACROPIXEL_SIZE = 4
MISSING_FRAMES = 0
PIXEL_SUBSAMPLING_FLAG = N
SIGNAL_CHAIN_ID = 2
/* RADIOMETRIC DATA ELEMENTS */
BANDWIDTH = 88.0
CENTER_FILTER_WAVELENGTH = 538.0
RADIANCE_OFFSET = 1.35689
RADIANCE_SCALING_FACTOR = 0.00326678
REFLECTANCE_SCALING_FACTOR = 0.000130876
MEX:REFLECTANCE_OFFSET = 0.0543608
/* IMAGE OBJECT DEFINITIONS */
OBJECT = IMAGE
  INTERCHANGE_FORMAT = BINARY
  LINES = 8476
  LINE_SAMPLES = 2065
  SAMPLE_TYPE = UNSIGNED_INTEGER
  SAMPLE_BITS = 8
  BANDS = 1
  BAND_STORAGE_TYPE = BAND_SEQUENTIAL
  MAXIMUM = 255
  MEAN = 131.806
  MINIMUM = 1
  STANDARD_DEVIATION = 53.2159
END_OBJECT = IMAGE
/* MAP OBJECT DEFINITIONS */
OBJECT = IMAGE_MAP_PROJECTION
  ^DATA_SET_MAP_PROJECTION_CATALOG= "DSMAP.CAT"
  A_AXIS_RADIUS = 3396.0
  B_AXIS_RADIUS = 3396.0
  C_AXIS_RADIUS = 3396.0
  CENTER_LATITUDE = 0.0
  CENTER_LONGITUDE = 114.0
  COORDINATE_SYSTEM_NAME = PLANETOGRAPHIC
  COORDINATE_SYSTEM_TYPE = "BODY-FIXED ROTATING"
  EASTERNMOST_LONGITUDE = 115.353
  FIRST_STANDARD_PARALLEL = "N/A"
  LINE_FIRST_PIXEL = 1
  LINE_LAST_PIXEL = 8476
  LINE_PROJECTION_OFFSET = 71762.375
  MAP_PROJECTION_ROTATION = 0.0
  MAP_PROJECTION_TYPE = SINUSOIDAL
  MAP_RESOLUTION = 1185.42760773333
  MAP_SCALE = 0.05
  MAXIMUM_LATITUDE = 60.5478
  MINIMUM_LATITUDE = 53.3961
  POSITIVE_LONGITUDE_DIRECTION = EAST
  REFERENCE_LATITUDE = "N/A"
  REFERENCE_LONGITUDE = "N/A"
  SAMPLE_FIRST_PIXEL = 1
  SAMPLE_LAST_PIXEL = 2065
  SAMPLE_PROJECTION_OFFSET = 1086.875
  SECOND_STANDARD_PARALLEL = "N/A"
  WESTERNMOST_LONGITUDE = 112.142
END_OBJECT = IMAGE_MAP_PROJECTION
/* The JPEG2000 image data file associated with this label. */
OBJECT = COMPRESSED_FILE
  FILE_NAME = "HF920_0009_GR3.JP2"
  RECORD_TYPE = UNDEFINED
  FILE_RECORDS = UNK
  ENCODING_TYPE = "JP2"
  INTERCHANGE_FORMAT = BINARY
  UNCOMPRESSED_FILE_NAME = "HF920_0009_GR3.IMG"
  REQUIRED_STORAGE_BYTES = "17523590"
  ^DESCRIPTION = "JP2INFO.TXT"
END_OBJECT = COMPRESSED_FILE
END
