PDS_VERSION_ID = PDS3
/* FILE DATA ELEMENTS */
RECORD_TYPE = STREAM
/* POINTERS TO DATA OBJECTS */
^COMPRESSED_FILE = "HF920_0009_ND3.JP2"
/* IDENTIFICATION DATA ELEMENTS */
DATA_SET_ID = "MEX-M-HRSC-5-REFDR-MAPPROJECTED-V3.0"
DATA_SET_NAME = "MARS EXPRESS HRSC MAP PROJECTED REFDR V3.0"
DETECTOR_ID = MEX_HRSC_NADIR
EVENT_TYPE = "MARS-REGIONAL-MAPPING-Im-Pf"
INSTRUMENT_HOST_ID = MEX
INSTRUMENT_HOST_NAME = "MARS EXPRESS"
INSTRUMENT_ID = HRSC
INSTRUMENT_NAME = "HIGH RESOLUTION STEREO CAMERA"
MISSION_NAME = "MARS EXPRESS"
MISSION_PHASE_NAME = ME_Phase_35
PROCESSING_LEVEL_ID = 3
PRODUCT_CREATION_TIME = 2017-06-29T11:20:52.000Z
PRODUCT_ID = "HF920_0009_ND3.JP2"
RELEASE_ID = 0135
REVISION_ID = 0000
/* QUALITY DATA ELEMENTS */
DATA_QUALITY_ID = 1
DATA_QUALITY_DESC = "Data calculated based on original SPICE kernels"
/* TIME DATA ELEMENTS */
SPACECRAFT_CLOCK_START_COUNT = "1/0417484524.08266"
SPACECRAFT_CLOCK_STOP_COUNT = "1/0417484710.41862"
START_TIME = 2016-07-24T23:56:06.590Z
STOP_TIME = 2016-07-24T23:57:57.571Z
/* ORBITAL DATA ELEMENTS */
ASCENDING_NODE_LONGITUDE = 274.82
MAXIMUM_RESOLUTION = 15.4
FOOTPRINT_POINT_LATITUDE = (60.5358,60.5263,60.5156,60.5036, 60.4904,60.4761,60.4616,60.2432,60.1014 ,59.9596,59.8179,59.6761,59.5344, 59.3927,59.2509,59.1092,58.9676,58.8259 ,58.6843,58.5427,58.3303,58.1887, 58.0472,57.9056,57.7641,57.6227,57.4812 ,57.3398,57.1984,57.0571,56.9157, 56.7744,56.6331,56.4919,56.3507,56.2095 ,56.0683,55.9272,55.7861,55.5041, 55.2221,54.9404,54.6588,54.3773,54.096, 53.8149,53.534,53.3944,53.4039,53.4145, 53.4278,53.4356,53.4423,53.4463,53.728, 54.0099,54.2921,54.5744,54.7156,54.8568 ,54.9982,55.1395,55.2809,55.4223, 55.5638,55.7053,55.8468,55.9884,56.13, 56.2717,56.4134,56.5551,56.6969,56.8387 ,56.9806,57.1224,57.2643,57.4062, 57.5482,57.6902,57.8322,57.9743,58.1164 ,58.2585,58.4006,58.5428,58.685,58.8272 ,58.9694,59.1117,59.254,59.3963,59.5386 ,59.681,59.8234,59.9658,60.1082,60.2506 ,60.3931,60.5358)
FOOTPRINT_POINT_LONGITUDE = (114.768,114.345,113.926,113.51,113.097 ,112.687,112.304,112.16,112.182,112.203 ,112.225,112.246,112.267,112.288, 112.308,112.328,112.348,112.367,112.387 ,112.405,112.434,112.452,112.47,112.488 ,112.505,112.523,112.54,112.557,112.573 ,112.59,112.606,112.622,112.637,112.653 ,112.668,112.683,112.698,112.713, 112.727,112.755,112.783,112.809,112.835 ,112.861,112.885,112.909,112.932, 113.106,113.411,113.788,114.334,114.717 ,115.103,115.357,115.343,115.329, 115.314,115.299,115.292,115.284,115.276 ,115.268,115.26,115.252,115.244,115.236 ,115.228,115.22,115.211,115.203,115.194 ,115.185,115.176,115.167,115.159,115.15 ,115.14,115.13,115.121,115.111,115.101, 115.092,115.082,115.072,115.062,115.052 ,115.041,115.031,115.02,115.009,114.999 ,114.988,114.976,114.965,114.954, 114.942,114.93,114.918,114.907,114.768)
ORBIT_NUMBER = 15920
ORBITAL_ECCENTRICITY = 0.572
ORBITAL_INCLINATION = 86.94
ORBITAL_SEMIMAJOR_AXIS = 8782.63
PERIAPSIS_ALTITUDE = 380.56
PERIAPSIS_ARGUMENT_ANGLE = 115.23
PERIAPSIS_TIME = 2016-07-24T23:55:02.000Z
SPACECRAFT_ORIENTATION = (0.0,-1.0,0.0)
^MEX_ORIENTATION_DESC = "MEX_ORIENTATION_DESC.TXT"
SPACECRAFT_POINTING_MODE = ACROSSTRACK
^MEX_POINTING_DESC = "MEX_POINTING_DESC.TXT"
RIGHT_ASCENSION = -1e+32
DECLINATION = -1e+32
OFFSET_ANGLE = 0.51
SPACECRAFT_SOLAR_DISTANCE = 2.15713e+08
TARGET_NAME = MARS
/* CAMERA DATA ELEMENTS */
DETECTOR_TEMPERATURE = 18.5744
FOCAL_PLANE_TEMPERATURE = 9.3989
INST_CMPRS_NAME = "DISCRETE COSINE TRANSFORMATION (DCT)"
INST_CMPRS_RATIO = 6.90942
INST_CMPRS_QUALITY = 0
INST_CMPRS_QUANTZ_TBL_ID = 0
INSTRUMENT_TEMPERATURE = 11.8457
LENS_TEMPERATURE = 9.3989
MACROPIXEL_SIZE = 1
MISSING_FRAMES = 0
PIXEL_SUBSAMPLING_FLAG = N
SIGNAL_CHAIN_ID = 0
/* RADIOMETRIC DATA ELEMENTS */
BANDWIDTH = 177.0
CENTER_FILTER_WAVELENGTH = 677.5
RADIANCE_OFFSET = 3.25417
RADIANCE_SCALING_FACTOR = 0.00927113
REFLECTANCE_SCALING_FACTOR = 0.000229176
MEX:REFLECTANCE_OFFSET = 0.0804408
/* IMAGE OBJECT DEFINITIONS */
OBJECT = IMAGE
  INTERCHANGE_FORMAT = BINARY
  LINES = 33901
  LINE_SAMPLES = 8260
  SAMPLE_TYPE = UNSIGNED_INTEGER
  SAMPLE_BITS = 8
  BANDS = 1
  BAND_STORAGE_TYPE = BAND_SEQUENTIAL
  MAXIMUM = 254
  MEAN = 112.278
  MINIMUM = 1
  STANDARD_DEVIATION = 41.0351
END_OBJECT = IMAGE
/* MAP OBJECT DEFINITIONS */
OBJECT = IMAGE_MAP_PROJECTION
  ^DATA_SET_MAP_PROJECTION_CATALOG= "DSMAP.CAT"
  A_AXIS_RADIUS = 3396.0
  B_AXIS_RADIUS = 3396.0
  C_AXIS_RADIUS = 3396.0
  CENTER_LATITUDE = 0.0
  CENTER_LONGITUDE = 114.0
  COORDINATE_SYSTEM_NAME = PLANETOGRAPHIC
  COORDINATE_SYSTEM_TYPE = "BODY-FIXED ROTATING"
  EASTERNMOST_LONGITUDE = 115.357
  FIRST_STANDARD_PARALLEL = "N/A"
  LINE_FIRST_PIXEL = 1
  LINE_LAST_PIXEL = 33901
  LINE_PROJECTION_OFFSET = 287051.0
  MAP_PROJECTION_ROTATION = 0.0
  MAP_PROJECTION_TYPE = SINUSOIDAL
  MAP_RESOLUTION = 4741.71043093333
  MAP_SCALE = 0.0125
  MAXIMUM_LATITUDE = 60.5358
  MINIMUM_LATITUDE = 53.3944
  POSITIVE_LONGITUDE_DIRECTION = EAST
  REFERENCE_LATITUDE = "N/A"
  REFERENCE_LONGITUDE = "N/A"
  SAMPLE_FIRST_PIXEL = 1
  SAMPLE_LAST_PIXEL = 8260
  SAMPLE_PROJECTION_OFFSET = 4349.0
  SECOND_STANDARD_PARALLEL = "N/A"
  WESTERNMOST_LONGITUDE = 112.16
END_OBJECT = IMAGE_MAP_PROJECTION
/* The JPEG2000 image data file associated with this label. */
OBJECT = COMPRESSED_FILE
  FILE_NAME = "HF920_0009_ND3.JP2"
  RECORD_TYPE = UNDEFINED
  FILE_RECORDS = UNK
  ENCODING_TYPE = "JP2"
  INTERCHANGE_FORMAT = BINARY
  UNCOMPRESSED_FILE_NAME = "HF920_0009_ND3.IMG"
  REQUIRED_STORAGE_BYTES = "280055300"
  ^DESCRIPTION = "JP2INFO.TXT"
END_OBJECT = COMPRESSED_FILE
END
