PDS_VERSION_ID = PDS3
/* FILE DATA ELEMENTS */
RECORD_TYPE = STREAM
/* POINTERS TO DATA OBJECTS */
^COMPRESSED_FILE = "HF921_0000_S13.JP2"
/* IDENTIFICATION DATA ELEMENTS */
DATA_SET_ID = "MEX-M-HRSC-5-REFDR-MAPPROJECTED-V3.0"
DATA_SET_NAME = "MARS EXPRESS HRSC MAP PROJECTED REFDR V3.0"
DETECTOR_ID = MEX_HRSC_S1
EVENT_TYPE = "MARS-REGIONAL-MAPPING-Vo-Gl-Pf"
INSTRUMENT_HOST_ID = MEX
INSTRUMENT_HOST_NAME = "MARS EXPRESS"
INSTRUMENT_ID = HRSC
INSTRUMENT_NAME = "HIGH RESOLUTION STEREO CAMERA"
MISSION_NAME = "MARS EXPRESS"
MISSION_PHASE_NAME = ME_Phase_35
PROCESSING_LEVEL_ID = 3
PRODUCT_CREATION_TIME = 2017-06-29T11:20:52.000Z
PRODUCT_ID = "HF921_0000_S13.JP2"
RELEASE_ID = 0135
REVISION_ID = 0000
/* QUALITY DATA ELEMENTS */
DATA_QUALITY_ID = 1
DATA_QUALITY_DESC = "Data calculated based on original SPICE kernels"
/* TIME DATA ELEMENTS */
SPACECRAFT_CLOCK_START_COUNT = "1/0417509581.07289"
SPACECRAFT_CLOCK_STOP_COUNT = "1/0417509838.38031"
START_TIME = 2016-07-25T06:53:08.830Z
STOP_TIME = 2016-07-25T06:56:12.081Z
/* ORBITAL DATA ELEMENTS */
ASCENDING_NODE_LONGITUDE = 274.8
MAXIMUM_RESOLUTION = 32.7
FOOTPRINT_POINT_LATITUDE = (68.653,68.6261,68.5969,68.5658,68.5324 ,68.4808,68.2278,68.001,67.7736,67.4321 ,67.2042,66.9758,66.633,66.4039,66.1746 ,65.9451,65.6006,65.2554,64.9097, 64.6793,64.4484,64.2169,63.8702,63.6378 ,63.4061,63.1739,62.9415,62.7089, 62.4764,62.2438,62.011,61.7774,61.5439, 61.3106,61.0768,60.8423,60.6084,60.3738 ,60.1399,59.7883,59.5537,59.319,59.0841 ,58.7317,58.4962,58.1431,57.9076, 57.6716,57.4358,57.0824,56.8465,56.7412 ,56.7651,56.7859,56.8158,56.8303, 56.9602,57.3157,57.5527,57.9081,58.1453 ,58.3826,58.7367,58.9727,59.3271, 59.5634,59.7995,60.153,60.3892,60.6252, 60.8599,61.0956,61.3307,61.5666,61.9192 ,62.1539,62.5057,62.7406,63.0926, 63.3273,63.5522,63.7904,64.1448,64.3778 ,64.6109,64.9603,65.1933,65.4256,65.774 ,66.1221,66.3538,66.5853,66.9322, 67.2787,67.5095,67.7401,67.9704,68.3155 ,68.5453,68.653)
FOOTPRINT_POINT_LONGITUDE = (8.81129,8.26189,7.71226,7.1633,6.61438 ,5.82482,5.78186,5.88442,5.98447, 6.13041,6.22502,6.31741,6.45238,6.53974 ,6.62515,6.70881,6.83097,6.9491,7.06351 ,7.13793,7.21063,7.28151,7.38564, 7.45269,7.51882,7.58342,7.64664,7.70856 ,7.76933,7.82897,7.88728,7.94409, 7.99987,8.05473,8.10826,8.1604,8.21191, 8.26205,8.31166,8.38391,8.43087,8.47687 ,8.52194,8.58792,8.63056,8.69308, 8.73376,8.7734,8.81241,8.86971,8.90685, 9.26593,9.70297,10.1145,10.7672,11.129, 11.4148,11.3782,11.3532,11.315,11.2887, 11.2619,11.2217,11.1943,11.1519,11.123, 11.0935,11.0486,11.0177,10.9862,10.9548 ,10.9222,10.8893,10.8552,10.8035, 10.7684,10.7144,10.6772,10.6202,10.581, 10.5474,10.5044,10.44,10.398,10.3551, 10.289,10.2436,10.1977,10.1268,10.0536, 10.0037,9.95275,9.87422,9.79316,9.73768 ,9.68093,9.62299,9.53365,9.47246, 8.81129)
ORBIT_NUMBER = 15921
ORBITAL_ECCENTRICITY = 0.572
ORBITAL_INCLINATION = 86.94
ORBITAL_SEMIMAJOR_AXIS = 8780.19
PERIAPSIS_ALTITUDE = 381.43
PERIAPSIS_ARGUMENT_ANGLE = 115.06
PERIAPSIS_TIME = 2016-07-25T06:54:43.000Z
SPACECRAFT_ORIENTATION = (0.0,-1.0,0.0)
^MEX_ORIENTATION_DESC = "MEX_ORIENTATION_DESC.TXT"
SPACECRAFT_POINTING_MODE = ACROSSTRACK
^MEX_POINTING_DESC = "MEX_POINTING_DESC.TXT"
RIGHT_ASCENSION = -1e+32
DECLINATION = -1e+32
OFFSET_ANGLE = -0.22
SPACECRAFT_SOLAR_DISTANCE = 2.15664e+08
TARGET_NAME = MARS
/* CAMERA DATA ELEMENTS */
DETECTOR_TEMPERATURE = 17.7588
FOCAL_PLANE_TEMPERATURE = 9.195
INST_CMPRS_NAME = "DISCRETE COSINE TRANSFORMATION (DCT)"
INST_CMPRS_RATIO = 10.912
INST_CMPRS_QUALITY = 0
INST_CMPRS_QUANTZ_TBL_ID = 0
INSTRUMENT_TEMPERATURE = 11.8457
LENS_TEMPERATURE = 9.3989
MACROPIXEL_SIZE = 2
MISSING_FRAMES = 0
PIXEL_SUBSAMPLING_FLAG = N
SIGNAL_CHAIN_ID = 1
/* RADIOMETRIC DATA ELEMENTS */
BANDWIDTH = 180.0
CENTER_FILTER_WAVELENGTH = 677.0
RADIANCE_OFFSET = 3.41651
RADIANCE_SCALING_FACTOR = 0.0116552
REFLECTANCE_SCALING_FACTOR = 0.000282826
MEX:REFLECTANCE_OFFSET = 0.0829049
/* IMAGE OBJECT DEFINITIONS */
OBJECT = IMAGE
  INTERCHANGE_FORMAT = BINARY
  LINES = 27980
  LINE_SAMPLES = 5888
  SAMPLE_TYPE = UNSIGNED_INTEGER
  SAMPLE_BITS = 8
  BANDS = 1
  BAND_STORAGE_TYPE = BAND_SEQUENTIAL
  MAXIMUM = 255
  MEAN = 137.787
  MINIMUM = 1
  STANDARD_DEVIATION = 40.4136
END_OBJECT = IMAGE
/* MAP OBJECT DEFINITIONS */
OBJECT = IMAGE_MAP_PROJECTION
  ^DATA_SET_MAP_PROJECTION_CATALOG= "DSMAP.CAT"
  A_AXIS_RADIUS = 3396.0
  B_AXIS_RADIUS = 3396.0
  C_AXIS_RADIUS = 3396.0
  CENTER_LATITUDE = 0.0
  CENTER_LONGITUDE = 9.0
  COORDINATE_SYSTEM_NAME = PLANETOGRAPHIC
  COORDINATE_SYSTEM_TYPE = "BODY-FIXED ROTATING"
  EASTERNMOST_LONGITUDE = 11.4148
  FIRST_STANDARD_PARALLEL = "N/A"
  LINE_FIRST_PIXEL = 1
  LINE_LAST_PIXEL = 27980
  LINE_PROJECTION_OFFSET = 162556.75
  MAP_PROJECTION_ROTATION = 0.0
  MAP_PROJECTION_TYPE = SINUSOIDAL
  MAP_RESOLUTION = 2370.85521546667
  MAP_SCALE = 0.025
  MAXIMUM_LATITUDE = 68.65300000000001
  MINIMUM_LATITUDE = 56.7412
  POSITIVE_LONGITUDE_DIRECTION = EAST
  REFERENCE_LATITUDE = "N/A"
  REFERENCE_LONGITUDE = "N/A"
  SAMPLE_FIRST_PIXEL = 1
  SAMPLE_LAST_PIXEL = 5888
  SAMPLE_PROJECTION_OFFSET = 2752.25
  SECOND_STANDARD_PARALLEL = "N/A"
  WESTERNMOST_LONGITUDE = 5.78186
END_OBJECT = IMAGE_MAP_PROJECTION
/* The JPEG2000 image data file associated with this label. */
OBJECT = COMPRESSED_FILE
  FILE_NAME = "HF921_0000_S13.JP2"
  RECORD_TYPE = UNDEFINED
  FILE_RECORDS = UNK
  ENCODING_TYPE = "JP2"
  INTERCHANGE_FORMAT = BINARY
  UNCOMPRESSED_FILE_NAME = "HF921_0000_S13.IMG"
  REQUIRED_STORAGE_BYTES = "164775680"
  ^DESCRIPTION = "JP2INFO.TXT"
END_OBJECT = COMPRESSED_FILE
END
