PDS_VERSION_ID = PDS3
/* FILE DATA ELEMENTS */
RECORD_TYPE = STREAM
/* POINTERS TO DATA OBJECTS */
^COMPRESSED_FILE = "HF924_0000_P13.JP2"
/* IDENTIFICATION DATA ELEMENTS */
DATA_SET_ID = "MEX-M-HRSC-5-REFDR-MAPPROJECTED-V3.0"
DATA_SET_NAME = "MARS EXPRESS HRSC MAP PROJECTED REFDR V3.0"
DETECTOR_ID = MEX_HRSC_P1
EVENT_TYPE = "MARS-REGIONAL-MAPPING-Te-Gl-Mw"
INSTRUMENT_HOST_ID = MEX
INSTRUMENT_HOST_NAME = "MARS EXPRESS"
INSTRUMENT_ID = HRSC
INSTRUMENT_NAME = "HIGH RESOLUTION STEREO CAMERA"
MISSION_NAME = "MARS EXPRESS"
MISSION_PHASE_NAME = ME_Phase_35
PROCESSING_LEVEL_ID = 3
PRODUCT_CREATION_TIME = 2017-06-29T11:20:52.000Z
PRODUCT_ID = "HF924_0000_P13.JP2"
RELEASE_ID = 0135
REVISION_ID = 0000
/* QUALITY DATA ELEMENTS */
DATA_QUALITY_ID = 1
DATA_QUALITY_DESC = "Data calculated based on original SPICE kernels"
/* TIME DATA ELEMENTS */
SPACECRAFT_CLOCK_START_COUNT = "1/0417585497.07349"
SPACECRAFT_CLOCK_STOP_COUNT = "1/0417585845.20832"
START_TIME = 2016-07-26T03:58:38.458Z
STOP_TIME = 2016-07-26T04:02:19.999Z
/* ORBITAL DATA ELEMENTS */
ASCENDING_NODE_LONGITUDE = 274.74
MAXIMUM_RESOLUTION = 36.7
FOOTPRINT_POINT_LATITUDE = (45.606,45.5955,45.5721,45.5539,45.2498 ,45.0041,44.7587,44.5135,44.2628, 44.0123,43.7612,43.5107,43.2607,43.005, 42.7495,42.3653,42.1047,41.8429,41.5871 ,41.3277,41.0667,40.8023,40.5357, 40.2694,40.0038,39.5983,39.3273,39.0568 ,38.7827,38.5066,38.2318,37.9556, 37.6757,37.2558,36.973,36.6876,36.4013, 36.1102,35.6765,35.2388,34.9422,34.6492 ,34.3493,33.9008,33.5963,33.2954, 32.8331,32.5268,32.2168,31.9007,31.738, 31.7486,31.7529,31.7578,31.7603,32.0724 ,32.3894,32.6993,33.008,33.4676,33.7705 ,34.0734,34.5231,34.9663,35.2623, 35.7053,36.2862,36.5742,36.8601,37.1463 ,37.4273,37.709,37.9908,38.2696,38.545, 38.8215,39.0971,39.5054,39.7787,40.0473 ,40.3125,40.5787,40.8466,41.1121, 41.5046,41.7663,42.1587,42.4142,42.6706 ,42.9273,43.1842,43.5644,43.9416, 44.3189,44.5704,44.8161,45.0625,45.3085 ,45.5548,45.606)
FOOTPRINT_POINT_LONGITUDE = (64.6546,64.298,63.6251,63.181,63.018, 63.0302,63.0422,63.0539,63.0655,63.0771 ,63.0877,63.0983,63.1088,63.119,63.1292 ,63.1428,63.1478,63.1557,63.1681, 63.1774,63.1848,63.1925,63.1994,63.206, 63.2127,63.2222,63.2281,63.2338,63.2394 ,63.2444,63.2498,63.2546,63.2596, 63.2659,63.2693,63.2727,63.2749,63.2748 ,63.2795,63.282,63.2824,63.2847,63.2846 ,63.2858,63.2846,63.2867,63.2835, 63.2842,63.2825,63.2792,63.7008,64.2612 ,64.7268,65.0291,65.4696,65.6817,65.674 ,65.6676,65.6616,65.6513,65.6455, 65.6381,65.6282,65.6182,65.6109,65.5983 ,65.5836,65.5751,65.5674,65.5596, 65.5516,65.5433,65.535,65.5261,65.5181, 65.5095,65.5006,65.4869,65.4772,65.4691 ,65.4605,65.4513,65.4413,65.4317,65.417 ,65.4071,65.392,65.3822,65.3719,65.3614 ,65.3507,65.3343,65.3179,65.3011, 65.2898,65.2786,65.2669,65.2553,65.2434 ,64.6546)
ORBIT_NUMBER = 15924
ORBITAL_ECCENTRICITY = 0.572
ORBITAL_INCLINATION = 86.95
ORBITAL_SEMIMAJOR_AXIS = 8781.51
PERIAPSIS_ALTITUDE = 380.77
PERIAPSIS_ARGUMENT_ANGLE = 114.55
PERIAPSIS_TIME = 2016-07-26T03:53:54.000Z
SPACECRAFT_ORIENTATION = (0.0,-1.0,0.0)
^MEX_ORIENTATION_DESC = "MEX_ORIENTATION_DESC.TXT"
SPACECRAFT_POINTING_MODE = ACROSSTRACK
^MEX_POINTING_DESC = "MEX_POINTING_DESC.TXT"
RIGHT_ASCENSION = -1e+32
DECLINATION = -1e+32
OFFSET_ANGLE = -0.269
SPACECRAFT_SOLAR_DISTANCE = 2.15517e+08
TARGET_NAME = MARS
/* CAMERA DATA ELEMENTS */
DETECTOR_TEMPERATURE = 17.9627
FOCAL_PLANE_TEMPERATURE = 9.3989
INST_CMPRS_NAME = "DISCRETE COSINE TRANSFORMATION (DCT)"
INST_CMPRS_RATIO = 7.23582
INST_CMPRS_QUALITY = 0
INST_CMPRS_QUANTZ_TBL_ID = 0
INSTRUMENT_TEMPERATURE = 12.0496
LENS_TEMPERATURE = 9.8067
MACROPIXEL_SIZE = 2
MISSING_FRAMES = 0
PIXEL_SUBSAMPLING_FLAG = N
SIGNAL_CHAIN_ID = 3
/* RADIOMETRIC DATA ELEMENTS */
BANDWIDTH = 174.0
CENTER_FILTER_WAVELENGTH = 675.0
RADIANCE_OFFSET = 3.17792
RADIANCE_SCALING_FACTOR = 0.0262444
REFLECTANCE_SCALING_FACTOR = 0.000655667
MEX:REFLECTANCE_OFFSET = 0.0793943
/* IMAGE OBJECT DEFINITIONS */
OBJECT = IMAGE
  INTERCHANGE_FORMAT = BINARY
  LINES = 32774
  LINE_SAMPLES = 5321
  SAMPLE_TYPE = UNSIGNED_INTEGER
  SAMPLE_BITS = 8
  BANDS = 1
  BAND_STORAGE_TYPE = BAND_SEQUENTIAL
  MAXIMUM = 255
  MEAN = 118.87
  MINIMUM = 1
  STANDARD_DEVIATION = 51.3135
END_OBJECT = IMAGE
/* MAP OBJECT DEFINITIONS */
OBJECT = IMAGE_MAP_PROJECTION
  ^DATA_SET_MAP_PROJECTION_CATALOG= "DSMAP.CAT"
  A_AXIS_RADIUS = 3396.0
  B_AXIS_RADIUS = 3396.0
  C_AXIS_RADIUS = 3396.0
  CENTER_LATITUDE = 0.0
  CENTER_LONGITUDE = 64.0
  COORDINATE_SYSTEM_NAME = PLANETOGRAPHIC
  COORDINATE_SYSTEM_TYPE = "BODY-FIXED ROTATING"
  EASTERNMOST_LONGITUDE = 65.68170000000001
  FIRST_STANDARD_PARALLEL = "N/A"
  LINE_FIRST_PIXEL = 1
  LINE_LAST_PIXEL = 32774
  LINE_PROJECTION_OFFSET = 108017.75
  MAP_PROJECTION_ROTATION = 0.0
  MAP_PROJECTION_TYPE = SINUSOIDAL
  MAP_RESOLUTION = 2370.85521546667
  MAP_SCALE = 0.025
  MAXIMUM_LATITUDE = 45.606
  MINIMUM_LATITUDE = 31.738
  POSITIVE_LONGITUDE_DIRECTION = EAST
  REFERENCE_LATITUDE = "N/A"
  REFERENCE_LONGITUDE = "N/A"
  SAMPLE_FIRST_PIXEL = 1
  SAMPLE_LAST_PIXEL = 5321
  SAMPLE_PROJECTION_OFFSET = 1766.25
  SECOND_STANDARD_PARALLEL = "N/A"
  WESTERNMOST_LONGITUDE = 63.018
END_OBJECT = IMAGE_MAP_PROJECTION
/* The JPEG2000 image data file associated with this label. */
OBJECT = COMPRESSED_FILE
  FILE_NAME = "HF924_0000_P13.JP2"
  RECORD_TYPE = UNDEFINED
  FILE_RECORDS = UNK
  ENCODING_TYPE = "JP2"
  INTERCHANGE_FORMAT = BINARY
  UNCOMPRESSED_FILE_NAME = "HF924_0000_P13.IMG"
  REQUIRED_STORAGE_BYTES = "174417059"
  ^DESCRIPTION = "JP2INFO.TXT"
END_OBJECT = COMPRESSED_FILE
END
