PDS_VERSION_ID = PDS3
/* FILE DATA ELEMENTS */
RECORD_TYPE = STREAM
/* POINTERS TO DATA OBJECTS */
^COMPRESSED_FILE = "HF924_0000_S23.JP2"
/* IDENTIFICATION DATA ELEMENTS */
DATA_SET_ID = "MEX-M-HRSC-5-REFDR-MAPPROJECTED-V3.0"
DATA_SET_NAME = "MARS EXPRESS HRSC MAP PROJECTED REFDR V3.0"
DETECTOR_ID = MEX_HRSC_S2
EVENT_TYPE = "MARS-REGIONAL-MAPPING-Te-Gl-Mw"
INSTRUMENT_HOST_ID = MEX
INSTRUMENT_HOST_NAME = "MARS EXPRESS"
INSTRUMENT_ID = HRSC
INSTRUMENT_NAME = "HIGH RESOLUTION STEREO CAMERA"
MISSION_NAME = "MARS EXPRESS"
MISSION_PHASE_NAME = ME_Phase_35
PROCESSING_LEVEL_ID = 3
PRODUCT_CREATION_TIME = 2017-06-29T11:20:52.000Z
PRODUCT_ID = "HF924_0000_S23.JP2"
RELEASE_ID = 0135
REVISION_ID = 0000
/* QUALITY DATA ELEMENTS */
DATA_QUALITY_ID = 1
DATA_QUALITY_DESC = "Data calculated based on original SPICE kernels"
/* TIME DATA ELEMENTS */
SPACECRAFT_CLOCK_START_COUNT = "1/0417585497.07349"
SPACECRAFT_CLOCK_STOP_COUNT = "1/0417585845.20832"
START_TIME = 2016-07-26T03:59:52.828Z
STOP_TIME = 2016-07-26T04:04:11.104Z
/* ORBITAL DATA ELEMENTS */
ASCENDING_NODE_LONGITUDE = 274.74
MAXIMUM_RESOLUTION = 41.6
FOOTPRINT_POINT_LATITUDE = (45.4779,45.4757,45.4727,45.469,45.4647 ,45.4597,45.4527,45.0384,44.7917, 44.4153,44.1644,43.9139,43.6599,43.4053 ,43.024,42.6366,42.3775,42.1302,41.8709 ,41.6072,41.2039,40.94,40.6765,40.4093, 40.1423,39.8731,39.6015,39.331,38.9205, 38.6467,38.3698,37.9546,37.5324,37.1059 ,36.6816,36.257,35.8258,35.534,35.2425, 34.8001,34.5043,34.0546,33.7542,33.4526 ,33.1459,32.8445,32.5347,32.0758, 31.7627,31.7589,31.7547,31.7497,31.7427 ,31.7373,31.8901,32.1983,32.5079, 32.9723,33.4274,33.7381,34.0393,34.3482 ,34.7918,35.0866,35.5261,35.8062,36.104 ,36.3913,36.6793,36.9644,37.2502, 37.5311,37.8127,38.0924,38.3697,38.7871 ,39.062,39.3371,39.6088,39.8806,40.1506 ,40.4212,40.6906,40.9535,41.2192, 41.4837,41.745,42.0072,42.2693,42.5284, 42.787,43.173,43.4273,43.6817,43.9373, 44.1884,44.5663,44.8184,45.0655, 45.4779)
FOOTPRINT_POINT_LONGITUDE = (65.2423,64.8746,64.5061,64.1367, 63.7666,63.3953,62.9522,62.9159,62.9267 ,62.9425,62.9526,62.9624,62.9718, 62.9809,62.9942,63.0068,63.0155,63.0167 ,63.0226,63.031,63.0458,63.0515,63.0569 ,63.0618,63.0665,63.0717,63.0762, 63.0802,63.0856,63.0888,63.0918,63.0952 ,63.0989,63.1031,63.1041,63.1019, 63.1009,63.1017,63.1,63.0989,63.0973, 63.0951,63.0927,63.0897,63.0876,63.0825 ,63.0793,63.0702,63.3153,63.7029, 64.1438,64.556,65.0775,65.4609,65.9045, 65.894,65.8842,65.8704,65.855,65.8474, 65.8376,65.8302,65.8146,65.8044,65.7888 ,65.7758,65.7674,65.7572,65.7468, 65.7367,65.7264,65.7158,65.7052,65.6946 ,65.6837,65.6681,65.6572,65.6463, 65.6354,65.6241,65.6131,65.6024,65.5911 ,65.5792,65.5677,65.5559,65.5442, 65.5324,65.5206,65.5089,65.4968,65.4783 ,65.4658,65.453,65.4405,65.4279,65.4086 ,65.3956,65.3824,65.2423)
ORBIT_NUMBER = 15924
ORBITAL_ECCENTRICITY = 0.572
ORBITAL_INCLINATION = 86.95
ORBITAL_SEMIMAJOR_AXIS = 8781.51
PERIAPSIS_ALTITUDE = 380.77
PERIAPSIS_ARGUMENT_ANGLE = 114.55
PERIAPSIS_TIME = 2016-07-26T03:53:54.000Z
SPACECRAFT_ORIENTATION = (0.0,-1.0,0.0)
^MEX_ORIENTATION_DESC = "MEX_ORIENTATION_DESC.TXT"
SPACECRAFT_POINTING_MODE = ACROSSTRACK
^MEX_POINTING_DESC = "MEX_POINTING_DESC.TXT"
RIGHT_ASCENSION = -1e+32
DECLINATION = -1e+32
OFFSET_ANGLE = -0.269
SPACECRAFT_SOLAR_DISTANCE = 2.15517e+08
TARGET_NAME = MARS
/* CAMERA DATA ELEMENTS */
DETECTOR_TEMPERATURE = 19.1861
FOCAL_PLANE_TEMPERATURE = 9.3989
INST_CMPRS_NAME = "DISCRETE COSINE TRANSFORMATION (DCT)"
INST_CMPRS_RATIO = 9.30004
INST_CMPRS_QUALITY = 0
INST_CMPRS_QUANTZ_TBL_ID = 0
INSTRUMENT_TEMPERATURE = 12.0496
LENS_TEMPERATURE = 9.8067
MACROPIXEL_SIZE = 2
MISSING_FRAMES = 0
PIXEL_SUBSAMPLING_FLAG = N
SIGNAL_CHAIN_ID = 1
/* RADIOMETRIC DATA ELEMENTS */
BANDWIDTH = 178.0
CENTER_FILTER_WAVELENGTH = 679.0
RADIANCE_OFFSET = 3.64037
RADIANCE_SCALING_FACTOR = 0.0264627
REFLECTANCE_SCALING_FACTOR = 0.000650918
MEX:REFLECTANCE_OFFSET = 0.089544
/* IMAGE OBJECT DEFINITIONS */
OBJECT = IMAGE
  INTERCHANGE_FORMAT = BINARY
  LINES = 32774
  LINE_SAMPLES = 5321
  SAMPLE_TYPE = UNSIGNED_INTEGER
  SAMPLE_BITS = 8
  BANDS = 1
  BAND_STORAGE_TYPE = BAND_SEQUENTIAL
  MAXIMUM = 255
  MEAN = 127.748
  MINIMUM = 1
  STANDARD_DEVIATION = 56.2551
END_OBJECT = IMAGE
/* MAP OBJECT DEFINITIONS */
OBJECT = IMAGE_MAP_PROJECTION
  ^DATA_SET_MAP_PROJECTION_CATALOG= "DSMAP.CAT"
  A_AXIS_RADIUS = 3396.0
  B_AXIS_RADIUS = 3396.0
  C_AXIS_RADIUS = 3396.0
  CENTER_LATITUDE = 0.0
  CENTER_LONGITUDE = 64.0
  COORDINATE_SYSTEM_NAME = PLANETOGRAPHIC
  COORDINATE_SYSTEM_TYPE = "BODY-FIXED ROTATING"
  EASTERNMOST_LONGITUDE = 65.9045
  FIRST_STANDARD_PARALLEL = "N/A"
  LINE_FIRST_PIXEL = 1
  LINE_LAST_PIXEL = 32774
  LINE_PROJECTION_OFFSET = 108017.75
  MAP_PROJECTION_ROTATION = 0.0
  MAP_PROJECTION_TYPE = SINUSOIDAL
  MAP_RESOLUTION = 2370.85521546667
  MAP_SCALE = 0.025
  MAXIMUM_LATITUDE = 45.4779
  MINIMUM_LATITUDE = 31.7373
  POSITIVE_LONGITUDE_DIRECTION = EAST
  REFERENCE_LATITUDE = "N/A"
  REFERENCE_LONGITUDE = "N/A"
  SAMPLE_FIRST_PIXEL = 1
  SAMPLE_LAST_PIXEL = 5321
  SAMPLE_PROJECTION_OFFSET = 1766.25
  SECOND_STANDARD_PARALLEL = "N/A"
  WESTERNMOST_LONGITUDE = 62.9159
END_OBJECT = IMAGE_MAP_PROJECTION
/* The JPEG2000 image data file associated with this label. */
OBJECT = COMPRESSED_FILE
  FILE_NAME = "HF924_0000_S23.JP2"
  RECORD_TYPE = UNDEFINED
  FILE_RECORDS = UNK
  ENCODING_TYPE = "JP2"
  INTERCHANGE_FORMAT = BINARY
  UNCOMPRESSED_FILE_NAME = "HF924_0000_S23.IMG"
  REQUIRED_STORAGE_BYTES = "174417059"
  ^DESCRIPTION = "JP2INFO.TXT"
END_OBJECT = COMPRESSED_FILE
END
