PDS_VERSION_ID = PDS3
/* FILE DATA ELEMENTS */
RECORD_TYPE = STREAM
/* POINTERS TO DATA OBJECTS */
^COMPRESSED_FILE = "HF925_0000_S13.JP2"
/* IDENTIFICATION DATA ELEMENTS */
DATA_SET_ID = "MEX-M-HRSC-5-REFDR-MAPPROJECTED-V3.0"
DATA_SET_NAME = "MARS EXPRESS HRSC MAP PROJECTED REFDR V3.0"
DETECTOR_ID = MEX_HRSC_S1
EVENT_TYPE = "MARS-REGIONAL-MAPPING-Pf-Ot"
INSTRUMENT_HOST_ID = MEX
INSTRUMENT_HOST_NAME = "MARS EXPRESS"
INSTRUMENT_ID = HRSC
INSTRUMENT_NAME = "HIGH RESOLUTION STEREO CAMERA"
MISSION_NAME = "MARS EXPRESS"
MISSION_PHASE_NAME = ME_Phase_35
PROCESSING_LEVEL_ID = 3
PRODUCT_CREATION_TIME = 2017-06-29T11:20:52.000Z
PRODUCT_ID = "HF925_0000_S13.JP2"
RELEASE_ID = 0135
REVISION_ID = 0000
/* QUALITY DATA ELEMENTS */
DATA_QUALITY_ID = 1
DATA_QUALITY_DESC = "Data calculated based on original SPICE kernels"
/* TIME DATA ELEMENTS */
SPACECRAFT_CLOCK_START_COUNT = "1/0417610392.08253"
SPACECRAFT_CLOCK_STOP_COUNT = "1/0417610660.15777"
START_TIME = 2016-07-26T10:53:19.863Z
STOP_TIME = 2016-07-26T10:56:28.103Z
/* ORBITAL DATA ELEMENTS */
ASCENDING_NODE_LONGITUDE = 274.72
MAXIMUM_RESOLUTION = 32.7
FOOTPRINT_POINT_LATITUDE = (64.3599,64.3344,64.307,64.2778,64.2468 ,64.1989,63.8247,63.5867,63.3488, 63.1106,62.7529,62.5143,62.1555,61.797, 61.5578,61.3182,60.9585,60.5985,60.238, 59.9976,59.7574,59.3964,59.0348,58.7934 ,58.5522,58.3108,58.0694,57.7074, 57.4652,57.2234,56.9815,56.7394,56.4974 ,56.2552,55.8918,55.6495,55.4071, 55.0435,54.801,54.5583,54.3155,54.0728, 53.8299,53.5875,53.3442,53.1015,52.8587 ,52.6156,52.3725,52.0078,52.0066,52.029 ,52.05,52.0792,52.0962,52.1118,52.3558, 52.5999,52.8438,53.0879,53.4537,53.6975 ,54.0632,54.3071,54.5508,54.9163, 55.1602,55.5259,55.8911,56.1347,56.3782 ,56.6217,56.8648,57.2295,57.4728, 57.7159,57.9587,58.2015,58.5658,58.8085 ,59.1723,59.4148,59.657,59.8991,60.1413 ,60.3831,60.6251,60.8668,61.229,61.5912 ,61.8323,62.0734,62.4348,62.6757, 63.0366,63.2768,63.5169,63.877,64.2369, 64.3599)
FOOTPRINT_POINT_LONGITUDE = (320.159,319.706,319.251,318.795, 318.338,317.677,317.633,317.706,317.778 ,317.848,317.951,318.017,318.114, 318.209,318.27,318.33,318.418,318.503, 318.585,318.638,318.691,318.768,318.842 ,318.89,318.937,318.983,319.029,319.095 ,319.138,319.18,319.221,319.262,319.302 ,319.34,319.397,319.434,319.47,319.523, 319.558,319.591,319.624,319.656,319.688 ,319.719,319.749,319.779,319.808, 319.836,319.864,319.905,320.25,320.615, 320.978,321.543,321.902,322.246,322.225 ,322.205,322.184,322.163,322.131, 322.109,322.075,322.053,322.029,321.994 ,321.969,321.932,321.894,321.868, 321.842,321.815,321.787,321.746,321.717 ,321.688,321.658,321.628,321.582, 321.551,321.503,321.47,321.436,321.402, 321.368,321.332,321.296,321.26,321.204, 321.146,321.106,321.066,321.004,320.962 ,320.897,320.853,320.808,320.739, 320.667,320.159)
ORBIT_NUMBER = 15925
ORBITAL_ECCENTRICITY = 0.571
ORBITAL_INCLINATION = 86.96
ORBITAL_SEMIMAJOR_AXIS = 8776.83
PERIAPSIS_ALTITUDE = 381.43
PERIAPSIS_ARGUMENT_ANGLE = 114.39
PERIAPSIS_TIME = 2016-07-26T10:53:36.000Z
SPACECRAFT_ORIENTATION = (0.0,-1.0,0.0)
^MEX_ORIENTATION_DESC = "MEX_ORIENTATION_DESC.TXT"
SPACECRAFT_POINTING_MODE = ACROSSTRACK
^MEX_POINTING_DESC = "MEX_POINTING_DESC.TXT"
RIGHT_ASCENSION = -1e+32
DECLINATION = -1e+32
OFFSET_ANGLE = -0.45
SPACECRAFT_SOLAR_DISTANCE = 2.15468e+08
TARGET_NAME = MARS
/* CAMERA DATA ELEMENTS */
DETECTOR_TEMPERATURE = 17.5549
FOCAL_PLANE_TEMPERATURE = 9.3989
INST_CMPRS_NAME = "DISCRETE COSINE TRANSFORMATION (DCT)"
INST_CMPRS_RATIO = 9.80707
INST_CMPRS_QUALITY = 0
INST_CMPRS_QUANTZ_TBL_ID = 0
INSTRUMENT_TEMPERATURE = 11.8457
LENS_TEMPERATURE = 9.8067
MACROPIXEL_SIZE = 2
MISSING_FRAMES = 0
PIXEL_SUBSAMPLING_FLAG = N
SIGNAL_CHAIN_ID = 1
/* RADIOMETRIC DATA ELEMENTS */
BANDWIDTH = 180.0
CENTER_FILTER_WAVELENGTH = 677.0
RADIANCE_OFFSET = 3.24985
RADIANCE_SCALING_FACTOR = 0.00827849
REFLECTANCE_SCALING_FACTOR = 0.000200521
MEX:REFLECTANCE_OFFSET = 0.0787177
/* IMAGE OBJECT DEFINITIONS */
OBJECT = IMAGE
  INTERCHANGE_FORMAT = BINARY
  LINES = 29018
  LINE_SAMPLES = 5810
  SAMPLE_TYPE = UNSIGNED_INTEGER
  SAMPLE_BITS = 8
  BANDS = 1
  BAND_STORAGE_TYPE = BAND_SEQUENTIAL
  MAXIMUM = 255
  MEAN = 148.281
  MINIMUM = 1
  STANDARD_DEVIATION = 42.8171
END_OBJECT = IMAGE
/* MAP OBJECT DEFINITIONS */
OBJECT = IMAGE_MAP_PROJECTION
  ^DATA_SET_MAP_PROJECTION_CATALOG= "DSMAP.CAT"
  A_AXIS_RADIUS = 3396.0
  B_AXIS_RADIUS = 3396.0
  C_AXIS_RADIUS = 3396.0
  CENTER_LATITUDE = 0.0
  CENTER_LONGITUDE = 320.0
  COORDINATE_SYSTEM_NAME = PLANETOGRAPHIC
  COORDINATE_SYSTEM_TYPE = "BODY-FIXED ROTATING"
  EASTERNMOST_LONGITUDE = 322.246
  FIRST_STANDARD_PARALLEL = "N/A"
  LINE_FIRST_PIXEL = 1
  LINE_LAST_PIXEL = 29018
  LINE_PROJECTION_OFFSET = 152364.25
  MAP_PROJECTION_ROTATION = 0.0
  MAP_PROJECTION_TYPE = SINUSOIDAL
  MAP_RESOLUTION = 2370.85521546667
  MAP_SCALE = 0.025
  MAXIMUM_LATITUDE = 64.3599
  MINIMUM_LATITUDE = 52.0066
  POSITIVE_LONGITUDE_DIRECTION = EAST
  REFERENCE_LATITUDE = "N/A"
  REFERENCE_LONGITUDE = "N/A"
  SAMPLE_FIRST_PIXEL = 1
  SAMPLE_LAST_PIXEL = 5810
  SAMPLE_PROJECTION_OFFSET = 2526.75
  SECOND_STANDARD_PARALLEL = "N/A"
  WESTERNMOST_LONGITUDE = 317.633
END_OBJECT = IMAGE_MAP_PROJECTION
/* The JPEG2000 image data file associated with this label. */
OBJECT = COMPRESSED_FILE
  FILE_NAME = "HF925_0000_S13.JP2"
  RECORD_TYPE = UNDEFINED
  FILE_RECORDS = UNK
  ENCODING_TYPE = "JP2"
  INTERCHANGE_FORMAT = BINARY
  UNCOMPRESSED_FILE_NAME = "HF925_0000_S13.IMG"
  REQUIRED_STORAGE_BYTES = "168623630"
  ^DESCRIPTION = "JP2INFO.TXT"
END_OBJECT = COMPRESSED_FILE
END
