PDS_VERSION_ID = PDS3
/* FILE DATA ELEMENTS */
RECORD_TYPE = STREAM
/* POINTERS TO DATA OBJECTS */
^COMPRESSED_FILE = "HF928_0000_S23.JP2"
/* IDENTIFICATION DATA ELEMENTS */
DATA_SET_ID = "MEX-M-HRSC-5-REFDR-MAPPROJECTED-V3.0"
DATA_SET_NAME = "MARS EXPRESS HRSC MAP PROJECTED REFDR V3.0"
DETECTOR_ID = MEX_HRSC_S2
EVENT_TYPE = "MARS-REGIONAL-MAPPING-Im-Pf"
INSTRUMENT_HOST_ID = MEX
INSTRUMENT_HOST_NAME = "MARS EXPRESS"
INSTRUMENT_ID = HRSC
INSTRUMENT_NAME = "HIGH RESOLUTION STEREO CAMERA"
MISSION_NAME = "MARS EXPRESS"
MISSION_PHASE_NAME = ME_Phase_35
PROCESSING_LEVEL_ID = 3
PRODUCT_CREATION_TIME = 2017-06-29T11:20:52.000Z
PRODUCT_ID = "HF928_0000_S23.JP2"
RELEASE_ID = 0135
REVISION_ID = 0000
/* QUALITY DATA ELEMENTS */
DATA_QUALITY_ID = 1
DATA_QUALITY_DESC = "Data calculated based on original SPICE kernels"
/* TIME DATA ELEMENTS */
SPACECRAFT_CLOCK_START_COUNT = "1/0417685854.09063"
SPACECRAFT_CLOCK_STOP_COUNT = "1/0417686063.42603"
START_TIME = 2016-07-27T07:52:12.630Z
STOP_TIME = 2016-07-27T07:54:29.340Z
/* ORBITAL DATA ELEMENTS */
ASCENDING_NODE_LONGITUDE = 274.67
MAXIMUM_RESOLUTION = 32.9
FOOTPRINT_POINT_LATITUDE = (70.0265,69.9959,69.9708,69.9442, 69.8976,69.9989,69.8246,69.6514,69.3906 ,69.1301,68.9564,68.7826,68.5218, 68.3484,68.1748,67.9145,67.7409,67.5674 ,67.3934,67.2203,67.0469,66.8737, 66.6139,66.3541,66.181,66.0079,65.835, 65.662,65.489,65.3161,65.0568,64.8843, 64.7117,64.4526,64.1938,63.9352,63.6768 ,63.419,63.2468,63.0756,62.9036,62.7323 ,62.5607,62.3893,62.218,62.0468,61.7048 ,61.3632,61.3769,61.3998,61.416,61.4417 ,61.454,61.552,61.7238,61.8958,62.0679, 62.3262,62.4985,62.671,62.8436,63.1025, 63.2753,63.4482,63.7079,63.8811,64.1412 ,64.3146,64.4881,64.6617,64.8354, 65.0093,65.1833,65.3571,65.5312,65.7054 ,65.9668,66.1412,66.3156,66.4902, 66.6648,66.8394,67.0143,67.1893,67.5394 ,67.802,67.9771,68.1523,68.3275,68.5906 ,68.7662,68.9418,69.1173,69.2928, 69.4683,69.6439,69.8194,69.9958,70.1712 ,70.0265)
FOOTPRINT_POINT_LONGITUDE = (13.3783,12.6146,12.0349,11.4578,10.524 ,9.85093,9.9356,10.0172,10.1378,10.2546 ,10.3307,10.4053,10.5149,10.5858, 10.6554,10.7576,10.8241,10.8894,10.9541 ,11.0166,11.0783,11.1388,11.2275, 11.3139,11.3702,11.4255,11.4798,11.5331 ,11.5856,11.6371,11.7128,11.7619, 11.8103,11.8815,11.9509,12.0184,12.0841 ,12.1478,12.1898,12.2303,12.2707,12.31, 12.349,12.3872,12.4248,12.4617,12.5337, 12.6033,13.1085,13.6695,14.0908,14.7675 ,15.1351,15.5023,15.4801,15.4576, 15.4348,15.3998,15.376,15.352,15.3276, 15.2902,15.2648,15.239,15.1997,15.173, 15.1321,15.1043,15.076,15.0474,15.0182, 14.9886,14.9586,14.9279,14.8968,14.8652 ,14.8169,14.784,14.7505,14.7165,14.6818 ,14.6466,14.6109,14.5746,14.5,14.4421, 14.4027,14.3626,14.3217,14.2592,14.2165 ,14.1731,14.1288,14.0836,14.0375, 13.9906,13.9426,13.8944,13.8444, 13.3783)
ORBIT_NUMBER = 15928
ORBITAL_ECCENTRICITY = 0.572
ORBITAL_INCLINATION = 86.94
ORBITAL_SEMIMAJOR_AXIS = 8779.0
PERIAPSIS_ALTITUDE = 381.98
PERIAPSIS_ARGUMENT_ANGLE = 113.85
PERIAPSIS_TIME = 2016-07-27T07:52:41.000Z
SPACECRAFT_ORIENTATION = (0.0,-1.0,0.0)
^MEX_ORIENTATION_DESC = "MEX_ORIENTATION_DESC.TXT"
SPACECRAFT_POINTING_MODE = ACROSSTRACK
^MEX_POINTING_DESC = "MEX_POINTING_DESC.TXT"
RIGHT_ASCENSION = -1e+32
DECLINATION = -1e+32
OFFSET_ANGLE = 0.1
SPACECRAFT_SOLAR_DISTANCE = 2.15323e+08
TARGET_NAME = MARS
/* CAMERA DATA ELEMENTS */
DETECTOR_TEMPERATURE = 19.1861
FOCAL_PLANE_TEMPERATURE = 9.3989
INST_CMPRS_NAME = "DISCRETE COSINE TRANSFORMATION (DCT)"
INST_CMPRS_RATIO = 13.1752
INST_CMPRS_QUALITY = 0
INST_CMPRS_QUANTZ_TBL_ID = 0
INSTRUMENT_TEMPERATURE = 12.2535
LENS_TEMPERATURE = 9.8067
MACROPIXEL_SIZE = 2
MISSING_FRAMES = 0
PIXEL_SUBSAMPLING_FLAG = N
SIGNAL_CHAIN_ID = 1
/* RADIOMETRIC DATA ELEMENTS */
BANDWIDTH = 178.0
CENTER_FILTER_WAVELENGTH = 679.0
RADIANCE_OFFSET = 2.8906
RADIANCE_SCALING_FACTOR = 0.009091
REFLECTANCE_SCALING_FACTOR = 0.000223213
MEX:REFLECTANCE_OFFSET = 0.0709736
/* IMAGE OBJECT DEFINITIONS */
OBJECT = IMAGE
  INTERCHANGE_FORMAT = BINARY
  LINES = 20903
  LINE_SAMPLES = 5328
  SAMPLE_TYPE = UNSIGNED_INTEGER
  SAMPLE_BITS = 8
  BANDS = 1
  BAND_STORAGE_TYPE = BAND_SEQUENTIAL
  MAXIMUM = 255
  MEAN = 118.999
  MINIMUM = 1
  STANDARD_DEVIATION = 57.2156
END_OBJECT = IMAGE
/* MAP OBJECT DEFINITIONS */
OBJECT = IMAGE_MAP_PROJECTION
  ^DATA_SET_MAP_PROJECTION_CATALOG= "DSMAP.CAT"
  A_AXIS_RADIUS = 3396.0
  B_AXIS_RADIUS = 3396.0
  C_AXIS_RADIUS = 3396.0
  CENTER_LATITUDE = 0.0
  CENTER_LONGITUDE = 13.0
  COORDINATE_SYSTEM_NAME = PLANETOGRAPHIC
  COORDINATE_SYSTEM_TYPE = "BODY-FIXED ROTATING"
  EASTERNMOST_LONGITUDE = 15.5023
  FIRST_STANDARD_PARALLEL = "N/A"
  LINE_FIRST_PIXEL = 1
  LINE_LAST_PIXEL = 20903
  LINE_PROJECTION_OFFSET = 166302.25
  MAP_PROJECTION_ROTATION = 0.0
  MAP_PROJECTION_TYPE = SINUSOIDAL
  MAP_RESOLUTION = 2370.85521546667
  MAP_SCALE = 0.025
  MAXIMUM_LATITUDE = 70.1712
  MINIMUM_LATITUDE = 61.3632
  POSITIVE_LONGITUDE_DIRECTION = EAST
  REFERENCE_LATITUDE = "N/A"
  REFERENCE_LONGITUDE = "N/A"
  SAMPLE_FIRST_PIXEL = 1
  SAMPLE_LAST_PIXEL = 5328
  SAMPLE_PROJECTION_OFFSET = 2528.75
  SECOND_STANDARD_PARALLEL = "N/A"
  WESTERNMOST_LONGITUDE = 9.85093
END_OBJECT = IMAGE_MAP_PROJECTION
/* The JPEG2000 image data file associated with this label. */
OBJECT = COMPRESSED_FILE
  FILE_NAME = "HF928_0000_S23.JP2"
  RECORD_TYPE = UNDEFINED
  FILE_RECORDS = UNK
  ENCODING_TYPE = "JP2"
  INTERCHANGE_FORMAT = BINARY
  UNCOMPRESSED_FILE_NAME = "HF928_0000_S23.IMG"
  REQUIRED_STORAGE_BYTES = "111397824"
  ^DESCRIPTION = "JP2INFO.TXT"
END_OBJECT = COMPRESSED_FILE
END
