PDS_VERSION_ID = PDS3
/* FILE DATA ELEMENTS */
RECORD_TYPE = STREAM
/* POINTERS TO DATA OBJECTS */
^COMPRESSED_FILE = "HF929_0000_S13.JP2"
/* IDENTIFICATION DATA ELEMENTS */
DATA_SET_ID = "MEX-M-HRSC-5-REFDR-MAPPROJECTED-V3.0"
DATA_SET_NAME = "MARS EXPRESS HRSC MAP PROJECTED REFDR V3.0"
DETECTOR_ID = MEX_HRSC_S1
EVENT_TYPE = "MARS-REGIONAL-MAPPING-Pf"
INSTRUMENT_HOST_ID = MEX
INSTRUMENT_HOST_NAME = "MARS EXPRESS"
INSTRUMENT_ID = HRSC
INSTRUMENT_NAME = "HIGH RESOLUTION STEREO CAMERA"
MISSION_NAME = "MARS EXPRESS"
MISSION_PHASE_NAME = ME_Phase_35
PROCESSING_LEVEL_ID = 3
PRODUCT_CREATION_TIME = 2017-06-29T11:20:52.000Z
PRODUCT_ID = "HF929_0000_S13.JP2"
RELEASE_ID = 0135
REVISION_ID = 0000
/* QUALITY DATA ELEMENTS */
DATA_QUALITY_ID = 1
DATA_QUALITY_DESC = "Data calculated based on original SPICE kernels"
/* TIME DATA ELEMENTS */
SPACECRAFT_CLOCK_START_COUNT = "1/0417711058.09063"
SPACECRAFT_CLOCK_STOP_COUNT = "1/0417711302.24268"
START_TIME = 2016-07-27T14:51:05.893Z
STOP_TIME = 2016-07-27T14:53:56.135Z
/* ORBITAL DATA ELEMENTS */
ASCENDING_NODE_LONGITUDE = 274.65
MAXIMUM_RESOLUTION = 32.6
FOOTPRINT_POINT_LATITUDE = (69.4138,69.3868,69.363,69.3285,69.2998 ,69.269,69.2404,69.0011,68.7907,68.4734 ,68.2619,68.0499,67.7316,67.5193, 67.3065,67.0939,66.8806,66.6675,66.4539 ,66.1333,65.9195,65.7052,65.4909, 65.2762,64.954,64.7391,64.5238,64.2009, 63.9855,63.7697,63.5541,63.3378,63.1218 ,62.7976,62.581,62.2563,62.0396,61.8225 ,61.6056,61.2802,60.9537,60.7357, 60.5186,60.3007,60.0827,59.7559,59.5376 ,59.3196,58.9884,58.77,58.4429,58.318, 58.332,58.3426,58.3585,58.3769,58.3907, 58.4018,58.6213,58.8407,59.0605,59.3939 ,59.6132,59.8327,60.0518,60.3804, 60.7088,61.0372,61.256,61.5839,61.9115, 62.2389,62.4571,62.6752,62.893,63.2197, 63.4375,63.6549,63.8724,64.0897,64.3068 ,64.6322,65.066,65.2827,65.499,65.7152, 66.0393,66.2554,66.4711,66.7945,67.1176 ,67.3327,67.5476,67.8698,68.0843, 68.2986,68.6197,68.8333,69.1537, 69.4138)
FOOTPRINT_POINT_LONGITUDE = (271.318,270.606,270.038,269.295, 268.731,268.168,267.676,267.664,267.761 ,267.901,267.992,268.081,268.211, 268.296,268.379,268.46,268.539,268.616, 268.692,268.803,268.875,268.946,269.015 ,269.083,269.182,269.246,269.309, 269.401,269.461,269.52,269.578,269.634, 269.689,269.77,269.823,269.9,269.95, 269.999,270.047,270.118,270.186,270.23, 270.274,270.317,270.359,270.421,270.46, 270.5,270.558,270.595,270.65,270.972, 271.273,271.524,271.925,272.453,272.881 ,273.268,273.246,273.223,273.2,273.164, 273.139,273.115,273.09,273.051,273.012, 272.972,272.944,272.902,272.859,272.815 ,272.785,272.754,272.723,272.675, 272.642,272.608,272.574,272.54,272.505, 272.451,272.376,272.338,272.299,272.259 ,272.198,272.156,272.114,272.048, 271.981,271.935,271.888,271.815,271.766 ,271.716,271.638,271.585,271.504, 271.318)
ORBIT_NUMBER = 15929
ORBITAL_ECCENTRICITY = 0.572
ORBITAL_INCLINATION = 86.94
ORBITAL_SEMIMAJOR_AXIS = 8778.11
PERIAPSIS_ALTITUDE = 381.56
PERIAPSIS_ARGUMENT_ANGLE = 113.69
PERIAPSIS_TIME = 2016-07-27T14:52:30.000Z
SPACECRAFT_ORIENTATION = (0.0,-1.0,0.0)
^MEX_ORIENTATION_DESC = "MEX_ORIENTATION_DESC.TXT"
SPACECRAFT_POINTING_MODE = NADIR
^MEX_POINTING_DESC = "MEX_POINTING_DESC.TXT"
RIGHT_ASCENSION = -1e+32
DECLINATION = -1e+32
OFFSET_ANGLE = -1e+32
SPACECRAFT_SOLAR_DISTANCE = 2.15274e+08
TARGET_NAME = MARS
/* CAMERA DATA ELEMENTS */
DETECTOR_TEMPERATURE = 18.5744
FOCAL_PLANE_TEMPERATURE = 8.9911
INST_CMPRS_NAME = "DISCRETE COSINE TRANSFORMATION (DCT)"
INST_CMPRS_RATIO = 11.7508
INST_CMPRS_QUALITY = 0
INST_CMPRS_QUANTZ_TBL_ID = 0
INSTRUMENT_TEMPERATURE = 11.8457
LENS_TEMPERATURE = 9.6028
MACROPIXEL_SIZE = 2
MISSING_FRAMES = 1
PIXEL_SUBSAMPLING_FLAG = N
SIGNAL_CHAIN_ID = 1
/* RADIOMETRIC DATA ELEMENTS */
BANDWIDTH = 180.0
CENTER_FILTER_WAVELENGTH = 677.0
RADIANCE_OFFSET = 2.94431
RADIANCE_SCALING_FACTOR = 0.00893205
REFLECTANCE_SCALING_FACTOR = 0.000215962
MEX:REFLECTANCE_OFFSET = 0.0711885
/* IMAGE OBJECT DEFINITIONS */
OBJECT = IMAGE
  INTERCHANGE_FORMAT = BINARY
  LINES = 26024
  LINE_SAMPLES = 5651
  SAMPLE_TYPE = UNSIGNED_INTEGER
  SAMPLE_BITS = 8
  BANDS = 1
  BAND_STORAGE_TYPE = BAND_SEQUENTIAL
  MAXIMUM = 255
  MEAN = 128.657
  MINIMUM = 1
  STANDARD_DEVIATION = 49.1324
END_OBJECT = IMAGE
/* MAP OBJECT DEFINITIONS */
OBJECT = IMAGE_MAP_PROJECTION
  ^DATA_SET_MAP_PROJECTION_CATALOG= "DSMAP.CAT"
  A_AXIS_RADIUS = 3396.0
  B_AXIS_RADIUS = 3396.0
  C_AXIS_RADIUS = 3396.0
  CENTER_LATITUDE = 0.0
  CENTER_LONGITUDE = 271.0
  COORDINATE_SYSTEM_NAME = PLANETOGRAPHIC
  COORDINATE_SYSTEM_TYPE = "BODY-FIXED ROTATING"
  EASTERNMOST_LONGITUDE = 273.268
  FIRST_STANDARD_PARALLEL = "N/A"
  LINE_FIRST_PIXEL = 1
  LINE_LAST_PIXEL = 26024
  LINE_PROJECTION_OFFSET = 164290.25
  MAP_PROJECTION_ROTATION = 0.0
  MAP_PROJECTION_TYPE = SINUSOIDAL
  MAP_RESOLUTION = 2370.85521546667
  MAP_SCALE = 0.025
  MAXIMUM_LATITUDE = 69.41379999999999
  MINIMUM_LATITUDE = 58.318
  POSITIVE_LONGITUDE_DIRECTION = EAST
  REFERENCE_LATITUDE = "N/A"
  REFERENCE_LONGITUDE = "N/A"
  SAMPLE_FIRST_PIXEL = 1
  SAMPLE_LAST_PIXEL = 5651
  SAMPLE_PROJECTION_OFFSET = 2823.25
  SECOND_STANDARD_PARALLEL = "N/A"
  WESTERNMOST_LONGITUDE = 267.664
END_OBJECT = IMAGE_MAP_PROJECTION
/* The JPEG2000 image data file associated with this label. */
OBJECT = COMPRESSED_FILE
  FILE_NAME = "HF929_0000_S13.JP2"
  RECORD_TYPE = UNDEFINED
  FILE_RECORDS = UNK
  ENCODING_TYPE = "JP2"
  INTERCHANGE_FORMAT = BINARY
  UNCOMPRESSED_FILE_NAME = "HF929_0000_S13.IMG"
  REQUIRED_STORAGE_BYTES = "147089879"
  ^DESCRIPTION = "JP2INFO.TXT"
END_OBJECT = COMPRESSED_FILE
END
