PDS_VERSION_ID = PDS3
/* FILE DATA ELEMENTS */
RECORD_TYPE = STREAM
/* POINTERS TO DATA OBJECTS */
^COMPRESSED_FILE = "HF931_0000_GR3.JP2"
/* IDENTIFICATION DATA ELEMENTS */
DATA_SET_ID = "MEX-M-HRSC-5-REFDR-MAPPROJECTED-V3.0"
DATA_SET_NAME = "MARS EXPRESS HRSC MAP PROJECTED REFDR V3.0"
DETECTOR_ID = MEX_HRSC_GREEN
EVENT_TYPE = "MARS-REGIONAL-MAPPING-Te-Gl-Mw"
INSTRUMENT_HOST_ID = MEX
INSTRUMENT_HOST_NAME = "MARS EXPRESS"
INSTRUMENT_ID = HRSC
INSTRUMENT_NAME = "HIGH RESOLUTION STEREO CAMERA"
MISSION_NAME = "MARS EXPRESS"
MISSION_PHASE_NAME = ME_Phase_35
PROCESSING_LEVEL_ID = 3
PRODUCT_CREATION_TIME = 2017-06-29T11:20:52.000Z
PRODUCT_ID = "HF931_0000_GR3.JP2"
RELEASE_ID = 0135
REVISION_ID = 0000
/* QUALITY DATA ELEMENTS */
DATA_QUALITY_ID = 1
DATA_QUALITY_DESC = "Data calculated based on original SPICE kernels"
/* TIME DATA ELEMENTS */
SPACECRAFT_CLOCK_START_COUNT = "1/0417761790.09055"
SPACECRAFT_CLOCK_STOP_COUNT = "1/0417762031.61841"
START_TIME = 2016-07-28T04:57:13.045Z
STOP_TIME = 2016-07-28T04:59:27.281Z
/* ORBITAL DATA ELEMENTS */
ASCENDING_NODE_LONGITUDE = 274.6
MAXIMUM_RESOLUTION = 74.4
FOOTPRINT_POINT_LATITUDE = (45.8486,45.8498,45.8499,45.8489, 45.8468,45.8437,45.8396,45.4441,45.1404 ,44.9082,44.5981,44.2886,44.0566, 43.8997,43.7417,43.5838,43.4262,43.2686 ,43.1111,42.9539,42.7933,42.5524,42.392 ,42.1516,41.9915,41.7467,41.5835, 41.4203,41.2573,41.0945,40.9295,40.7636 ,40.5148,40.3491,40.1836,40.0158, 39.8471,39.6786,39.5104,39.3422,39.0865 ,38.9154,38.7443,38.4879,38.3148, 38.1408,37.8803,37.7068,37.6746,37.6751 ,37.675,37.6734,37.6706,37.6675,37.6626 ,37.8368,38.0106,38.2721,38.4464, 38.6177,38.7891,38.9607,39.1326,39.3033 ,39.4719,39.6408,39.81,39.9789,40.1477, 40.3136,40.4797,40.6461,40.8957,41.0618 ,41.225,41.3884,41.5519,41.7155,41.8794 ,42.0419,42.2025,42.3632,42.5239, 42.6849,42.8459,43.006,43.1639,43.4007, 43.6378,43.7959,44.033,44.1881,44.3431, 44.4984,44.6537,44.8091,44.9646,45.1965 ,45.501,45.8486)
FOOTPRINT_POINT_LONGITUDE = (70.7653,70.4149,70.0677,69.7234, 69.3827,69.0448,68.7092,68.5706,68.5754 ,68.5789,68.5832,68.5871,68.5897, 68.5914,68.593,68.5946,68.5959,68.5973, 68.5985,68.5996,68.6006,68.602,68.6028, 68.6038,68.6044,68.6051,68.6054,68.6057 ,68.6058,68.6059,68.6059,68.6057, 68.6054,68.605,68.6046,68.604,68.6034, 68.6027,68.6019,68.6009,68.5994,68.5982 ,68.597,68.5949,68.5934,68.5918,68.5893 ,68.5875,68.8969,69.1432,69.5028, 69.8654,70.2542,70.5755,71.0245,71.0217 ,71.0216,71.0196,71.0187,71.017,71.0156 ,71.0143,71.012,71.012,71.0105,71.0085, 71.0058,71.0052,71.0038,71.002,71.0004, 70.9979,70.9952,70.9937,70.9921,70.9902 ,70.9885,70.9869,70.9847,70.9826, 70.9805,70.9787,70.977,70.9747,70.9729, 70.9707,70.9681,70.9657,70.9625,70.961, 70.9576,70.9554,70.9532,70.9508,70.9486 ,70.9464,70.9441,70.94,70.9352,70.7653)
ORBIT_NUMBER = 15931
ORBITAL_ECCENTRICITY = 0.572
ORBITAL_INCLINATION = 86.96
ORBITAL_SEMIMAJOR_AXIS = 8779.89
PERIAPSIS_ALTITUDE = 381.12
PERIAPSIS_ARGUMENT_ANGLE = 113.35
PERIAPSIS_TIME = 2016-07-28T04:51:53.000Z
SPACECRAFT_ORIENTATION = (0.0,-1.0,0.0)
^MEX_ORIENTATION_DESC = "MEX_ORIENTATION_DESC.TXT"
SPACECRAFT_POINTING_MODE = ACROSSTRACK
^MEX_POINTING_DESC = "MEX_POINTING_DESC.TXT"
RIGHT_ASCENSION = -1e+32
DECLINATION = -1e+32
OFFSET_ANGLE = 0.9
SPACECRAFT_SOLAR_DISTANCE = 2.15178e+08
TARGET_NAME = MARS
/* CAMERA DATA ELEMENTS */
DETECTOR_TEMPERATURE = 18.5744
FOCAL_PLANE_TEMPERATURE = 10.2145
INST_CMPRS_NAME = "DISCRETE COSINE TRANSFORMATION (DCT)"
INST_CMPRS_RATIO = 10.2365
INST_CMPRS_QUALITY = 0
INST_CMPRS_QUANTZ_TBL_ID = 0
INSTRUMENT_TEMPERATURE = 12.6613
LENS_TEMPERATURE = 10.4184
MACROPIXEL_SIZE = 4
MISSING_FRAMES = 0
PIXEL_SUBSAMPLING_FLAG = N
SIGNAL_CHAIN_ID = 2
/* RADIOMETRIC DATA ELEMENTS */
BANDWIDTH = 88.0
CENTER_FILTER_WAVELENGTH = 538.0
RADIANCE_OFFSET = 1.19812
RADIANCE_SCALING_FACTOR = 0.00516322
REFLECTANCE_SCALING_FACTOR = 0.000205826
MEX:REFLECTANCE_OFFSET = 0.047762
/* IMAGE OBJECT DEFINITIONS */
OBJECT = IMAGE
  INTERCHANGE_FORMAT = BINARY
  LINES = 9696
  LINE_SAMPLES = 2373
  SAMPLE_TYPE = UNSIGNED_INTEGER
  SAMPLE_BITS = 8
  BANDS = 1
  BAND_STORAGE_TYPE = BAND_SEQUENTIAL
  MAXIMUM = 255
  MEAN = 122.539
  MINIMUM = 1
  STANDARD_DEVIATION = 28.6956
END_OBJECT = IMAGE
/* MAP OBJECT DEFINITIONS */
OBJECT = IMAGE_MAP_PROJECTION
  ^DATA_SET_MAP_PROJECTION_CATALOG= "DSMAP.CAT"
  A_AXIS_RADIUS = 3396.0
  B_AXIS_RADIUS = 3396.0
  C_AXIS_RADIUS = 3396.0
  CENTER_LATITUDE = 0.0
  CENTER_LONGITUDE = 70.0
  COORDINATE_SYSTEM_NAME = PLANETOGRAPHIC
  COORDINATE_SYSTEM_TYPE = "BODY-FIXED ROTATING"
  EASTERNMOST_LONGITUDE = 71.0245
  FIRST_STANDARD_PARALLEL = "N/A"
  LINE_FIRST_PIXEL = 1
  LINE_LAST_PIXEL = 9696
  LINE_PROJECTION_OFFSET = 54357.625
  MAP_PROJECTION_ROTATION = 0.0
  MAP_PROJECTION_TYPE = SINUSOIDAL
  MAP_RESOLUTION = 1185.42760773333
  MAP_SCALE = 0.05
  MAXIMUM_LATITUDE = 45.8499
  MINIMUM_LATITUDE = 37.6626
  POSITIVE_LONGITUDE_DIRECTION = EAST
  REFERENCE_LATITUDE = "N/A"
  REFERENCE_LONGITUDE = "N/A"
  SAMPLE_FIRST_PIXEL = 1
  SAMPLE_LAST_PIXEL = 2373
  SAMPLE_PROJECTION_OFFSET = 1350.625
  SECOND_STANDARD_PARALLEL = "N/A"
  WESTERNMOST_LONGITUDE = 68.5706
END_OBJECT = IMAGE_MAP_PROJECTION
/* The JPEG2000 image data file associated with this label. */
OBJECT = COMPRESSED_FILE
  FILE_NAME = "HF931_0000_GR3.JP2"
  RECORD_TYPE = UNDEFINED
  FILE_RECORDS = UNK
  ENCODING_TYPE = "JP2"
  INTERCHANGE_FORMAT = BINARY
  UNCOMPRESSED_FILE_NAME = "HF931_0000_GR3.IMG"
  REQUIRED_STORAGE_BYTES = "23027592"
  ^DESCRIPTION = "JP2INFO.TXT"
END_OBJECT = COMPRESSED_FILE
END
