PDS_VERSION_ID = PDS3
/* FILE DATA ELEMENTS */
RECORD_TYPE = STREAM
/* POINTERS TO DATA OBJECTS */
^COMPRESSED_FILE = "HF931_0000_RE3.JP2"
/* IDENTIFICATION DATA ELEMENTS */
DATA_SET_ID = "MEX-M-HRSC-5-REFDR-MAPPROJECTED-V3.0"
DATA_SET_NAME = "MARS EXPRESS HRSC MAP PROJECTED REFDR V3.0"
DETECTOR_ID = MEX_HRSC_RED
EVENT_TYPE = "MARS-REGIONAL-MAPPING-Te-Gl-Mw"
INSTRUMENT_HOST_ID = MEX
INSTRUMENT_HOST_NAME = "MARS EXPRESS"
INSTRUMENT_ID = HRSC
INSTRUMENT_NAME = "HIGH RESOLUTION STEREO CAMERA"
MISSION_NAME = "MARS EXPRESS"
MISSION_PHASE_NAME = ME_Phase_35
PROCESSING_LEVEL_ID = 3
PRODUCT_CREATION_TIME = 2017-06-29T11:20:52.000Z
PRODUCT_ID = "HF931_0000_RE3.JP2"
RELEASE_ID = 0135
REVISION_ID = 0000
/* QUALITY DATA ELEMENTS */
DATA_QUALITY_ID = 1
DATA_QUALITY_DESC = "Data calculated based on original SPICE kernels"
/* TIME DATA ELEMENTS */
SPACECRAFT_CLOCK_START_COUNT = "1/0417761790.09055"
SPACECRAFT_CLOCK_STOP_COUNT = "1/0417762031.61841"
START_TIME = 2016-07-28T04:57:59.720Z
STOP_TIME = 2016-07-28T05:00:26.197Z
/* ORBITAL DATA ELEMENTS */
ASCENDING_NODE_LONGITUDE = 274.6
MAXIMUM_RESOLUTION = 82.4
FOOTPRINT_POINT_LATITUDE = (45.8203,45.8083,45.7973,45.7856, 45.7734,45.7604,45.7468,45.5004,45.2698 ,44.9631,44.6525,44.4966,44.3405, 44.0297,43.7934,43.6358,43.4776,43.3204 ,43.0832,42.9229,42.6824,42.5229,42.363 ,42.1199,41.9578,41.7959,41.6344, 41.4708,41.3064,41.1419,40.9778,40.8128 ,40.6462,40.4804,40.3143,40.1484, 39.9807,39.8122,39.6439,39.4754,39.2206 ,39.0504,38.8794,38.71,38.5374,38.365, 38.1068,37.932,37.6706,37.6629,37.6754, 37.6799,37.6845,37.6893,37.694,37.6993, 37.7025,37.7069,37.8846,38.0608,38.2352 ,38.4944,38.6674,38.9257,39.0966,39.268 ,39.4391,39.6078,39.7751,39.9451, 40.1989,40.3649,40.5316,40.6976,40.8653 ,41.1131,41.3598,41.525,41.6895,41.8511 ,42.0949,42.2573,42.4204,42.5807, 42.7409,42.9009,43.0614,43.3003,43.4598 ,43.6179,43.7768,43.9354,44.0941, 44.3276,44.6395,44.7959,45.0295,45.2596 ,45.5674,45.8203)
FOOTPRINT_POINT_LONGITUDE = (70.9409,70.4963,70.1262,69.7592, 69.3959,69.0358,68.6781,68.4993,68.5023 ,68.5059,68.5092,68.5107,68.512,68.5145 ,68.5161,68.517,68.5179,68.5186,68.5196 ,68.5201,68.5206,68.5209,68.521,68.5211 ,68.521,68.5208,68.5205,68.5201,68.5197 ,68.5191,68.5184,68.5176,68.5168, 68.5157,68.5147,68.5135,68.5122,68.5108 ,68.5093,68.5078,68.5052,68.5033, 68.5014,68.4993,68.4971,68.4949,68.4913 ,68.4888,68.4848,68.8727,69.3633, 69.5606,69.7588,69.958,70.183,70.5089, 70.7104,70.9894,71.1478,71.1464,71.1442 ,71.1408,71.1384,71.1349,71.1327, 71.1306,71.128,71.1253,71.1216,71.1202, 71.1169,71.114,71.1116,71.1082,71.1061, 71.1026,71.0986,71.0962,71.0936,71.0903 ,71.0865,71.0834,71.0808,71.0784, 71.0757,71.0726,71.0696,71.0644,71.0632 ,71.0603,71.058,71.0553,71.0524,71.0481 ,71.0419,71.039,71.0345,71.0297,71.0237 ,70.9409)
ORBIT_NUMBER = 15931
ORBITAL_ECCENTRICITY = 0.572
ORBITAL_INCLINATION = 86.96
ORBITAL_SEMIMAJOR_AXIS = 8779.89
PERIAPSIS_ALTITUDE = 381.12
PERIAPSIS_ARGUMENT_ANGLE = 113.35
PERIAPSIS_TIME = 2016-07-28T04:51:53.000Z
SPACECRAFT_ORIENTATION = (0.0,-1.0,0.0)
^MEX_ORIENTATION_DESC = "MEX_ORIENTATION_DESC.TXT"
SPACECRAFT_POINTING_MODE = ACROSSTRACK
^MEX_POINTING_DESC = "MEX_POINTING_DESC.TXT"
RIGHT_ASCENSION = -1e+32
DECLINATION = -1e+32
OFFSET_ANGLE = 0.9
SPACECRAFT_SOLAR_DISTANCE = 2.15178e+08
TARGET_NAME = MARS
/* CAMERA DATA ELEMENTS */
DETECTOR_TEMPERATURE = 19.39
FOCAL_PLANE_TEMPERATURE = 10.2145
INST_CMPRS_NAME = "DISCRETE COSINE TRANSFORMATION (DCT)"
INST_CMPRS_RATIO = 12.3919
INST_CMPRS_QUALITY = 0
INST_CMPRS_QUANTZ_TBL_ID = 0
INSTRUMENT_TEMPERATURE = 12.6613
LENS_TEMPERATURE = 10.4184
MACROPIXEL_SIZE = 4
MISSING_FRAMES = 0
PIXEL_SUBSAMPLING_FLAG = N
SIGNAL_CHAIN_ID = 2
/* RADIOMETRIC DATA ELEMENTS */
BANDWIDTH = 48.0
CENTER_FILTER_WAVELENGTH = 748.0
RADIANCE_OFFSET = 0.930392
RADIANCE_SCALING_FACTOR = 0.00681711
REFLECTANCE_SCALING_FACTOR = 0.000720313
MEX:REFLECTANCE_OFFSET = 0.0983075
/* IMAGE OBJECT DEFINITIONS */
OBJECT = IMAGE
  INTERCHANGE_FORMAT = BINARY
  LINES = 9696
  LINE_SAMPLES = 2373
  SAMPLE_TYPE = UNSIGNED_INTEGER
  SAMPLE_BITS = 8
  BANDS = 1
  BAND_STORAGE_TYPE = BAND_SEQUENTIAL
  MAXIMUM = 255
  MEAN = 112.997
  MINIMUM = 1
  STANDARD_DEVIATION = 45.0321
END_OBJECT = IMAGE
/* MAP OBJECT DEFINITIONS */
OBJECT = IMAGE_MAP_PROJECTION
  ^DATA_SET_MAP_PROJECTION_CATALOG= "DSMAP.CAT"
  A_AXIS_RADIUS = 3396.0
  B_AXIS_RADIUS = 3396.0
  C_AXIS_RADIUS = 3396.0
  CENTER_LATITUDE = 0.0
  CENTER_LONGITUDE = 70.0
  COORDINATE_SYSTEM_NAME = PLANETOGRAPHIC
  COORDINATE_SYSTEM_TYPE = "BODY-FIXED ROTATING"
  EASTERNMOST_LONGITUDE = 71.1478
  FIRST_STANDARD_PARALLEL = "N/A"
  LINE_FIRST_PIXEL = 1
  LINE_LAST_PIXEL = 9696
  LINE_PROJECTION_OFFSET = 54357.625
  MAP_PROJECTION_ROTATION = 0.0
  MAP_PROJECTION_TYPE = SINUSOIDAL
  MAP_RESOLUTION = 1185.42760773333
  MAP_SCALE = 0.05
  MAXIMUM_LATITUDE = 45.8203
  MINIMUM_LATITUDE = 37.6629
  POSITIVE_LONGITUDE_DIRECTION = EAST
  REFERENCE_LATITUDE = "N/A"
  REFERENCE_LONGITUDE = "N/A"
  SAMPLE_FIRST_PIXEL = 1
  SAMPLE_LAST_PIXEL = 2373
  SAMPLE_PROJECTION_OFFSET = 1350.625
  SECOND_STANDARD_PARALLEL = "N/A"
  WESTERNMOST_LONGITUDE = 68.48480000000001
END_OBJECT = IMAGE_MAP_PROJECTION
/* The JPEG2000 image data file associated with this label. */
OBJECT = COMPRESSED_FILE
  FILE_NAME = "HF931_0000_RE3.JP2"
  RECORD_TYPE = UNDEFINED
  FILE_RECORDS = UNK
  ENCODING_TYPE = "JP2"
  INTERCHANGE_FORMAT = BINARY
  UNCOMPRESSED_FILE_NAME = "HF931_0000_RE3.IMG"
  REQUIRED_STORAGE_BYTES = "23027592"
  ^DESCRIPTION = "JP2INFO.TXT"
END_OBJECT = COMPRESSED_FILE
END
