PDS_VERSION_ID = PDS3
/* FILE DATA ELEMENTS */
RECORD_TYPE = STREAM
/* POINTERS TO DATA OBJECTS */
^COMPRESSED_FILE = "HF938_0000_P13.JP2"
/* IDENTIFICATION DATA ELEMENTS */
DATA_SET_ID = "MEX-M-HRSC-5-REFDR-MAPPROJECTED-V3.0"
DATA_SET_NAME = "MARS EXPRESS HRSC MAP PROJECTED REFDR V3.0"
DETECTOR_ID = MEX_HRSC_P1
EVENT_TYPE = "MARS-REGIONAL-MAPPING-Te-Im-Fl"
INSTRUMENT_HOST_ID = MEX
INSTRUMENT_HOST_NAME = "MARS EXPRESS"
INSTRUMENT_ID = HRSC
INSTRUMENT_NAME = "HIGH RESOLUTION STEREO CAMERA"
MISSION_NAME = "MARS EXPRESS"
MISSION_PHASE_NAME = ME_Phase_35
PROCESSING_LEVEL_ID = 3
PRODUCT_CREATION_TIME = 2017-06-29T11:20:52.000Z
PRODUCT_ID = "HF938_0000_P13.JP2"
RELEASE_ID = 0135
REVISION_ID = 0000
/* QUALITY DATA ELEMENTS */
DATA_QUALITY_ID = 1
DATA_QUALITY_DESC = "Data calculated based on original SPICE kernels"
/* TIME DATA ELEMENTS */
SPACECRAFT_CLOCK_START_COUNT = "1/0417937868.08244"
SPACECRAFT_CLOCK_STOP_COUNT = "1/0417938120.55896"
START_TIME = 2016-07-30T05:51:27.984Z
STOP_TIME = 2016-07-30T05:54:13.468Z
/* ORBITAL DATA ELEMENTS */
ASCENDING_NODE_LONGITUDE = 274.47
MAXIMUM_RESOLUTION = 32.3
FOOTPRINT_POINT_LATITUDE = (60.1502,60.1622,60.1684,60.1729, 60.1758,60.1771,59.9014,59.6945,59.3842 ,59.0738,58.8669,58.6601,58.4525, 58.2453,58.0387,57.7287,57.5218,57.2114 ,57.0045,56.7975,56.5908,56.3841, 56.1771,55.8669,55.66,55.4536,55.2456, 55.0333,54.8211,54.5031,54.1851,53.9731 ,53.655,53.4428,53.2312,53.0176,52.8003 ,52.4743,52.1485,51.8231,51.606,51.3892 ,51.1708,50.9485,50.615,50.2821,50.0601 ,49.8383,49.4517,49.4463,49.4397, 49.4334,49.4244,49.4133,49.3989,49.6199 ,49.9534,50.1758,50.398,50.6206,50.8433 ,51.0661,51.2863,51.5037,51.7211, 51.9385,52.1562,52.3741,52.5922,52.8097 ,53.1336,53.4522,53.7709,53.9835, 54.1961,54.5149,54.8339,55.0467,55.2592 ,55.4665,55.7775,55.9848,56.1921, 56.3995,56.7105,56.918,57.1256,57.3331, 57.5404,57.748,58.0593,58.2668,58.4743, 58.7856,58.9931,59.3042,59.5119,59.7195 ,59.927,60.1502)
FOOTPRINT_POINT_LONGITUDE = (75.2768,74.6313,74.1914,73.759,73.334, 72.9157,72.5978,72.6164,72.6433,72.6695 ,72.6863,72.7026,72.7194,72.7353, 72.7503,72.7721,72.7865,72.8074,72.821, 72.8342,72.8469,72.8593,72.8717,72.8893 ,72.9009,72.9116,72.9225,72.9333, 72.9438,72.9587,72.973,72.9824,72.9959, 73.0047,73.0128,73.021,73.029,73.0406, 73.0516,73.0618,73.0685,73.0748,73.0808 ,73.0868,73.0956,73.1034,73.1085, 73.1133,73.2117,73.5814,73.9558,74.2407 ,74.601,74.9913,75.437,75.5957,75.5945, 75.5938,75.5936,75.5928,75.592,75.5909, 75.5901,75.589,75.5882,75.5872,75.5858, 75.584,75.582,75.5812,75.58,75.5778, 75.5754,75.5737,75.5718,75.5695,75.5668 ,75.5649,75.563,75.5607,75.5573,75.5552 ,75.5529,75.5507,75.5473,75.5445, 75.5416,75.5388,75.5367,75.5334,75.529, 75.526,75.523,75.5181,75.5151,75.5104, 75.5065,75.5028,75.4991,75.2768)
ORBIT_NUMBER = 15938
ORBITAL_ECCENTRICITY = 0.572
ORBITAL_INCLINATION = 86.96
ORBITAL_SEMIMAJOR_AXIS = 8778.31
PERIAPSIS_ALTITUDE = 381.53
PERIAPSIS_ARGUMENT_ANGLE = 112.14
PERIAPSIS_TIME = 2016-07-30T05:49:52.000Z
SPACECRAFT_ORIENTATION = (0.0,-1.0,0.0)
^MEX_ORIENTATION_DESC = "MEX_ORIENTATION_DESC.TXT"
SPACECRAFT_POINTING_MODE = ACROSSTRACK
^MEX_POINTING_DESC = "MEX_POINTING_DESC.TXT"
RIGHT_ASCENSION = -1e+32
DECLINATION = -1e+32
OFFSET_ANGLE = 1.4
SPACECRAFT_SOLAR_DISTANCE = 2.14843e+08
TARGET_NAME = MARS
/* CAMERA DATA ELEMENTS */
DETECTOR_TEMPERATURE = 18.1666
FOCAL_PLANE_TEMPERATURE = 10.2145
INST_CMPRS_NAME = "DISCRETE COSINE TRANSFORMATION (DCT)"
INST_CMPRS_RATIO = 11.6177
INST_CMPRS_QUALITY = 0
INST_CMPRS_QUANTZ_TBL_ID = 0
INSTRUMENT_TEMPERATURE = 12.4574
LENS_TEMPERATURE = 10.4184
MACROPIXEL_SIZE = 2
MISSING_FRAMES = 0
PIXEL_SUBSAMPLING_FLAG = N
SIGNAL_CHAIN_ID = 3
/* RADIOMETRIC DATA ELEMENTS */
BANDWIDTH = 174.0
CENTER_FILTER_WAVELENGTH = 675.0
RADIANCE_OFFSET = 3.20908
RADIANCE_SCALING_FACTOR = 0.0104065
REFLECTANCE_SCALING_FACTOR = 0.000258363
MEX:REFLECTANCE_OFFSET = 0.079672
/* IMAGE OBJECT DEFINITIONS */
OBJECT = IMAGE
  INTERCHANGE_FORMAT = BINARY
  LINES = 25366
  LINE_SAMPLES = 4383
  SAMPLE_TYPE = UNSIGNED_INTEGER
  SAMPLE_BITS = 8
  BANDS = 1
  BAND_STORAGE_TYPE = BAND_SEQUENTIAL
  MAXIMUM = 255
  MEAN = 99.755
  MINIMUM = 1
  STANDARD_DEVIATION = 30.6342
END_OBJECT = IMAGE
/* MAP OBJECT DEFINITIONS */
OBJECT = IMAGE_MAP_PROJECTION
  ^DATA_SET_MAP_PROJECTION_CATALOG= "DSMAP.CAT"
  A_AXIS_RADIUS = 3396.0
  B_AXIS_RADIUS = 3396.0
  C_AXIS_RADIUS = 3396.0
  CENTER_LATITUDE = 0.0
  CENTER_LONGITUDE = 74.0
  COORDINATE_SYSTEM_NAME = PLANETOGRAPHIC
  COORDINATE_SYSTEM_TYPE = "BODY-FIXED ROTATING"
  EASTERNMOST_LONGITUDE = 75.59569999999999
  FIRST_STANDARD_PARALLEL = "N/A"
  LINE_FIRST_PIXEL = 1
  LINE_LAST_PIXEL = 25366
  LINE_PROJECTION_OFFSET = 142543.25
  MAP_PROJECTION_ROTATION = 0.0
  MAP_PROJECTION_TYPE = SINUSOIDAL
  MAP_RESOLUTION = 2370.85521546667
  MAP_SCALE = 0.025
  MAXIMUM_LATITUDE = 60.1771
  MINIMUM_LATITUDE = 49.3989
  POSITIVE_LONGITUDE_DIRECTION = EAST
  REFERENCE_LATITUDE = "N/A"
  REFERENCE_LONGITUDE = "N/A"
  SAMPLE_FIRST_PIXEL = 1
  SAMPLE_LAST_PIXEL = 4383
  SAMPLE_PROJECTION_OFFSET = 1797.75
  SECOND_STANDARD_PARALLEL = "N/A"
  WESTERNMOST_LONGITUDE = 72.59780000000001
END_OBJECT = IMAGE_MAP_PROJECTION
/* The JPEG2000 image data file associated with this label. */
OBJECT = COMPRESSED_FILE
  FILE_NAME = "HF938_0000_P13.JP2"
  RECORD_TYPE = UNDEFINED
  FILE_RECORDS = UNK
  ENCODING_TYPE = "JP2"
  INTERCHANGE_FORMAT = BINARY
  UNCOMPRESSED_FILE_NAME = "HF938_0000_P13.IMG"
  REQUIRED_STORAGE_BYTES = "111205476"
  ^DESCRIPTION = "JP2INFO.TXT"
END_OBJECT = COMPRESSED_FILE
END
