PDS_VERSION_ID = PDS3
/* FILE DATA ELEMENTS */
RECORD_TYPE = STREAM
/* POINTERS TO DATA OBJECTS */
^COMPRESSED_FILE = "HF938_0000_S13.JP2"
/* IDENTIFICATION DATA ELEMENTS */
DATA_SET_ID = "MEX-M-HRSC-5-REFDR-MAPPROJECTED-V3.0"
DATA_SET_NAME = "MARS EXPRESS HRSC MAP PROJECTED REFDR V3.0"
DETECTOR_ID = MEX_HRSC_S1
EVENT_TYPE = "MARS-REGIONAL-MAPPING-Te-Im-Fl"
INSTRUMENT_HOST_ID = MEX
INSTRUMENT_HOST_NAME = "MARS EXPRESS"
INSTRUMENT_ID = HRSC
INSTRUMENT_NAME = "HIGH RESOLUTION STEREO CAMERA"
MISSION_NAME = "MARS EXPRESS"
MISSION_PHASE_NAME = ME_Phase_35
PROCESSING_LEVEL_ID = 3
PRODUCT_CREATION_TIME = 2017-06-29T11:20:52.000Z
PRODUCT_ID = "HF938_0000_S13.JP2"
RELEASE_ID = 0135
REVISION_ID = 0000
/* QUALITY DATA ELEMENTS */
DATA_QUALITY_ID = 1
DATA_QUALITY_DESC = "Data calculated based on original SPICE kernels"
/* TIME DATA ELEMENTS */
SPACECRAFT_CLOCK_START_COUNT = "1/0417937868.08244"
SPACECRAFT_CLOCK_STOP_COUNT = "1/0417938120.55896"
START_TIME = 2016-07-30T05:51:15.860Z
STOP_TIME = 2016-07-30T05:53:59.753Z
/* ORBITAL DATA ELEMENTS */
ASCENDING_NODE_LONGITUDE = 274.47
MAXIMUM_RESOLUTION = 33.2
FOOTPRINT_POINT_LATITUDE = (60.156,60.1775,60.19,60.2007,60.2095, 60.2166,60.222,60.0116,59.8039,59.5962, 59.3885,59.1806,58.8689,58.6611,58.4521 ,58.2438,58.0361,57.7247,57.5165, 57.2042,56.9958,56.6835,56.3713,56.1626 ,55.9544,55.7457,55.5379,55.3293,55.121 ,54.9125,54.6001,54.3891,54.1754, 53.8542,53.6402,53.3189,52.9982,52.677, 52.4629,52.1388,51.9195,51.6999,51.4804 ,51.1514,50.9319,50.7124,50.4932, 50.2708,50.0457,49.8209,49.4668,49.4556 ,49.4403,49.425,49.4048,49.3893,49.3689 ,49.5943,49.9325,50.1579,50.3806, 50.6004,50.9303,51.1503,51.4801,51.7, 51.92,52.2481,52.4632,52.785,52.9991, 53.2131,53.4277,53.7496,53.9643,54.179, 54.3932,54.6022,54.8111,55.1245,55.3335 ,55.6469,56.0648,56.2736,56.4826, 56.6912,56.9002,57.1092,57.3179,57.5267 ,57.7354,58.0486,58.3614,58.6742, 58.9869,59.2994,59.5079,59.7164,59.9246 ,60.156)
FOOTPRINT_POINT_LONGITUDE = (75.2905,74.645,74.2051,73.7724,73.3474 ,72.9287,72.5166,72.6069,72.626,72.6445 ,72.6626,72.6804,72.706,72.7226,72.7397 ,72.7558,72.771,72.793,72.8076,72.8288, 72.8427,72.8626,72.8815,72.8942,72.9061 ,72.9181,72.9291,72.9403,72.9511, 72.9617,72.9769,72.9868,72.9964,73.0106 ,73.0197,73.033,73.0453,73.0573,73.065, 73.0762,73.0832,73.0902,73.0969,73.1063 ,73.1124,73.1183,73.1238,73.1293, 73.1346,73.1396,73.2369,73.6032,74.0448 ,74.4229,74.8795,75.1968,75.6013, 75.6007,75.5998,75.5992,75.5993,75.5986 ,75.5975,75.5968,75.5958,75.595,75.5942 ,75.5925,75.5906,75.5888,75.5882, 75.5879,75.5865,75.5844,75.5828,75.5812 ,75.5802,75.5786,75.577,75.5746,75.5727 ,75.5698,75.5658,75.5638,75.5614, 75.5597,75.5571,75.5544,75.5522,75.5497 ,75.547,75.5428,75.5388,75.5346,75.5302 ,75.5259,75.5223,75.5188,75.5154, 75.2905)
ORBIT_NUMBER = 15938
ORBITAL_ECCENTRICITY = 0.572
ORBITAL_INCLINATION = 86.96
ORBITAL_SEMIMAJOR_AXIS = 8778.31
PERIAPSIS_ALTITUDE = 381.53
PERIAPSIS_ARGUMENT_ANGLE = 112.14
PERIAPSIS_TIME = 2016-07-30T05:49:52.000Z
SPACECRAFT_ORIENTATION = (0.0,-1.0,0.0)
^MEX_ORIENTATION_DESC = "MEX_ORIENTATION_DESC.TXT"
SPACECRAFT_POINTING_MODE = ACROSSTRACK
^MEX_POINTING_DESC = "MEX_POINTING_DESC.TXT"
RIGHT_ASCENSION = -1e+32
DECLINATION = -1e+32
OFFSET_ANGLE = 1.4
SPACECRAFT_SOLAR_DISTANCE = 2.14843e+08
TARGET_NAME = MARS
/* CAMERA DATA ELEMENTS */
DETECTOR_TEMPERATURE = 18.1666
FOCAL_PLANE_TEMPERATURE = 10.2145
INST_CMPRS_NAME = "DISCRETE COSINE TRANSFORMATION (DCT)"
INST_CMPRS_RATIO = 12.3268
INST_CMPRS_QUALITY = 0
INST_CMPRS_QUANTZ_TBL_ID = 0
INSTRUMENT_TEMPERATURE = 12.4574
LENS_TEMPERATURE = 10.4184
MACROPIXEL_SIZE = 2
MISSING_FRAMES = 0
PIXEL_SUBSAMPLING_FLAG = N
SIGNAL_CHAIN_ID = 1
/* RADIOMETRIC DATA ELEMENTS */
BANDWIDTH = 180.0
CENTER_FILTER_WAVELENGTH = 677.0
RADIANCE_OFFSET = 3.57915
RADIANCE_SCALING_FACTOR = 0.0105985
REFLECTANCE_SCALING_FACTOR = 0.000255227
MEX:REFLECTANCE_OFFSET = 0.0861909
/* IMAGE OBJECT DEFINITIONS */
OBJECT = IMAGE
  INTERCHANGE_FORMAT = BINARY
  LINES = 25366
  LINE_SAMPLES = 4383
  SAMPLE_TYPE = UNSIGNED_INTEGER
  SAMPLE_BITS = 8
  BANDS = 1
  BAND_STORAGE_TYPE = BAND_SEQUENTIAL
  MAXIMUM = 255
  MEAN = 104.205
  MINIMUM = 1
  STANDARD_DEVIATION = 32.4409
END_OBJECT = IMAGE
/* MAP OBJECT DEFINITIONS */
OBJECT = IMAGE_MAP_PROJECTION
  ^DATA_SET_MAP_PROJECTION_CATALOG= "DSMAP.CAT"
  A_AXIS_RADIUS = 3396.0
  B_AXIS_RADIUS = 3396.0
  C_AXIS_RADIUS = 3396.0
  CENTER_LATITUDE = 0.0
  CENTER_LONGITUDE = 74.0
  COORDINATE_SYSTEM_NAME = PLANETOGRAPHIC
  COORDINATE_SYSTEM_TYPE = "BODY-FIXED ROTATING"
  EASTERNMOST_LONGITUDE = 75.60129999999999
  FIRST_STANDARD_PARALLEL = "N/A"
  LINE_FIRST_PIXEL = 1
  LINE_LAST_PIXEL = 25366
  LINE_PROJECTION_OFFSET = 142543.25
  MAP_PROJECTION_ROTATION = 0.0
  MAP_PROJECTION_TYPE = SINUSOIDAL
  MAP_RESOLUTION = 2370.85521546667
  MAP_SCALE = 0.025
  MAXIMUM_LATITUDE = 60.222
  MINIMUM_LATITUDE = 49.3689
  POSITIVE_LONGITUDE_DIRECTION = EAST
  REFERENCE_LATITUDE = "N/A"
  REFERENCE_LONGITUDE = "N/A"
  SAMPLE_FIRST_PIXEL = 1
  SAMPLE_LAST_PIXEL = 4383
  SAMPLE_PROJECTION_OFFSET = 1797.75
  SECOND_STANDARD_PARALLEL = "N/A"
  WESTERNMOST_LONGITUDE = 72.5166
END_OBJECT = IMAGE_MAP_PROJECTION
/* The JPEG2000 image data file associated with this label. */
OBJECT = COMPRESSED_FILE
  FILE_NAME = "HF938_0000_S13.JP2"
  RECORD_TYPE = UNDEFINED
  FILE_RECORDS = UNK
  ENCODING_TYPE = "JP2"
  INTERCHANGE_FORMAT = BINARY
  UNCOMPRESSED_FILE_NAME = "HF938_0000_S13.IMG"
  REQUIRED_STORAGE_BYTES = "111205476"
  ^DESCRIPTION = "JP2INFO.TXT"
END_OBJECT = COMPRESSED_FILE
END
