PDS_VERSION_ID = PDS3
/* FILE DATA ELEMENTS */
RECORD_TYPE = STREAM
/* POINTERS TO DATA OBJECTS */
^COMPRESSED_FILE = "HF939_0000_ND3.JP2"
/* IDENTIFICATION DATA ELEMENTS */
DATA_SET_ID = "MEX-M-HRSC-5-REFDR-MAPPROJECTED-V3.0"
DATA_SET_NAME = "MARS EXPRESS HRSC MAP PROJECTED REFDR V3.0"
DETECTOR_ID = MEX_HRSC_NADIR
EVENT_TYPE = "MARS-REGIONAL-MAPPING-Pf"
INSTRUMENT_HOST_ID = MEX
INSTRUMENT_HOST_NAME = "MARS EXPRESS"
INSTRUMENT_ID = HRSC
INSTRUMENT_NAME = "HIGH RESOLUTION STEREO CAMERA"
MISSION_NAME = "MARS EXPRESS"
MISSION_PHASE_NAME = ME_Phase_35
PROCESSING_LEVEL_ID = 3
PRODUCT_CREATION_TIME = 2017-06-29T11:20:52.000Z
PRODUCT_ID = "HF939_0000_ND3.JP2"
RELEASE_ID = 0135
REVISION_ID = 0000
/* QUALITY DATA ELEMENTS */
DATA_QUALITY_ID = 1
DATA_QUALITY_DESC = "Data calculated based on original SPICE kernels"
/* TIME DATA ELEMENTS */
SPACECRAFT_CLOCK_START_COUNT = "1/0417963110.09037"
SPACECRAFT_CLOCK_STOP_COUNT = "1/0417963314.42005"
START_TIME = 2016-07-30T12:52:34.627Z
STOP_TIME = 2016-07-30T12:54:34.613Z
/* ORBITAL DATA ELEMENTS */
ASCENDING_NODE_LONGITUDE = 274.46
MAXIMUM_RESOLUTION = 16.5
FOOTPRINT_POINT_LATITUDE = (56.339,56.3308,56.3214,56.3109,56.2991 ,56.2904,56.065,55.7791,55.4935,55.2017 ,55.0552,54.9088,54.7625,54.6161, 54.4699,54.3237,54.1776,53.8855,53.5937 ,53.4447,53.2951,53.1456,52.9962, 52.8468,52.6975,52.5483,52.3991,52.2501 ,52.1011,51.9521,51.7236,51.5711, 51.4186,51.2662,51.1139,50.9617,50.8096 ,50.6576,50.5056,50.2729,50.1174,49.962 ,49.8067,49.6514,49.4963,49.3412, 49.1863,48.9495,48.791,48.7986,48.8088, 48.8165,48.8241,48.8277,48.8322,49.0716 ,49.2296,49.385,49.5405,49.6961,49.8518 ,50.0076,50.1635,50.3195,50.5529, 50.7053,50.8578,51.0104,51.1631,51.3159 ,51.4687,51.6217,51.7747,52.004,52.1533 ,52.3028,52.4523,52.602,52.7517,52.9015 ,53.0513,53.2012,53.3512,53.5013, 53.6507,53.7971,53.9435,54.09,54.2366, 54.3832,54.5299,54.6766,54.8234,54.9703 ,55.1172,55.2642,55.557,55.8437,56.1305 ,56.339)
FOOTPRINT_POINT_LONGITUDE = (331.086,330.687,330.291,329.898, 329.507,329.24,328.895,328.923,328.95, 328.978,328.991,329.004,329.017,329.03, 329.042,329.055,329.067,329.091,329.114 ,329.125,329.136,329.148,329.159, 329.169,329.18,329.19,329.201,329.211, 329.221,329.23,329.245,329.254,329.264, 329.273,329.282,329.291,329.299,329.308 ,329.316,329.329,329.337,329.345, 329.353,329.361,329.368,329.375,329.383 ,329.393,329.4,329.782,330.214,330.6, 331.061,331.33,331.771,331.849,331.843, 331.837,331.831,331.825,331.82,331.814, 331.807,331.801,331.791,331.785,331.778 ,331.772,331.766,331.759,331.753, 331.746,331.739,331.729,331.721,331.714 ,331.707,331.701,331.694,331.686, 331.679,331.671,331.664,331.657,331.649 ,331.641,331.634,331.626,331.618,331.61 ,331.602,331.594,331.586,331.577, 331.569,331.561,331.544,331.526,331.509 ,331.086)
ORBIT_NUMBER = 15939
ORBITAL_ECCENTRICITY = 0.571
ORBITAL_INCLINATION = 86.96
ORBITAL_SEMIMAJOR_AXIS = 8774.13
PERIAPSIS_ALTITUDE = 382.36
PERIAPSIS_ARGUMENT_ANGLE = 111.97
PERIAPSIS_TIME = 2016-07-30T12:49:33.000Z
SPACECRAFT_ORIENTATION = (0.0,-1.0,0.0)
^MEX_ORIENTATION_DESC = "MEX_ORIENTATION_DESC.TXT"
SPACECRAFT_POINTING_MODE = ACROSSTRACK
^MEX_POINTING_DESC = "MEX_POINTING_DESC.TXT"
RIGHT_ASCENSION = -1e+32
DECLINATION = -1e+32
OFFSET_ANGLE = 0.5
SPACECRAFT_SOLAR_DISTANCE = 2.14795e+08
TARGET_NAME = MARS
/* CAMERA DATA ELEMENTS */
DETECTOR_TEMPERATURE = 18.5744
FOCAL_PLANE_TEMPERATURE = 9.6028
INST_CMPRS_NAME = "DISCRETE COSINE TRANSFORMATION (DCT)"
INST_CMPRS_RATIO = 6.89272
INST_CMPRS_QUALITY = 0
INST_CMPRS_QUANTZ_TBL_ID = 0
INSTRUMENT_TEMPERATURE = 10.4184
LENS_TEMPERATURE = 10.2145
MACROPIXEL_SIZE = 1
MISSING_FRAMES = 0
PIXEL_SUBSAMPLING_FLAG = N
SIGNAL_CHAIN_ID = 0
/* RADIOMETRIC DATA ELEMENTS */
BANDWIDTH = 177.0
CENTER_FILTER_WAVELENGTH = 677.5
RADIANCE_OFFSET = 3.03357
RADIANCE_SCALING_FACTOR = 0.00447862
REFLECTANCE_SCALING_FACTOR = 0.000109768
MEX:REFLECTANCE_OFFSET = 0.0743507
/* IMAGE OBJECT DEFINITIONS */
OBJECT = IMAGE
  INTERCHANGE_FORMAT = BINARY
  LINES = 35836
  LINE_SAMPLES = 8772
  SAMPLE_TYPE = UNSIGNED_INTEGER
  SAMPLE_BITS = 8
  BANDS = 1
  BAND_STORAGE_TYPE = BAND_SEQUENTIAL
  MAXIMUM = 255
  MEAN = 136.819
  MINIMUM = 1
  STANDARD_DEVIATION = 26.2986
END_OBJECT = IMAGE
/* MAP OBJECT DEFINITIONS */
OBJECT = IMAGE_MAP_PROJECTION
  ^DATA_SET_MAP_PROJECTION_CATALOG= "DSMAP.CAT"
  A_AXIS_RADIUS = 3396.0
  B_AXIS_RADIUS = 3396.0
  C_AXIS_RADIUS = 3396.0
  CENTER_LATITUDE = 0.0
  CENTER_LONGITUDE = 330.0
  COORDINATE_SYSTEM_NAME = PLANETOGRAPHIC
  COORDINATE_SYSTEM_TYPE = "BODY-FIXED ROTATING"
  EASTERNMOST_LONGITUDE = 331.849
  FIRST_STANDARD_PARALLEL = "N/A"
  LINE_FIRST_PIXEL = 1
  LINE_LAST_PIXEL = 35836
  LINE_PROJECTION_OFFSET = 267168.0
  MAP_PROJECTION_ROTATION = 0.0
  MAP_PROJECTION_TYPE = SINUSOIDAL
  MAP_RESOLUTION = 4741.71043093333
  MAP_SCALE = 0.0125
  MAXIMUM_LATITUDE = 56.339
  MINIMUM_LATITUDE = 48.791
  POSITIVE_LONGITUDE_DIRECTION = EAST
  REFERENCE_LATITUDE = "N/A"
  REFERENCE_LONGITUDE = "N/A"
  SAMPLE_FIRST_PIXEL = 1
  SAMPLE_LAST_PIXEL = 8772
  SAMPLE_PROJECTION_OFFSET = 2931.0
  SECOND_STANDARD_PARALLEL = "N/A"
  WESTERNMOST_LONGITUDE = 328.895
END_OBJECT = IMAGE_MAP_PROJECTION
/* The JPEG2000 image data file associated with this label. */
OBJECT = COMPRESSED_FILE
  FILE_NAME = "HF939_0000_ND3.JP2"
  RECORD_TYPE = UNDEFINED
  FILE_RECORDS = UNK
  ENCODING_TYPE = "JP2"
  INTERCHANGE_FORMAT = BINARY
  UNCOMPRESSED_FILE_NAME = "HF939_0000_ND3.IMG"
  REQUIRED_STORAGE_BYTES = "314388480"
  ^DESCRIPTION = "JP2INFO.TXT"
END_OBJECT = COMPRESSED_FILE
END
